Workbook

Sheet Főösszesítő
A5: TERVEZŐI KÖLTSÉGVETÉS
A6: 8983 Nagylengyel, Bányász utca 21. Hrsz 311
A7: Óvoda átalakítás, bővítés és mini bölcsőde kialakítás
F11: Anyag | G11: Díj
A13: Homlokzati szigetelés | F13: ='Homlokzat szigetelés'!H35 -> 0 | G13: ='Homlokzat szigetelés'!I35 -> 0
A14: Játszóelemek | F14: =Játszóelemek!H15 -> 0 | G14: =Játszóelemek!I15 -> 0
A15: Játszóudvar | F15: =Játszóudvar!H33 -> 0 | G15: =Játszóudvar!I33 -> 0
A16: Óvoda belső | F16: ='Óvoda belső'!H106 -> 0 | G16: ='Óvoda belső'!I106 -> 0
A17: Óvoda bővítés | F17: ='Óvoda bővítés'!H153 -> 0 | G17: ='Óvoda bővítés'!I153 -> 0
A18: Óvoda tetőtér | F18: ='Óvoda tetőtér'!H108 -> 0 | G18: ='Óvoda tetőtér'!I108 -> 0
A19: Parkoló | F19: =Parkoló!H41 -> 0 | G19: =Parkoló!I41 -> 0
A20: Akadálymentesítés | F20: =Akadálymentes!H19 -> 0 | G20: =Akadálymentes!I19 -> 0
A21: Fűtés | F21: 0 | G21: =Fűtés!G41 -> 0
A22: Vízellátás és csatornázás | F22: 0 | G22: ='Vízellátás-csatornázás'!G61 -> 0
A23: Villamos 1 | F23: ='Villamos 1'!H6 -> 0 | G23: ='Villamos 1'!I6 -> 0
A24: Villamos 2 | F24: ='Villamos 2'!H10 -> 0 | G24: ='Villamos 2'!I10 -> 0
A25: Villamos 3 | F25: ='Villamos 3'!H107 -> 0 | G25: ='Villamos 3'!I107 -> 0
A26: Napelem | F26: 0 | G26: =Napelem!G10 -> 0
A27: Napkollektor | F27: 0 | G27: =Napkollektor!G5 -> 0
D28: Összesen: | F28: =SUM(F13:F27) -> 0 | G28: =SUM(G13:G27) -> 0
D29: Anyag + Díj össz: | F29: =SUM(F28:G28) -> 0
D30: ÁFA 27 % | F30: =ROUND(F29*0.27,0) -> 0
D31: Mindösszesen: | F31: =SUM(F29:G30) -> 0
A35: Zalaegerszeg, 2017. szeptember 18.
F40: Pásti Gábor
F41: építész

Sheet Homlokzat szigetelés
A1: Költségvetés kiírás
A2: Nagylengyel, Bölcsőde és Óvoda felújítás, bővítés
A3: Homlokzat szigetelés
A5: Sorszám | B5: Tételszám | C5: Tétel megnevezése | D5: Mennyiség | F5: Anyag e. | G5: Díj e. | H5: Anyag ö. | I5: Díj ö.
A6: 15. | B6: Zsaluzás és állványozás
A7: 1. | B7: ÉNGY kód: 15-012-0012602 Kód: 15-012-021.1-0023003 Verzió: 2017-2 | C7: Könnyű állványszerkezetek Homlokzati keretállványok, fém keretvázból, szintenkénti pallóterítéssel,korláttal, lábdeszkával, 0,75-1,20 m padlószélességgel, munkapadlótávolság 2,50 m, 2,00 kN/m2 terhelhetőséggel, állványépítés MSZ ésalkalmazástechnikai kézikönyv szerint, 6,00 m munkapadló magasságig KRAUSE Stabilo homlokzati keretállvány 0,75 m padlószélességgel, 6,00 m munkapadló magasságig | D7: 397.82 | E7: m2 | H7: =ROUND(D7*F7,0) -> 0 | I7: =ROUND(D7*G7,0) -> 0
A8: 2. | B8: ÉNGY kód: 15-012-0012684 Kód: 15-012-023.1-0023683 Verzió: 2017-2 | C8: Könnyű állványszerkezetek Védőtető készítése, homlokzati keretállványra KRAUSE védőtető készítése homlokzati keretállványra | D8: 4 | E8: m2 | H8: =ROUND(D8*F8,0) -> 0 | I8: =ROUND(D8*G8,0) -> 0
A9: 3. | B9: ÉNGY kód: 15-012-0012776 Kód: 15-012-025.1 Verzió: 2017-2 | C9: Könnyű állványszerkezetek Védőfüggöny szerelése állványszerkezetre, műanyag hálóból | D9: 397.82 | E9: m2 | H9: =ROUND(D9*F9,0) -> 0 | I9: =ROUND(D9*G9,0) -> 0
C10: Munkanem összesen | H10: =SUM(H7:H9) -> 0 | I10: =SUM(I7:I9) -> 0
A11: 36. | B11: Vakolás és rabicolás
A12: 1. | B12: ÉNGY kód: 36-002-0112194 Kód: 36-002-004-0415917 Verzió: 2017-2 | C12: Előkészítő munkák, alapozók, előfröcskölők, gúzrétegek, külső-belső vakolatokhoz Vékonyvakolat alapozók felhordása, kézi erővel Baumit Univerzális alapozó Cikkszám: 960125, vakolt felületre | D12: 342.49 | E12: m2 | H12: =ROUND(D12*F12,0) -> 0 | I12: =ROUND(D12*G12,0) -> 0
A13: 2. | B13: ÉNGY kód: 36-005-0120246 Kód: 36-005-021.2.4.2-0415260 Verzió: 2017-2 | C13: Homlokzatvakolatok, előkevert gyári habarcsból Vékonyvakolatok, színvakolatok felhordása alapozott, előkészített felületre, vödrös kiszerelésű anyagból, szilikát vékonyvakolat készítése, egy rétegben, 1,5-2,5 mm-es szemcsemérettel Baumit SilikatTop (Baumit Szilikát) vakolat, kapart 1,5 mm, fehér, Cikkszám: 255331 | D13: 342.49 | E13: m2 | H13: =ROUND(D13*F13,0) -> 0 | I13: =ROUND(D13*G13,0) -> 0
A14: 3. | B14: ÉNGY kód: 36-007-0123293 Kód: 36-007-009.2-0415421 Verzió: 2017-2 | C14: Lábazati vakolatok Lábazati vakolatok; díszítő és lábazati műgyantás kötőanyagú vakolatréteg felhordása,kézi erővel, vödrös kiszerelésű anyagból Baumit MosaikTop (Baumit Mozaik) vakolat 2 mm-es szemcseméret, 24 féle szín, Cikkszám: 255201 | D14: 36.93 | E14: m2 | H14: =ROUND(D14*F14,0) -> 0 | I14: =ROUND(D14*G14,0) -> 0
A15: 4. | B15: ÉNGY kód: 36-051-2395924 Kód: 36-051-006.2.1-0149065 Verzió: 2017-2 | C15: Vakolóprofil rendszerek Kültéri vakolóprofilok elhelyezése, utólagos (táblás) hőszigetelő rendszerhez (EPS), polisztirol,PVC,alumínium,rozsdam.acél,horg.acél,üvegszövet, 30 - 160 mm hőszigeteléshez,pozitív sarkokra MASTERPLAST Thermomaster PVC élvédő 10+15 cm üvegszövet hálóval, Cikkszám: 0107-10150000 | D15: 157.6 | E15: m | H15: =ROUND(D15*F15,0) -> 0 | I15: =ROUND(D15*G15,0) -> 0
A16: 5. | B16: ÉNGY kód: 36-051-1674792 Kód: 36-051-006.2.3-0192509 Verzió: 2017-2 | C16: Vakolóprofil rendszerek Kültéri vakolóprofilok elhelyezése, utólagos (táblás) hőszigetelő rendszerhez (EPS), rozsdamentes acélból, alumíniumból,30 - 160 mm hőszigeteléshez,lábazati indító profilok egyenes falakhoz THERMOMASTER UL, kültéri lábazati indító profil egyenes falhoz 150 mm utólagos hőszigeteléshez, alumínium, Cikkszám: 0110-0L120000 | D16: 79.86 | E16: m | H16: =ROUND(D16*F16,0) -> 0 | I16: =ROUND(D16*G16,0) -> 0
A17: 6. | B17: ÉNGY kód: 36-090-0130013 Kód: 36-090-001.2.1-0550080 Verzió: 2017-2 | C17: Javítási és pótlási munkák Vakolatjavítás homlokzaton, a meglazult, sérült vakolat előzetesleverésével, durva, sima kivitelben, hiánypótlás 5% alatt Hvh5-mc, kültéri, vakoló cementes mészhabarcs mészpéppel | D17: 8 | E17: m2 | H17: =ROUND(D17*F17,0) -> 0 | I17: =ROUND(D17*G17,0) -> 0
C18: Munkanem összesen | H18: =SUM(H12:H17) -> 0 | I18: =SUM(I12:I17) -> 0
A19: 43. | B19: Bádogozás
A20: 1. | B20: ÉNGY kód: 43-000-0330790 Kód: 43-000-007 Verzió: 2017-2 | C20: Bontási munkák Szegélyek, párkány könyöklő bontása,100 cm kiterített szélességig | D20: 19.55 | E20: m | H20: =ROUND(D20*F20,0) -> 0 | I20: =ROUND(D20*G20,0) -> 0
A21: 2. | B21: ÉNGY kód: 43-003-0345883 Kód: 43-003-008.2.1-0993246 Verzió: 2017-2 | C21: Szegélyek és hajlatok Ablak- vagy szemöldökpárkány színes műanyagbevonatú horganyzott acéllemezből, 50 cm kiterített szélességig LINDAB Seamline FOP szegély tűzihorganyzott acél + Classic bevonat, standard színben, 0,5 mm vtg., kiterített szélesség: 201-250 mm | D21: 24.65 | E21: m | H21: =ROUND(D21*F21,0) -> 0 | I21: =ROUND(D21*G21,0) -> 0
C22: Munkanem összesen | H22: =SUM(H20:H21) -> 0 | I22: =SUM(I20:I21) -> 0
A23: 48. | B23: Szigetelés
A24: 1. | B24: ÉNGY kód: 48-010-2635254 Kód: 48-010-001.1.2.2-0414620 Verzió: 2017-2 | C24: Homlokzati hőszigetelőrendszerek Homlokzati hőszigetelés, üvegszövetháló-erősítéssel,(mechanikai rögzítés, felületi zárás valamint kiegészítő profilok külön tételben szerepelnek), egyenes él-képzésű, normál homlokzati EPS hőszigetelő lapokkal, ragasztóporból képzett ragasztóba, tagolt sík, függőleges falon LB-Knauf polisztirol hőszigetelő lemez 15 cm, Csz: K00831650 | D24: 301.21 | E24: m2 | H24: =ROUND(D24*F24,0) -> 0 | I24: =ROUND(D24*G24,0) -> 0
A25: 2. | B25: ÉNGY kód: 48-010-3963561 Kód: 48-010-001.3.1.2-0420308 Verzió: 2017-2 | C25: Homlokzati hőszigetelőrendszerek Homlokzati hőszigetelés, üvegszövetháló-erősítéssel,(mechanikai rögzítés, felületi zárás valamint kiegészítő profilok külön tételben szerepelnek), egyenes él-képzésű, érdesített XPS hőszigetelő lapokkal, ragasztóporból képzett ragasztóba, tagolt sík, függőleges falon Thermo-Dam Zentyss XPS zártcellás extrudált lábazati polisztirol 300 kPa, egyenes élképzés, nápolyis felület, 1250x600x150 mm, Cikkszám: ZXPS120EN | D25: 70.76 | E25: m2 | H25: =ROUND(D25*F25,0) -> 0 | I25: =ROUND(D25*G25,0) -> 0
A26: 3. | B26: ÉNGY kód: 48-010-3963520 Kód: 48-010-001.3.1.2-0420304 Verzió: 2017-2 | C26: Homlokzati hőszigetelőrendszerek Homlokzati hőszigetelés, üvegszövetháló-erősítéssel,(mechanikai rögzítés, felületi zárás valamint kiegészítő profilok külön tételben szerepelnek), egyenes él-képzésű, érdesített XPS hőszigetelő lapokkal, ragasztóporból képzett ragasztóba, tagolt sík, függőleges falon Thermo-Dam Zentyss XPS zártcellás extrudált lábazati polisztirol 300 kPa, egyenes élképzés, nápolyis felület, 1250x600x50 mm, Cikkszám: ZXPS50EN - KÁVA | D26: 41.28 | E26: m2 | H26: =ROUND(D26*F26,0) -> 0 | I26: =ROUND(D26*G26,0) -> 0
A27: 4. | B27: ÉNGY kód: 48-021-3301493 Kód: 48-021-001.51.2.3.1 Verzió: 2017-2 | C27: Szigetelések rögzítése Szigetelések rögzítése; Hőszigetelő táblák pontszerű mechanikai rögzítése, homlokzaton, vázkerámia vagy pórusbeton aljzatszerkezethez, fém beütődübelekkel | D27: 2232 | E27: db | H27: =ROUND(D27*F27,0) -> 0 | I27: =ROUND(D27*G27,0) -> 0
A28: 5. | B28: ÉNGY kód: 48-021-4099911 Kód: 48-021-001.63.2.1-0391231 Verzió: 2017-2 | C28: Szigetelések rögzítése Szigetelések rögzítése; Hőszigetelő és hangelnyelő táblák ragasztásos rögzítése, homlokzaton, cementbázisú ragasztóanyaggal Baumit StarContact ragasztótapasz, Cikkszám: 156101 | D28: 413.25 | E28: m2 | H28: =ROUND(D28*F28,0) -> 0 | I28: =ROUND(D28*G28,0) -> 0
A29: 6. | B29: K-tétel | C29: Utólagos falszigetelés 50cm acéllemezzel | D29: 73 | E29: m | H29: =ROUND(D29*F29,0) -> 0 | I29: =ROUND(D29*G29,0) -> 0
C30: Munkanem összesen | H30: =SUM(H24:H29) -> 0 | I30: =SUM(I24:I29) -> 0
A31: 49. | B31: Árnyékolástechnika
A32: 1. | B32: K-tétel | C32: Kitekerhető napellenző telepítése játszóterasz fölé, előirányzottan 4,30x3,00m szélességben, manuális mozgatással | D32: 0 | E32: db | F32: elmarad
C33: Munkanem összesen | H33: =SUM(H32) -> 0 | I33: =SUM(I32) -> 0
A35: Homlokzatszigetelés összesen: | H35: =H10+H18+H22+H30+H33 -> 0 | I35: =I10+I18+I22+I30+I33 -> 0

Sheet Játszóelemek
A1: Költségvetés kiírás
A2: Nagylengyel, Bölcsőde és Óvoda felújítás, bővítés
A3: Játszóelemek
A5: Sorszám | B5: Tételszám | C5: Tétel megnevezése | D5: Mennyiség | F5: Anyag e. | G5: Díj e. | H5: Anyag ö. | I5: Díj ö.
A6: 92. | B6: Szabadidő és sport létesítmények
A7: 1. | B7: K-tétel (óvoda) | C7: Hatfunkciós mászótorony telepítése 223*223cm méretben (termékkód: 30032), telepítési és bevizsgálási munkákkal együtt | D7: 1 | E7: db | H7: =ROUND(D7*F7,0) -> 0 | I7: =ROUND(D7*G7,0) -> 0
A8: 2. | B8: K-tétel (óvoda) | C8: Plútó lépegető telepítése 250*20cm méretben (termékkód: 98516), telepítési és bevizsgálási munkákkal együtt | D8: 1 | E8: db | H8: =ROUND(D8*F8,0) -> 0 | I8: =ROUND(D8*G8,0) -> 0
A9: 3. | B9: K-tétel (óvoda) | C9: Forgóhinta közepes telepítése (termékkód: 30084), telepítési és bevizsgálási munkákkal együtt | D9: 1 | E9: db | H9: =ROUND(D9*F9,0) -> 0 | I9: =ROUND(D9*G9,0) -> 0
A10: 4. | B10: K-tétel (mini bölcsőde) | C10: Homokozó telepítése 300*300cm méretben (termékkód: 30002), telepítési és bevizsgálási munkákkal együtt | D10: 1 | E10: db | H10: =ROUND(D10*F10,0) -> 0 | I10: =ROUND(D10*G10,0) -> 0
A11: 5. | B11: K-tétel (mini bölcsőde) | C11: Mászóka telepítése 125*135cm méretben (termékkód: KM2-04), telepítési és bevizsgálási munkákkal együtt | D11: 1 | E11: db | H11: =ROUND(D11*F11,0) -> 0 | I11: =ROUND(D11*G11,0) -> 0
A12: 6. | B12: K-tétel (mini bölcsőde) | C12: Rugós mérleghinta telepítése telepítési és bevizsgálási munkákkal együtt | D12: 1 | E12: db | H12: =ROUND(D12*F12,0) -> 0 | I12: =ROUND(D12*G12,0) -> 0
C13: Munkanem összesen | H13: =SUM(H7:H12) -> 0 | I13: =SUM(I7:I12) -> 0
A15: Játszóelemek összesen: | H15: =H13 -> 0 | I15: =I13 -> 0

Sheet Játszóudvar
A1: Költségvetés kiírás
A2: Nagylengyel, Bölcsőde és Óvoda felújítás, bővítés
A3: Játszóudvar kialakítása
A5: Sorszám | B5: Tételszám | C5: Tétel megnevezése | D5: Mennyiség | F5: Anyag e. | G5: Díj e. | H5: Anyag ö. | I5: Díj ö.
A6: 15. | B6: Zsaluzás és állványozás
A7: 1. | B7: ÉNGY kód: 15-004-0011603 Kód: 15-004-003 Verzió: 2017-2 | C7: Téráthidaló szerkezetek zsaluzása Síklemez zsaluzása, fa zsaluzattal,keskeny sávban 15 cm szélességig | D7: 2.11 | E7: m2 | H7: =ROUND(D7*F7,0) -> 0 | I7: =ROUND(D7*G7,0) -> 0
C8: Munkanem összesen | H8: =SUM(H7) -> 0 | I8: =SUM(I7) -> 0
A9: 21. | B9: Irtás, föld- és sziklamunka
A10: 1. | B10: ÉNGY kód: 21-002-0014456 Kód: 21-002-001.1 Verzió: 2017-2 | C10: Előkészítő földmunka Humuszos termőréteg, termőföld leszedése,terítése gépi erővel, 18%-os terephajlásig,bármilyen talajban, szállítással, 50,0 m-ig | D10: 47.4 | E10: m3 | H10: =ROUND(D10*F10,0) -> 0 | I10: =ROUND(D10*G10,0) -> 0
A11: 2. | B11: ÉNGY kód: 21-003-0014705 Kód: 21-003-005.1.1.1 Verzió: 2017-2 | C11: Munkagödör és munkaárok készítése Munkaárok földkiemelése közművesített területen,kézi erővel, bármely konzisztenciájú talajban, dúcolás nélkül, 2,0 m2 szelvényig, I-II. talajosztály | D11: 7.37 | E11: m3 | H11: =ROUND(D11*F11,0) -> 0 | I11: =ROUND(D11*G11,0) -> 0
A12: 3. | B12: ÉNGY kód: 21-004-0015675 Kód: 21-004-005.1.2.1 Verzió: 2017-2 | C12: Alakító földmunka Tükörkészítés tömörítés nélkül, sík felületen kézi erővel talajosztály: V-VI. | D12: 54.3 | E12: m2 | H12: =ROUND(D12*F12,0) -> 0 | I12: =ROUND(D12*G12,0) -> 0
A13: 4. | B13: ÉNGY kód: 21-008-0016246 Kód: 21-008-002.2.3 Verzió: 2017-2 | C13: Tömörítés Tömörítés bármely tömörítési osztálybangépi erővel, kis felületen, tömörségi fok: 95% | D13: 4.82 | E13: m3 | H13: =ROUND(D13*F13,0) -> 0 | I13: =ROUND(D13*G13,0) -> 0
A14: 5. | B14: ÉNGY kód: 21-011-0016423 Kód: 21-011-002.1.1 Verzió: 2017-2 | C14: Kiegészítő tevékenységek Fejtett föld tolása és elteregetése, I-IV. osztályú talajban, 20,0 m távolságig | D14: 54.77 | E14: m3 | H14: =ROUND(D14*F14,0) -> 0 | I14: =ROUND(D14*G14,0) -> 0
A15: 6. | B15: ÉNGY kód: 21-011-4019315 Kód: 21-011-007.2-0120802 Verzió: 2017-2 | C15: Kiegészítő tevékenységek Feltöltések alap- és lábazati falak közéés alagsori vagy alá nem pincézett földszintipadozatok alá, az anyag szétterítésével,mozgatásával, kézi döngöléssel, osztályozatlan kavicsból Nyers homokos bányakavics, NHK 0/32 P-TT, Jánossomorja | D15: 4.82 | E15: m3 | H15: =ROUND(D15*F15,0) -> 0 | I15: =ROUND(D15*G15,0) -> 0
C16: Munkanem összesen | H16: =SUM(H10:H15) -> 0 | I16: =SUM(I10:I15) -> 0
A17: 23. | B17: Síkalapozás
A18: 1. | B18: ÉNGY kód: 23-003-0024243 Kód: 23-003-002-0222210 Verzió: 2017-2 | C18: Beton- és vasbetonalapok Vasbeton sáv-, talp- lemezalap készítéseszivattyús technológiával,.....minőségű betonból C16/20 - X0v(H) képlékeny kavicsbeton keverék CEM 32,5 pc. D?max = 16 mm, m = 6,6 finomsági modulussal | D18: 7.37 | E18: m3 | H18: =ROUND(D18*F18,0) -> 0 | I18: =ROUND(D18*G18,0) -> 0
C19: Munkanem összesen | H19: =SUM(H18) -> 0 | I19: =SUM(I18) -> 0
A20: 31. | B20: Helyszíni beton és vasbeton munkák
A21: 1. | B21: ÉNGY kód: 31-001-0035172 Kód: 31-001-002-0452004 Verzió: 2017-2 | C21: Betonacél-szerelés Hegesztett betonacél háló szerelése tartószerkezetbe FERALPI Sp8K1515 építési síkháló; 5,00 x 2,15 m; 150 x 150 mm osztással {átmérő} 8,00 / 8,00 BHB55.50 | D21: 0.218 | E21: t | H21: =ROUND(D21*F21,0) -> 0 | I21: =ROUND(D21*G21,0) -> 0
A22: 2. | B22: ÉNGY kód: 31-021-0051854 Kód: 31-021-004.1.1-0230110 Verzió: 2017-2 | C22: Téráthidaló szerkezetek készítése Sík vagy alulbordás vasbeton lemez készítése, 15°-os hajlásszögig,X0v(H), XC1, XC2, XC3 környezeti osztályú,kissé képlékeny vagy képlékeny konzisztenciájú betonból, kézi erővel, vibrátoros tömörítéssel, 12 cm vastagságig C20/25 - X0v(H) kissé képlékeny kavicsbeton keverék CEM 52,5 pc. D?max = 16 mm, m = 6,3 finomsági modulussal | D22: 5.43 | E22: m3 | H22: =ROUND(D22*F22,0) -> 0 | I22: =ROUND(D22*G22,0) -> 0
A23: 3. | B23: ÉNGY kód: 31-051-1672722 Kód: 31-051-009.1.2-0314362 Verzió: 2017-2 | C23: Egyéb beton és vasbeton szerkezetek Friss betonfelület vegyszeres utókezelése kézi felhordással, utókezelőszer vízszintes betonfelületekhez MUREXIN BA 2 kipárolgásgátló | D23: 54.28 | E23: m2 | H23: =ROUND(D23*F23,0) -> 0 | I23: =ROUND(D23*G23,0) -> 0
C24: Munkanem összesen | H24: =SUM(H21:H23) -> 0 | I24: =SUM(I21:I23) -> 0
A25: 33. | B25: Falazás és egyéb kőműves munkák
A26: 1. | B26: ÉNGY kód: 33-001-0090932 Kód: 33-001-001.3.4.4.1.1-0010408 Verzió: 2017-2 | C26: Teherhordó és kitöltő falazatok Teherhordó és kitöltő falazat készítése, beton, könnyűbeton falazóblokk vagy zsaluzóelem termékekből, 300 mm falvastagságban, 300x500x230 mm-es méretű beton zsaluzóelemből, kitöltő betonnal, betonacél beépítéssel Leier ZS 30-as zsaluzóelem, 300/500/230 mm,C16/20-16/kissé képlékeny kavicsbeton, B 60.40:12 mmátmérőjű betonacél | D26: 15.34 | E26: m2 | H26: =ROUND(D26*F26,0) -> 0 | I26: =ROUND(D26*G26,0) -> 0
C27: Munkanem összesen | H27: =SUM(H26) -> 0 | I27: =SUM(I26) -> 0
A28: 92. | B28: Szabadidő és sport létesítmények
A29: 1. | B29: ÉNGY kód: 92-021-2243405 Kód: 92-021-002.1.2.1-0311534 Verzió: 2017-2 | C29: Sportpálya burkolatok Sportpálya burkolat kialakítása, rugalmas térburkoló gumilap fektetése beton aljzatra, 100×100 cm-es méretben JÁTSZÓPARK SPORT rugalmas térburkoló gumilap, 100×100×2 cm méret, vörös, Cikkszám: JPS-20 | D29: 54.28 | E29: m2 | H29: =ROUND(D29*F29,0) -> 0 | I29: =ROUND(D29*G29,0) -> 0
A30: 2. | B30: ÉNGY kód: 92-021-2243584 Kód: 92-021-002.1.5.1-0311552 Verzió: 2017-2 | C30: Sportpálya burkolatok Sportpálya burkolat kialakítása, rugalmas térburkoló gumilap gumiszegély elhelyezése betonágyazatba, 100×25×4 cm-es méretben JÁTSZÓPARK GUMISZEGÉLY gumilapok szegélyezésére, 100×25×4 cm, vörös, Cikkszám: JPSZ | D30: 21.05 | E30: m | H30: =ROUND(D30*F30,0) -> 0 | I30: =ROUND(D30*G30,0) -> 0
C31: Munkanem összesen | H31: =SUM(H29:H30) -> 0 | I31: =SUM(I29:I30) -> 0
A33: Játszóudvar összesen: | H33: =H8+H16+H19+H24+H27+H31 -> 0 | I33: =I8+I16+I19+I24+I27+I31 -> 0

Sheet Óvoda belső
A1: Költségvetés kiírás
A2: Nagylengyel, Bölcsőde és Óvoda felújítás, bővítés
A3: Belső felújítás
A5: Sorszám | B5: Tételszám | C5: Tétel megnevezése | D5: Mennyiség | F5: Anyag e. | G5: Díj e. | H5: Anyag ö. | I5: Díj ö.
A6: 21. | B6: Irtás, föld- és sziklamunka
A7: 1. | B7: ÉNGY kód: 21-011-0016762 Kód: 21-011-011.3 Verzió: 2017-2 | C7: Kiegészítő tevékenységek Építési törmelék konténeres elszállítása, lerakása,lerakóhelyi díjjal, 5,0 m3-es konténerbe | D7: 2 | E7: db | H7: =ROUND(D7*F7,0) -> 0 | I7: =ROUND(D7*G7,0) -> 0
A8: 2. | B8: ÉNGY kód: 21-011-0016825 Kód: 21-011-012 Verzió: 2017-2 | C8: Kiegészítő tevékenységek Munkahelyi depóniából építési törmelék konténerbe rakása, kézi erővel, önálló munka esetén elszámolva,konténer szállítás nélkül | D8: 10 | E8: m3 | H8: =ROUND(D8*F8,0) -> 0 | I8: =ROUND(D8*G8,0) -> 0
C9: Munkanem összesen | H9: =SUM(H7:H8) -> 0 | I9: =SUM(I7:I8) -> 0
A10: 31. | B10: Helyszíni beton és vasbeton munkák
A11: 1. | B11: ÉNGY kód: 31-000-0034810 Kód: 31-000-013.2 Verzió: 2017-2 | C11: Bontási munkák Beton aljzatok, járdák bontása 10 cm vastagságig, kavicsbetonból, salakbetonból | D11: 30.71 | E11: m2 | H11: =ROUND(D11*F11,0) -> 0 | I11: =ROUND(D11*G11,0) -> 0
A12: 2. | B12: ÉNGY kód: 31-031-0063305 Kód: 31-031-002.1.1 Verzió: 2017-2 | C12: Aljzat készítése helyszínen kevert esztrichből Úsztatott vagy fűtési esztrich készítése,helyszínen kevert, cementbázisú esztrichből, C12 szilárdsági osztálynak megfelelően 6 cm vastagságban | D12: 30.71 | E12: m2 | H12: =ROUND(D12*F12,0) -> 0 | I12: =ROUND(D12*G12,0) -> 0
C13: Munkanem összesen | H13: =SUM(H11:H12) -> 0 | I13: =SUM(I11:I12) -> 0
A14: 32. | B14: Előregyártott épületszerkezeti elem elhelyezése és szerelése
A15: 1. | B15: ÉNGY kód: 32-002-0071201 Kód: 32-002-001.1.1-0112053 Verzió: 2017-2 | C15: Előregyártott nyílásáthidalók, kiváltók elhelyezése tartószerkezetre Előregyártott azonnal terhelhető nyílásáthidaló elhelyezése (válaszfal áthidalók is), tartószerkezetre, csomóponti kötés nélkül,falazat szélességű áthidaló elemekből vagy több elem egymás mellé sorolásával, a teherhordó falváll előkészítésével,kiegészítő hőszigetelés elhelyezése nélkül, 0,10 t/db tömegig, égetett agyag-kerámia köpenyes nyílásáthidaló LEIER MDA nyílásáthidaló 6,5×12 cm, égetett kerámia köpenyelemmel, 125 cm, Cikkszám: HUTMD3088 | D15: 4 | E15: db | H15: =ROUND(D15*F15,0) -> 0 | I15: =ROUND(D15*G15,0) -> 0
A16: 2. | B16: ÉNGY kód: 32-002-3277386 Kód: 32-002-001.1.1-0112063 Verzió: 2017-2 | C16: Előregyártott nyílásáthidalók, kiváltók elhelyezése tartószerkezetre Előregyártott azonnal terhelhető nyílásáthidaló elhelyezése (válaszfal áthidalók is), tartószerkezetre, csomóponti kötés nélkül,falazat szélességű áthidaló elemekből vagy több elem egymás mellé sorolásával, a teherhordó falváll előkészítésével,kiegészítő hőszigetelés elhelyezése nélkül, 0,10 t/db tömegig, égetett agyag-kerámia köpenyes nyílásáthidaló LEIER MDE 125 áthidaló 23,8x8 cm méretben égetett kerámia köpenyelemmel, 125 cm, Cikkszám: HUTMD5029 | D16: 15 | E16: db | H16: =ROUND(D16*F16,0) -> 0 | I16: =ROUND(D16*G16,0) -> 0
C17: Munkanem összesen | H17: =SUM(H15:H16) -> 0 | I17: =SUM(I15:I16) -> 0
A18: 33. | B18: Falazás és egyéb kőműves munkák
A19: 1. | B19: ÉNGY kód: 33-000-0087382 Kód: 33-000-021.1.1.1.1.1 Verzió: 2017-2 | C19: Bontási munkák Válaszfal bontása, égetett agyag-kerámia termékekből, erősítő pillérrel vagy erősítő pillér nélkül falazva, kisméretű, mészhomok, magasított vagy nagyméretű téglából, 15 cm vastagságig, falazó, cementes mészhabarcsból falazva | D19: 11 | E19: m2 | H19: =ROUND(D19*F19,0) -> 0 | I19: =ROUND(D19*G19,0) -> 0
A20: 2. | B20: ÉNGY kód: 33-000-0087491 Kód: 33-000-031.1.1 Verzió: 2017-2 | C20: Bontási munkák Nyílásbontás, égetett-agyag kerámia teherhordó, tömör téglafalban | D20: 2.05 | E20: m3 | H20: =ROUND(D20*F20,0) -> 0 | I20: =ROUND(D20*G20,0) -> 0
A21: 3. | B21: ÉNGY kód: 33-000-0087554 Kód: 33-000-032.1 Verzió: 2017-2 | C21: Bontási munkák Nyílásbontás, bármilyen égetett kerámia válaszfalban, 12 cm vastagságig | D21: 4.31 | E21: m2 | H21: =ROUND(D21*F21,0) -> 0 | I21: =ROUND(D21*G21,0) -> 0
A22: 4. | B22: ÉNGY kód: 33-011-2390970 Kód: 33-011-001.1.2.1.2.1.1-0132202 Verzió: 2017-2 | C22: Válaszfalak Válaszfal építése, égetett agyag-kerámia termékekből, nútféderes elemekből, 100 mm falvastagságban, 500x238x100 mm-es méretű válaszfallapból, falazó, cementes mészhabarcsba falazva BAKONYTHERM 10/50 N+F válaszfal, 500x238×100 mm, Cikkszám: TÉG10M 1 (Hf10-mc) falazó, cementes mészhabarcs | D22: 3.81 | E22: m2 | H22: =ROUND(D22*F22,0) -> 0 | I22: =ROUND(D22*G22,0) -> 0
A23: 5. | B23: ÉNGY kód: 33-063-0095090 Kód: 33-063-021.1.1 Verzió: 2017-2 | C23: Fal-födémáttörés, horony- és fészekvésés helyreállítás nélkül Fészekvésés, téglafalban, 0,015 m3-ig | D23: 21 | E23: db | H23: =ROUND(D23*F23,0) -> 0 | I23: =ROUND(D23*G23,0) -> 0
A24: 6. | B24: ÉNGY kód: 33-091-0095491 Kód: 33-091-001.1.1-2110002 Verzió: 2017-2 | C24: Javítások, pótlások Teherhordó és kitöltő falazat,égetett agyag-kerámia termékekből,nyílásbefalazás, nyílásszűkítés vagy kisebb falpótlások, 250 mm és ennél vastagabb falban csorbázatvéséssel, nyílásbefalazás, nyílásszűkítés vagy kisebb falpótlások, Kisméretű tömör tégla 250x120x65 mm I.o.M 1 (Hf10-mc) falazó, cementes mészhabarcs | D24: 0.4925 | E24: m3 | H24: =ROUND(D24*F24,0) -> 0 | I24: =ROUND(D24*G24,0) -> 0
A25: 7. | B25: ÉNGY kód: 33-091-0095501 Kód: 33-091-002.1.1-1110002 Verzió: 2017-2 | C25: Javítások, pótlások Teherhordó és kitöltő falazat,égetett agyag-kerámia termékekből,tokok körülfalazása bontott nyílásban, 250 mm vastag falban, 1 tégla vastag falban Kisméretű tömör tégla 250x120x65 mm I.o.Hf5-mc, falazó, cementes mészhabarcs | D25: 6.3 | E25: m | H25: =ROUND(D25*F25,0) -> 0 | I25: =ROUND(D25*G25,0) -> 0
A26: 8. | B26: ÉNGY kód: 33-091-0095852 Kód: 33-091-011.3.1-1130101 Verzió: 2017-2 | C26: Javítások, pótlások Válaszfal,égetett agyag-kerámia termékekből,erősítő pillérrel vagy erősítő pillér nélkül falazva,nyílásbefalazás, nyílásszűkítés vagy kisebb falpótlások, 10 cm vastagsággal, válaszfallapból falazó, cementes mészhabarcsból falazva Válaszfaltégla 400x200x100 mm I.o.Hf5-mc, falazó, cementes mészhabarcs | D26: 1.995 | E26: m2 | H26: =ROUND(D26*F26,0) -> 0 | I26: =ROUND(D26*G26,0) -> 0
A27: 9. | B27: ÉNGY kód: 33-091-0095915 Kód: 33-091-012.2.1-1130101 Verzió: 2017-2 | C27: Javítások, pótlások Válaszfal,égetett agyag-kerámia termékekből,pillérrel vagy erősítő pillér nélkül falazva,tokok körülfalazása bontott nyílásban, 10 cm vastagsággal, válaszfallapból, falazó, meszes cementhabarcsból falazva Válaszfaltégla 400x200x100 mm I.o.Hf5-mc, falazó, cementes mészhabarcs | D27: 14 | E27: m | H27: =ROUND(D27*F27,0) -> 0 | I27: =ROUND(D27*G27,0) -> 0
C28: Munkanem összesen | H28: =SUM(H19:H27) -> 0 | I28: =SUM(I19:I27) -> 0
A29: 34. | B29: Fém- és könnyű épületszerkezetek szerelése
A30: 1. | B30: ÉNGY kód: 34-001-0096382 Kód: 34-001-004.1 Verzió: 2017-2 | C30: Acél tartószerkezetek (első- és másodrendű teherhordó szerkezetek) Rácsos vagy tömör acéltartók beemeléseés elhelyezése, kiképzett felfekvésre(szerelőmunka nélküli beépítés),200 kg/db tömegig | D30: 3 | E30: db | H30: =ROUND(D30*F30,0) -> 0 | I30: =ROUND(D30*G30,0) -> 0
C31: Munkanem összesen | H31: =SUM(H30) -> 0 | I31: =SUM(I30) -> 0
A32: 35. | B32: Ácsmunka
A33: 1. | B33: K-tétel | C33: A meglévő fa áthidaló gerenda kibontása | D33: 1 | E33: db | H33: =ROUND(D33*F33,0) -> 0 | I33: =ROUND(D33*G33,0) -> 0
C34: Munkanem összesen | H34: =SUM(H33) -> 0 | I34: =SUM(I33) -> 0
A35: 36. | B35: Vakolás és rabicolás
A36: 1. | B36: ÉNGY kód: 36-001-0110776 Kód: 36-001-001.1.1-0550030 Verzió: 2017-2 | C36: Hagyományos vakolatok Sima oldalfalvakolat készítése kézi felhordással, belső, vakoló cementes mészhabarccsal, téglafelületen, 1,5 cm vastagságban Hvb4-mc, belső, vakoló cementes mészhabarccsal ésHs60-cm, felületképző (simító), meszescementhabarccsal | D36: 35.59 | E36: m2 | H36: =ROUND(D36*F36,0) -> 0 | I36: =ROUND(D36*G36,0) -> 0
A37: 2. | B37: ÉNGY kód: 36-090-0129952 Kód: 36-090-001.1.1-0550030 Verzió: 2017-2 | C37: Javítási és pótlási munkák Vakolatjavítás oldalfalon, tégla-, beton-, kőfelületen vagy építőlemezen,a meglazult, sérült vakolat előzetes leverésével, hiánypótlás 5% alatt Hvb4-mc, beltéri, vakoló, cementes mészhabarcs mészpéppel | D37: 8 | E37: m2 | H37: =ROUND(D37*F37,0) -> 0 | I37: =ROUND(D37*G37,0) -> 0
A38: 3. | B38: ÉNGY kód: 36-090-0130071 Kód: 36-090-001.3.1.1-0550030 Verzió: 2017-2 | C38: Javítási és pótlási munkák Vakolatjavítás mennyezeten, sík vasbeton téglabetétes, téglatálcás födémen, íves boltozaton vagy építőelemen a meglazult, sérült vakolat leverésével, hiánypótlás 5% alatt Hvb4-mc, beltéri, vakoló, cementes mészhabarcs mészpéppel | D38: 2 | E38: m2 | H38: =ROUND(D38*F38,0) -> 0 | I38: =ROUND(D38*G38,0) -> 0
C39: Munkanem összesen | H39: =SUM(H36:H38) -> 0 | I39: =SUM(I36:I38) -> 0
A40: 39. | B40: Szárazépítés
A41: 1. | B41: ÉNGY kód: 39-001-0157452 Kód: 39-001-023.2.3-0210211 Verzió: 2017-2 | C41: Gipszkarton válaszfal szerkezetek CW fém vázszerkezetre szerelt válaszfal 2 x 2 rtg. impregnált,12,5 mm vtg. gipszkarton borítással, hőszigeteléssel,csavarfejek és illesztések glettelve (Q2), egyszeres, sűrített, (40 vagy 41,7 cm bordatávolság) CW 100-06 mm vtg. tartóvázzal KNAUF HA 13 impregnált építőlemez, 12,5 mm HRAK 1250/2000 Cikkszám: 36307120,ásványi szálas hőszigetelés | D41: 5.832 | E41: m2 | H41: =ROUND(D41*F41,0) -> 0 | I41: =ROUND(D41*G41,0) -> 0
...

Sheet Óvoda bővítés
A1: Költségvetés kiírás
A2: Nagylengyel, Bölcsőde és Óvoda felújítás, bővítés
A3: Bővítés
A5: Sorszám | B5: Tételszám | C5: Tétel megnevezése | D5: Mennyiség | F5: Anyag e. | G5: Díj e. | H5: Anyag ö. | I5: Díj ö.
A6: 15. | B6: Zsaluzás és állványozás
A7: 1. | B7: ÉNGY kód: 15-003-0011366 Kód: 15-003-002.1.1.1.1 Verzió: 2017-2 | C7: Oszlop, pillér zsaluzás Oszlopzsaluzás, állandó keresztmetszetű, négyszögű, fa zsaluzattal, kitámasztással, 3 m magasságig, 60 cm oldalméretig | D7: 12.8 | E7: m2 | H7: =ROUND(D7*F7,0) -> 0 | I7: =ROUND(D7*G7,0) -> 0
A8: 2. | B8: ÉNGY kód: 15-004-0011712 Kód: 15-004-021.1.1.1.1.1 Verzió: 2017-2 | C8: Téráthidaló szerkezetek zsaluzása Gerendazsaluzás, 20-60 cm oldalmagasság között, fa zsaluzattal, alátámasztó állvánnyal, tagozattal vagy anélkül készítve, 3 m magasságig | D8: 11.53 | E8: m2 | H8: =ROUND(D8*F8,0) -> 0 | I8: =ROUND(D8*G8,0) -> 0
A9: 3. | B9: ÉNGY kód: 15-004-0011942 Kód: 15-004-031.1 Verzió: 2017-2 | C9: Téráthidaló szerkezetek zsaluzása Koszorúzsaluzás, zsaluzattól függetlenül, párkány nélkül | D9: 26.7 | E9: m2 | H9: =ROUND(D9*F9,0) -> 0 | I9: =ROUND(D9*G9,0) -> 0
A10: 4. | B10: ÉNGY kód: 15-004-0011603 Kód: 15-004-003 Verzió: 2017-2 | C10: Téráthidaló szerkezetek zsaluzása Síklemez zsaluzása, fa zsaluzattal,keskeny sávban 15 cm szélességig | D10: 5.7 | E10: m2 | H10: =ROUND(D10*F10,0) -> 0 | I10: =ROUND(D10*G10,0) -> 0
A11: 5. | B11: ÉNGY kód: 15-004-0011983 Kód: 15-004-051.1 Verzió: 2017-2 | C11: Téráthidaló szerkezetek zsaluzása Egyeneskarú lépcső zsaluzása,alátámasztó állvánnyal,4,00 m magasságig, a fokok és lépcsőoldalak bezsaluzásával,fa zsaluzattal | D11: 14.5 | E11: m2 | H11: =ROUND(D11*F11,0) -> 0 | I11: =ROUND(D11*G11,0) -> 0
C12: Munkanem összesen | H12: =SUM(H7:H11) -> 0 | I12: =SUM(I7:I11) -> 0
A13: 21. | B13: Irtás, föld- és sziklamunka
A14: 1. | B14: ÉNGY kód: 21-002-0014456 Kód: 21-002-001.1 Verzió: 2017-2 | C14: Előkészítő földmunka Humuszos termőréteg, termőföld leszedése,terítése gépi erővel, 18%-os terephajlásig,bármilyen talajban, szállítással, 50,0 m-ig | D14: 22 | E14: m3 | H14: =ROUND(D14*F14,0) -> 0 | I14: =ROUND(D14*G14,0) -> 0
A15: 2. | B15: ÉNGY kód: 21-003-0014705 Kód: 21-003-005.1.1.1 Verzió: 2017-2 | C15: Munkagödör és munkaárok készítése Munkaárok földkiemelése közművesített területen,kézi erővel, bármely konzisztenciájú talajban, dúcolás nélkül, 2,0 m2 szelvényig, I-II. talajosztály | D15: 67 | E15: m3 | H15: =ROUND(D15*F15,0) -> 0 | I15: =ROUND(D15*G15,0) -> 0
A16: 3. | B16: ÉNGY kód: 21-004-0015675 Kód: 21-004-005.1.2.1 Verzió: 2017-2 | C16: Alakító földmunka Tükörkészítés tömörítés nélkül, sík felületen kézi erővel talajosztály: V-VI. | D16: 86.95 | E16: m2 | H16: =ROUND(D16*F16,0) -> 0 | I16: =ROUND(D16*G16,0) -> 0
A17: 4. | B17: ÉNGY kód: 21-008-0016246 Kód: 21-008-002.2.3 Verzió: 2017-2 | C17: Tömörítés Tömörítés bármely tömörítési osztálybangépi erővel, kis felületen, tömörségi fok: 95% | D17: 13.04 | E17: m3 | H17: =ROUND(D17*F17,0) -> 0 | I17: =ROUND(D17*G17,0) -> 0
A18: 5. | B18: ÉNGY kód: 21-011-0016423 Kód: 21-011-002.1.1 Verzió: 2017-2 | C18: Kiegészítő tevékenységek Fejtett föld tolása és elteregetése, I-IV. osztályú talajban, 20,0 m távolságig | D18: 89 | E18: m3 | H18: =ROUND(D18*F18,0) -> 0 | I18: =ROUND(D18*G18,0) -> 0
A19: 6. | B19: ÉNGY kód: 21-011-4019315 Kód: 21-011-007.2-0120802 Verzió: 2017-2 | C19: Kiegészítő tevékenységek Feltöltések alap- és lábazati falak közéés alagsori vagy alá nem pincézett földszintipadozatok alá, az anyag szétterítésével,mozgatásával, kézi döngöléssel, osztályozatlan kavicsból Nyers homokos bányakavics, NHK 0/32 P-TT, Jánossomorja | D19: 27 | E19: m3 | H19: =ROUND(D19*F19,0) -> 0 | I19: =ROUND(D19*G19,0) -> 0
A20: 7. | B20: ÉNGY kód: 21-011-0016762 Kód: 21-011-011.3 Verzió: 2017-2 | C20: Kiegészítő tevékenységek Építési törmelék konténeres elszállítása, lerakása,lerakóhelyi díjjal, 5,0 m3-es konténerbe | D20: 3 | E20: db | H20: =ROUND(D20*F20,0) -> 0 | I20: =ROUND(D20*G20,0) -> 0
A21: 8. | B21: ÉNGY kód: 21-011-0016825 Kód: 21-011-012 Verzió: 2017-2 | C21: Kiegészítő tevékenységek Munkahelyi depóniából építési törmelék konténerbe rakása, kézi erővel, önálló munka esetén elszámolva,konténer szállítás nélkül | D21: 15 | E21: m3 | H21: =ROUND(D21*F21,0) -> 0 | I21: =ROUND(D21*G21,0) -> 0
C22: Munkanem összesen | H22: =SUM(H14:H21) -> 0 | I22: =SUM(I14:I21) -> 0
A23: 23. | B23: Síkalapozás
A24: 1. | B24: ÉNGY kód: 23-003-0024243 Kód: 23-003-002-0222210 Verzió: 2017-2 | C24: Beton- és vasbetonalapok Vasbeton sáv-, talp- lemezalap készítéseszivattyús technológiával,.....minőségű betonból C16/20 - X0v(H) képlékeny kavicsbeton keverék CEM 32,5 pc. D?max = 16 mm, m = 6,6 finomsági modulussal | D24: 17.83 | E24: m3 | H24: =ROUND(D24*F24,0) -> 0 | I24: =ROUND(D24*G24,0) -> 0
C25: Munkanem összesen | H25: =SUM(H24) -> 0 | I25: =SUM(I24) -> 0
A26: 31. | B26: Helyszíni beton és vasbeton munkák
A27: 1. | B27: ÉNGY kód: 31-001-1236700 Kód: 31-001-001.2.1-0220955 Verzió: 2017-2 | C27: Betonacél-szerelés Betonacél helyszíni szerelése függőleges vagy vízszintes tartószerkezetbe, bordás betonacélból, 4-10 mm átmérő között FERALPI hidegen húzott bordás betonacél, 6 m-es szálban, BHB55.50 8 mm | D27: 0.72 | E27: t | H27: =ROUND(D27*F27,0) -> 0 | I27: =ROUND(D27*G27,0) -> 0
B28: ÉNGY kód: 31-001-1236712 Kód: 31-001-001.2.1-0220956 Verzió: 2017-2 | C28: Betonacél-szerelés Betonacél helyszíni szerelése függőleges vagy vízszintes tartószerkezetbe, bordás betonacélból, 4-10 mm átmérő között FERALPI hidegen húzott bordás betonacél, 6 m-es szálban, BHB55.50 10 mm | D28: 0.112 | E28: t | H28: =ROUND(D28*F28,0) -> 0 | I28: =ROUND(D28*G28,0) -> 0
B29: ÉNGY kód: 31-001-1236891 Kód: 31-001-001.2.2-0221002 Verzió: 2017-2 | C29: Betonacél-szerelés Betonacél helyszíni szerelése függőleges vagy vízszintes tartószerkezetbe, bordás betonacélból, 12-20 mm átmérő között FERALPI bordás betonacél, 6 m-es szálban, B500B 12 mm | D29: 0.353 | E29: t | H29: =ROUND(D29*F29,0) -> 0 | I29: =ROUND(D29*G29,0) -> 0
B30: ÉNGY kód: 31-001-1236913 Kód: 31-001-001.2.2-0221004 Verzió: 2017-2 | C30: Betonacél-szerelés Betonacél helyszíni szerelése függőleges vagy vízszintes tartószerkezetbe, bordás betonacélból, 12-20 mm átmérő között FERALPI bordás betonacél, 6 m-es szálban, B500B 16 mm | D30: 0.14 | E30: t | H30: =ROUND(D30*F30,0) -> 0 | I30: =ROUND(D30*G30,0) -> 0
A31: 2. | B31: ÉNGY kód: 31-001-0035184 Kód: 31-001-002-0452005 Verzió: 2017-2 | C31: Betonacél-szerelés Hegesztett betonacél háló szerelése tartószerkezetbe FERALPI Sp10K1515 építési síkháló; 5,00 x 2,15 m; 150 x 150 mm osztással {átmérő} 10,0 / 10,0 BHB55.50 | D31: 0.842 | E31: t | H31: =ROUND(D31*F31,0) -> 0 | I31: =ROUND(D31*G31,0) -> 0
B32: ÉNGY kód: 31-001-0035143 Kód: 31-001-002-0452001 Verzió: 2017-2 | C32: Betonacél-szerelés Hegesztett betonacél háló szerelése tartószerkezetbe FERALPI Sp4K1515 építési síkháló; 5,00 x 2,15 m; 150 x 150 mm osztással {átmérő} 4,00 / 4,00 BHB55.50 | D32: 0.27 | E32: t | H32: =ROUND(D32*F32,0) -> 0 | I32: =ROUND(D32*G32,0) -> 0
A33: 3. | B33: ÉNGY kód: 31-011-0042594 Kód: 31-011-021.2.1.1-0240110 Verzió: 2017-2 | C33: Függőleges szerkezetek betonozása Oszlop, pillér készítése, vasbetonból, kör-, sokszög vagy négyzet keresztmetszettel,X0v(H), XC1, XC2, XC3, XF2, XF3, XF4,XC2-XD2-XF1, XC3-XD2-XF1 környezeti osztályú,kissé képlékeny vagy képlékeny konzisztenciájú betonból, vibrálással, kézi továbbítással C25/30 - X0v(H) kissé képlékeny kavicsbeton keverék CEM 52,5 pc. D?max = 16 mm, m = 6,5 finomsági modulussal | D33: 0.96 | E33: m3 | H33: =ROUND(D33*F33,0) -> 0 | I33: =ROUND(D33*G33,0) -> 0
A34: 4. | B34: ÉNGY kód: 31-021-0045621 Kód: 31-021-001.1.2-0240110 Verzió: 2017-2 | C34: Téráthidaló szerkezetek készítése Vasbeton gerenda készítése, X0v(H), XC1, XC2, XC3 környezeti osztályú, kissé képlékeny vagy képlékeny konzisztenciájú betonból, kézi bedolgozással, vibrátoros tömörítéssel, 401-750 cm2 keresztmetszet között C25/30 - X0v(H) kissé képlékeny kavicsbeton keverék CEM 52,5 pc. D?max = 16 mm, m = 6,5 finomsági modulussal | D34: 1.23 | E34: m3 | H34: =ROUND(D34*F34,0) -> 0 | I34: =ROUND(D34*G34,0) -> 0
A35: 5. | B35: ÉNGY kód: 31-021-0049674 Kód: 31-021-002.1.2-0240110 Verzió: 2017-2 | C35: Téráthidaló szerkezetek készítése Vasbeton koszorú készítése,X0v(H), XC1, XC2, XC3 környezeti osztályú,kissé képlékeny vagy képlékeny konzisztenciájú betonból, kézi bedolgozással, vibrátoros tömörítéssel, 400 cm2 keresztmetszet felett C25/30 - X0v(H) kissé képlékeny kavicsbeton keverék CEM 52,5 pc. D?max = 16 mm, m = 6,5 finomsági modulussal | D35: 3.7 | E35: m3 | H35: =ROUND(D35*F35,0) -> 0 | I35: =ROUND(D35*G35,0) -> 0
A36: 6. | B36: ÉNGY kód: 31-021-0051975 Kód: 31-021-004.1.1-0240110 Verzió: 2017-2 | C36: Téráthidaló szerkezetek készítése Sík vagy alulbordás vasbeton lemez készítése, 15°-os hajlásszögig,X0v(H), XC1, XC2, XC3 környezeti osztályú,kissé képlékeny vagy képlékeny konzisztenciájú betonból, kézi erővel, vibrátoros tömörítéssel, 12 cm vastagságig C25/30 - X0v(H) kissé képlékeny kavicsbeton keverék CEM 52,5 pc. D?max = 16 mm, m = 6,5 finomsági modulussal | D36: 18.66 | E36: m3 | H36: =ROUND(D36*F36,0) -> 0 | I36: =ROUND(D36*G36,0) -> 0
A37: 7. | B37: ÉNGY kód: 31-051-1672722 Kód: 31-051-009.1.2-0314362 Verzió: 2017-2 | C37: Egyéb beton és vasbeton szerkezetek Friss betonfelület vegyszeres utókezelése kézi felhordással, utókezelőszer vízszintes betonfelületekhez MUREXIN BA 2 kipárolgásgátló | D37: 93.52 | E37: m2 | H37: =ROUND(D37*F37,0) -> 0 | I37: =ROUND(D37*G37,0) -> 0
A38: 8. | B38: ÉNGY kód: 31-031-0063305 Kód: 31-031-002.1.1 Verzió: 2017-2 | C38: Aljzat készítése helyszínen kevert esztrichből Úsztatott vagy fűtési esztrich készítése,helyszínen kevert, cementbázisú esztrichből, C12 szilárdsági osztálynak megfelelően 6 cm vastagságban | D38: 85.58 | E38: m2 | H38: =ROUND(D38*F38,0) -> 0 | I38: =ROUND(D38*G38,0) -> 0
B39: ÉNGY kód: 31-021-0060426 Kód: 31-021-010.11.1.1-0250710 Verzió: 2017-2 | C39: Építőmesteri munkák Helyszíni beton és vasbeton munkák Téráthidaló szerkezetek készítése Lépcső készítése vasbetonból, X0v(H), XC1, XC2, XC3 környezeti osztályú,kissé képlékeny vagy képlékeny konzisztenciájú betonból, helyszíni keveréssel, kézi bedolgozással és vibrátoros tömörítéssel C30/37 - X0v(H) kissé képlékeny kavicsbeton keverék CEM 52,5 pc. D?max = 32 mm, m = 7,3 finomsági modulussal | D39: 1.79 | E39: m3 | H39: =ROUND(D39*F39,0) -> 0 | I39: =ROUND(D39*G39,0) -> 0
C40: Munkanem összesen | H40: =SUM(H27:H39) -> 0 | I40: =SUM(I27:I39) -> 0
A41: 32. | B41: Előregyártott épületszerkezeti elem elhelyezése és szerelése
...

Sheet Óvoda tetőtér
A1: Költségvetés kiírás
A2: Nagylengyel, Bölcsőde és Óvoda felújítás, bővítés
A3: Tetőtér kialakítása
A5: Sorszám | B5: Tételszám | C5: Tétel megnevezése | D5: Mennyiség | F5: Anyag e. | G5: Díj e. | H5: Anyag ö. | I5: Díj ö.
A6: 21. | B6: Irtás, föld- és sziklamunka
A7: 1. | B7: ÉNGY kód: 21-011-0016762 Kód: 21-011-011.3 Verzió: 2017-2 | C7: Kiegészítő tevékenységek Építési törmelék konténeres elszállítása, lerakása,lerakóhelyi díjjal, 5,0 m3-es konténerbe | D7: 6 | E7: db | H7: =ROUND(D7*F7,0) -> 0 | I7: =ROUND(D7*G7,0) -> 0
A8: 2. | B8: ÉNGY kód: 21-011-0016825 Kód: 21-011-012 Verzió: 2017-2 | C8: Kiegészítő tevékenységek Munkahelyi depóniából építési törmelék konténerbe rakása, kézi erővel, önálló munka esetén elszámolva,konténer szállítás nélkül | D8: 30 | E8: m3 | H8: =ROUND(D8*F8,0) -> 0 | I8: =ROUND(D8*G8,0) -> 0
C9: Munkanem összesen | H9: =SUM(H7:H8) -> 0 | I9: =SUM(I7:I8) -> 0
A10: 31. | B10: Helyszíni beton és vasbeton munkák
A11: 1. | B11: ÉNGY kód: 31-031-0063305 Kód: 31-031-002.1.1 Verzió: 2017-2 | C11: Aljzat készítése helyszínen kevert esztrichből Úsztatott vagy fűtési esztrich készítése,helyszínen kevert, cementbázisú esztrichből, C12 szilárdsági osztálynak megfelelően 6 cm vastagságban | D11: 49 | E11: m2 | H11: =ROUND(D11*F11,0) -> 0 | I11: =ROUND(D11*G11,0) -> 0
C12: Munkanem összesen | H12: =SUM(H11:H11) -> 0 | I12: =SUM(I11:I11) -> 0
A13: 35. | B13: Ácsmunka
A14: 1. | B14: ÉNGY kód: 35-000-0108132 Kód: 35-000-002.1 Verzió: 2017-2 | C14: Bontási munkák Tetőlécezés bontása bármely egyszeres hornyolt cserépfedés alatt | D14: 370.09 | E14: m2 | H14: =ROUND(D14*F14,0) -> 0 | I14: =ROUND(D14*G14,0) -> 0
A15: 2. | B15: ÉNGY kód: 35-000-0108161 Kód: 35-000-004 Verzió: 2017-2 | C15: Bontási munkák Tetődeszkázat bontása | D15: 0 | E15: m2 | H15: =ROUND(D15*F15,0) -> 0 | I15: =ROUND(D15*G15,0) -> 0
A16: 3. | B16: ÉNGY kód: 35-002-1534074 Kód: 35-002-004.2-0192802 Verzió: 2017-2 | C16: Tetőfólia- és alátétlemez-terítés Páraáteresztő, vízzáró alátétfólia, alátétfedés, vagy alátétszigetelés terítése 15 cm-es átfedéssel (ellenléc külön tételben számolandó) ragasztóval vagy ragasztószalaggal folytonosítva BRAMAC UNIVERSAL ECO-2S páraáteresztő tetőfólia, 140 g/m2 | D16: 370.09 | E16: m2 | H16: =ROUND(D16*F16,0) -> 0 | I16: =ROUND(D16*G16,0) -> 0
A17: 4. | B17: ÉNGY kód: 35-003-0108721 Kód: 35-003-001.1-0410024 Verzió: 2017-2 | C17: Tetőlécezések, szelemenek Tetőlécezés hornyolt cserépfedés alá Fenyő tetőléc 3-6,5 m 25x50 mm | D17: 370.09 | E17: m2 | H17: =ROUND(D17*F17,0) -> 0 | I17: =ROUND(D17*G17,0) -> 0
A18: 5. | B18: ÉNGY kód: 35-003-0108830 Kód: 35-003-001.6 Verzió: 2017-2 | C18: Tetőlécezések, szelemenek Tetőlécezés tetőfelület ellenlécezésének elkészítése | D18: 370 | E18: m | H18: =ROUND(D18*F18,0) -> 0 | I18: =ROUND(D18*G18,0) -> 0
A19: 6. | B19: ÉNGY kód: 35-004-0108960 Kód: 35-004-001.3 Verzió: 2017-2 | C19: Deszkázások Deszkázás ereszdeszkázás gyalult, hornyolt deszkával, hajópadlóval | D19: 13.922 | E19: m2 | H19: =ROUND(D19*F19,0) -> 0 | I19: =ROUND(D19*G19,0) -> 0
A20: 7. | B20: ÉNGY kód: 35-004-0108972 Kód: 35-004-001.4 Verzió: 2017-2 | C20: Deszkázások Deszkázás homlokdeszka léctagozattal, gyalulva, 30 cm szélességig | D20: 10.8 | E20: m | H20: =ROUND(D20*F20,0) -> 0 | I20: =ROUND(D20*G20,0) -> 0
A21: 8. | B21: ÉNGY kód: 35-021-1356093 Kód: 35-021-001-0251013 Verzió: 2017-2 | C21: Faanyag lángmentesítés Faanyag lángmentesítésemázolási technológiával felhordott anyaggal,egyszeri bevonat PYRONATUR faanyag rovar, gomba és tűz elleni védőszer | D21: 301.23 | E21: m2 | H21: =ROUND(D21*F21,0) -> 0 | I21: =ROUND(D21*G21,0) -> 0
A22: 9. | B22: ÉNGY kód: 35-002-2800561 Kód: 35-002-003-0192805 Verzió: 2017-2 | C22: Tetőfólia- és alátétlemez-terítés Párafékező, párazáró fólia terítése 15 cm-es átfedéssel BRAMAC Veltitech 120 párazáró tetőfólia 120 g/m2 | D22: 370.09 | E22: m2 | H22: =ROUND(D22*F22,0) -> 0 | I22: =ROUND(D22*G22,0) -> 0
A23: 10. | B23: ÉNGY kód: 35-007-0109551 Kód: 35-007-001.2-0680041 Verzió: 2017-2 Módosító tétel | C23: Fafödémek Fafödémek, borított gerendafödém24 mm-es alsó, felső deszkázással,faragott (fűrészelt) fából Fűrészelt gerenda 150x200-300x300 mm 3-6.5 m I.o. 6 és 6* rétegrendhez kapcsolódó kialakítással | D23: 75.01 | E23: m2 | H23: =ROUND(D23*F23,0) -> 0 | I23: =ROUND(D23*G23,0) -> 0
A24: 11. | B24: ÉNGY kód: 35-080-0109912 Kód: 35-080-004.2-0310010 Verzió: 2017-2 | C24: Szerkezeti részek cseréje, átalakítása Szelemen, szarufa, lécezés cseréje; szarufák Lucfenyő fűrészelt gerenda 100x150 mm-es | D24: 1 | E24: fam3 | H24: =ROUND(D24*F24,0) -> 0 | I24: =ROUND(D24*G24,0) -> 0
A25: 12. | B25: ÉNGY kód: 35-002-2666834 Kód: 35-002-003-0115002 Verzió: 2017-2 | C25: Tetőfólia- és alátétlemez-terítés Párafékező, párazáró fólia terítése 15 cm-es átfedéssel DÖRKEN DELTA REFLEX hálóerősítésű, alumínium kasírozású, polietilén lég- és párazáró, hővisszaverő fólia | D25: 301.99 | E25: m2 | H25: =ROUND(D25*F25,0) -> 0 | I25: =ROUND(D25*G25,0) -> 0
C26: Munkanem összesen | H26: =SUM(H14:H25) -> 0 | I26: =SUM(I14:I25) -> 0
A27: 37. | B27: Égéstermék elvezetés
A28: 1. | B28: ÉNGY kód: 37-000-0130754 Kód: 37-000-001.1 Verzió: 2017-2 | C28: Kémény-, füstgázrendszerek bontása Kémények bontása, épületen belül | D28: 0.96 | E28: m3 | H28: =ROUND(D28*F28,0) -> 0 | I28: =ROUND(D28*G28,0) -> 0
A29: 2. | B29: ÉNGY kód: 37-000-0130766 Kód: 37-000-001.2 Verzió: 2017-2 | C29: Kémény-, füstgázrendszerek bontása Kémények bontása, tetőn kívül | D29: 0.32 | E29: m3 | H29: =ROUND(D29*F29,0) -> 0 | I29: =ROUND(D29*G29,0) -> 0
A30: 3. | B30: K-tétel | C30: Lebontott kémény helyének javítása | D30: 2 | E30: db | H30: =ROUND(D30*F30,0) -> 0 | I30: =ROUND(D30*G30,0) -> 0
C31: Munkanem összesen | H31: =SUM(H28:H30) -> 0 | I31: =SUM(I28:I30) -> 0
A32: 39. | B32: Szárazépítés
A33: 1. | B33: ÉNGY kód: 39-001-0160053 Kód: 39-001-053.1.3-0120031 Verzió: 2017-2 | C33: Gipszkarton válaszfal szerkezetek CW fém vázszerkezetre szerelt válaszfal 2 x 2 rtg. tűzgátló,12,5 mm vtg. gipszkarton borítással, hőszigeteléssel,csavarfejek és illesztések glettelve (Q1), egyszeres, CW 100-06 mm vtg. tartóvázzal RIGIPS tűzgátló építőlemez RF 12,5 mm, ásványi szálas hőszigetelés | D33: 6.97 | E33: m2 | H33: =ROUND(D33*F33,0) -> 0 | I33: =ROUND(D33*G33,0) -> 0
A34: 2. | B34: K-tétel | C34: Mint előző tétel, de 19cm vastag szerkezet, teljes keresztmetszeti szigeteléssel | D34: 23.72 | E34: m2 | H34: =ROUND(D34*F34,0) -> 0 | I34: =ROUND(D34*G34,0) -> 0
A35: 3. | B35: K-tétel | C35: Mint előző tétel, de 19cm vastag szerkezet, teljes keresztmetszeti szigeteléssel | D35: 48.47 | E35: m2 | H35: =ROUND(D35*F35,0) -> 0 | I35: =ROUND(D35*G35,0) -> 0
A36: 4. | B36: ÉNGY kód: 39-005-1540063 Kód: 39-005-002.2.3-0120031 Verzió: 2017-2 | C36: Speciális gipszkarton szerkezetek Szabadon álló előtétfal készítése,üveggyapot szigetelőanyag kitöltéssel, 2 rtg. gipszkarton borítással, 100 mm széles profilvázra szerelve RIGIPS 2 rtg. RF 12,5 tűzgátló gipszkarton + 50 mm szigetelőanyag (11 kg/m3), Th=0,5 óra | D36: 9.51 | E36: m2 | H36: =ROUND(D36*F36,0) -> 0 | I36: =ROUND(D36*G36,0) -> 0
A37: 5. | B37: ÉNGY kód: 39-003-4166176 Kód: 39-003-006.1.7.2-0210202 Verzió: 2017-2 | C37: Gipszkarton álmennyezetek és tetőtéri belső borítások Tetőtéri borítás készítése, ferde vagy vízszintes kivitelben, szigetelés nélkül, csavarfejek és illesztések alapglettelve (Q2 minőségben), szarufákhoz rögzítve, fa lécvázra, 2 rtg. tűzgátló 12,5 mm vtg. gipszkarton lemezből KNAUF F 13 tűzgátló építőlemez, 12,5 mm HRAK 1250/2000 Cikksz: 32307120 | D37: 75.77 | E37: m2 | H37: =ROUND(D37*F37,0) -> 0 | I37: =ROUND(D37*G37,0) -> 0
C38: Munkanem összesen | H38: =SUM(H33:H37) -> 0 | I38: =SUM(I33:I37) -> 0
A39: 41. | B39: Tetőfedés
A40: 1. | B40: ÉNGY kód: 41-000-0197712 Kód: 41-000-004 Verzió: 2017-2 | C40: Bontások Cserépfedés bontása (bármely rendszerű) | D40: 370.09 | E40: m2 | H40: =ROUND(D40*F40,0) -> 0 | I40: =ROUND(D40*G40,0) -> 0
A41: 2. | B41: ÉNGY kód: 41-003-2256842 Kód: 41-003-021.1.2-0116362 Verzió: 2017-2 | C41: Égetett agyag anyagú cserépfedések Egyszeres fedés húzott, hornyolt tetőcserepekkel, rögzítés nélkül, 31-35° tetőhajlásszög között CREATON Róna egyenesvágású alapcserép natúrvörös | D41: 370.09 | E41: m2 | H41: =ROUND(D41*F41,0) -> 0 | I41: =ROUND(D41*G41,0) -> 0
...

Sheet Parkoló
A1: Költségvetés kiírás
A2: Nagylengyel, Bölcsőde és Óvoda felújítás, bővítés
A3: Parkoló és kerítés kialakítása
A5: Sorszám | B5: Tételszám | C5: Tétel megnevezése | D5: Mennyiség | F5: Anyag e. | G5: Díj e. | H5: Anyag ö. | I5: Díj ö.
A6: 21. | B6: Irtás, föld- és sziklamunka
A7: 1. | B7: ÉNGY kód: 21-002-0014456 Kód: 21-002-001.1 Verzió: 2017-2 | C7: Előkészítő földmunka Humuszos termőréteg, termőföld leszedése,terítése gépi erővel, 18%-os terephajlásig,bármilyen talajban, szállítással, 50,0 m-ig | D7: 68.41 | E7: m3 | H7: =ROUND(D7*F7,0) -> 0 | I7: =ROUND(D7*G7,0) -> 0
A8: 2. | B8: ÉNGY kód: 21-004-0015675 Kód: 21-004-005.1.2.1 Verzió: 2017-2 | C8: Alakító földmunka Tükörkészítés tömörítés nélkül, sík felületen kézi erővel talajosztály: V-VI. | D8: 207.29 | E8: m2 | H8: =ROUND(D8*F8,0) -> 0 | I8: =ROUND(D8*G8,0) -> 0
A9: 3. | B9: ÉNGY kód: 21-008-0016246 Kód: 21-008-002.2.3 Verzió: 2017-2 | C9: Tömörítés Tömörítés bármely tömörítési osztálybangépi erővel, kis felületen, tömörségi fok: 95% | D9: 41.458 | E9: m3 | H9: =ROUND(D9*F9,0) -> 0 | I9: =ROUND(D9*G9,0) -> 0
A10: 4. | B10: ÉNGY kód: 21-011-0016423 Kód: 21-011-002.1.1 Verzió: 2017-2 | C10: Kiegészítő tevékenységek Fejtett föld tolása és elteregetése, I-IV. osztályú talajban, 20,0 m távolságig | D10: 68.41 | E10: m3 | H10: =ROUND(D10*F10,0) -> 0 | I10: =ROUND(D10*G10,0) -> 0
A11: 5. | B11: ÉNGY kód: 21-003-0014550 Kód: 21-003-001.1.1.1 Verzió: 2017-2 | C11: Munkagödör és munkaárok készítése Lyukfúrás vagy kisméretű földkiemelés, oszlop,alaptest vagy lehorgonyzás részére, kézi erővel, 2 m mélységig, 0,30 m átmérőig, talajosztály: I-II. | D11: 29 | E11: m | H11: =ROUND(D11*F11,0) -> 0 | I11: =ROUND(D11*G11,0) -> 0
C12: Munkanem összesen | H12: =SUM(H7:H11) -> 0 | I12: =SUM(I7:I11) -> 0
A13: 45. | B13: Lakatosszerkezetek elhelyezése
A14: 1. | B14: ÉNGY kód: 45-003-4072305 Kód: 45-003-001.1-0111403 Verzió: 2017-2 | C14: Kapuk és portálszerkezetek elhelyezése Kerítéskapu elhelyezése egyszárnyú kivitelben STEELVENT ELŐD könnyű típusú személykapu szabad nyílás: 1,25 m-ig utólagosan tűzihorganyzott ST10/ háló 1000-1250x1000-1500 mm névleges méret, Cikkszám: 6K080304021800002 | D14: 1 | E14: db | H14: =ROUND(D14*F14,0) -> 0 | I14: =ROUND(D14*G14,0) -> 0
A15: 2. | B15: ÉNGY kód: 45-003-4073133 Kód: 45-003-001.3-0110831 Verzió: 2017-2 | C15: Kapuk és portálszerkezetek elhelyezése Kerítéskapu elhelyezése sínenfutó kivitelben, 6,00 m szabad nyílásméretig STEELVENT TAS könnyű típusú úszókapu szabad nyílás: 4,0 m-ig utólagosan tűzihorganyzott ST10/ háló 3000-4000x1500-2000 mm névleges méret | D15: 1 | E15: db | H15: =ROUND(D15*F15,0) -> 0 | I15: =ROUND(D15*G15,0) -> 0
A16: 3. | B16: ÉNGY kód: 45-004-2819354 Kód: 45-004-031.1.2-0121652 Verzió: 2017-2 | C16: Korlátok, rácsok, kerítések elhelyezése Komplett, zárt, táblás ipari kerítésrendszer rögzítése, oszlopok, valamint mezők folyamatos elhelyezésével, fúrt pontalapokra, az alaptestek kiemelésével,bebetonozásával, normál terepviszonyok mellett 1,51-2,00 m kerítés magasság között STEELVENT ST10/1N tűzihorganyzott, trapézbordás táblás kerítés, hossz: 2,4 m, függőleges szálak távolsága: 80 mm, huzalátmérő: 5 mm, magasság: 1,90 m, Cikkszám: 11010104010500078 | D16: 25.4 | E16: m | H16: =ROUND(D16*F16,0) -> 0 | I16: =ROUND(D16*G16,0) -> 0
A17: 4. | B17: ÉNGY kód: 45-004-0393232 Kód: 45-004-021.1.1-0120007 Verzió: 2017-2 | C17: Korlátok, rácsok, kerítések elhelyezése Tekercses kerítésrendszer építésnél,oszlop elhelyezése 10 %-os tereplejtésig,(az alaptestek kiemelése, betonozása vagy abeton alapzat készítése külön tételben kiírva), kerítés köz- és sarokoszlop elhelyezése, 2,00 m kerítés magasságig STEELVENT ST20/ U5EH+ univerzál típusú horganyzott oszlop, méret: {átmérő}50x1,2x2000 mm, Cikkszám: 3E2I8888888800004 | D17: 0 | E17: db | F17: elmarad
A18: 5. | B18: ÉNGY kód: 45-004-0395990 Kód: 45-004-023.2.2-0120137 Verzió: 2017-2 | C18: Korlátok, rácsok, kerítések elhelyezése Tekercses kerítés szerelése előre elhelyezett oszlopokra, hagyományos drótfonatos kerítésből,(a felerősítő elemek külön tételben kiírva), 1,51-2,00 m kerítés magasság között STEELVENT ST15/1 horganyzott kerítésfonat, huzalvastagság: 1,8 mm, szemméret: 65x65 mm, magasság: 1,80 m, Cikkszám: 351E8888888800003 | D18: 0 | E18: m | F18: elmarad
A19: 6. | B19: ÉNGY kód: 45-004-0397571 Kód: 45-004-024.1-0120364 Verzió: 2017-2 | C19: Korlátok, rácsok, kerítések elhelyezése Kiegészítők elhelyezése tekercses kerítéseknél, feszítőhuzal elhelyezése drótfonatos kerítéseknél,kerítés magasságát 50 cm-ként megosztva STEELVENT műanyagbevonatos feszítőhuzal, súly: 5 kg/100 m, huzalvastagság: 2,5/3,0 mm, Cikkszám: 310A8888888800003 | D19: 0 | E19: m | F19: elmarad
A20: 7. | B20: ÉNGY kód: 45-004-0397784 Kód: 45-004-024.2-0137401 Verzió: 2017-2 | C20: Korlátok, rácsok, kerítések elhelyezése Kiegészítők elhelyezése tekercses kerítéseknél, drótfeszítők elhelyezése, feszítőhuzallalmerevített kerítéseknél DIRICKX N2 műanyagbevonatos merevítő, szín: zöld vagy fehér | D20: 0 | E20: db | F20: elmarad
A21: 8. | B21: ÉNGY kód: 45-004-4074086 Kód: 45-004-024.6-0111953 Verzió: 2017-2 | C21: Korlátok, rácsok, kerítések elhelyezése Kiegészítők elhelyezése tekercses kerítéseknél, díszítő elemek elhelyezése STEELVENT ST21/04 záró sapka ST20/univerzál típusú oszlophoz, átmérő 40 mm, műanyag, Cikkszám: 31028888888800002 | D21: 0 | E21: db | F21: elmarad
C22: Munkanem összesen | H22: =SUM(H14:H21) -> 0 | I22: =SUM(I14:I21) -> 0
A23: 61. | B23: Útburkolatalap és makadámburkolat készítése
A24: 1. | B24: K-tétel | C24: Aszfaltburkolat bevágása "K" szegély telepítéséhez | D24: 3 | E24: m | H24: =ROUND(D24*F24,0) -> 0 | I24: =ROUND(D24*G24,0) -> 0
A25: 2. | B25: ÉNGY kód: 61-011-0676646 Kód: 61-011-003-0118004 Verzió: 2017-2 | C25: Útépítési tevékenység elemei Védő és elválasztó réteg készítése REHAU RAUMAT geotextília PP-ből, fehér, 200 g/m2, 9,0 kN/m, Cikkszám: 241838 | D25: 238.3835 | E25: m2 | H25: =ROUND(D25*F25,0) -> 0 | I25: =ROUND(D25*G25,0) -> 0
C26: Munkanem összesen | H26: =SUM(H24:H25) -> 0 | I26: =SUM(I24:I25) -> 0
A27: 62. | B27: Kőburkolatok készítése
A28: 1. | B28: ÉNGY kód: 62-002-0677495 Kód: 62-002-001.4.1-0613243 Verzió: 2017-2 | C28: Burkolatszegélyek Kiemelt szegély készítése, alapárok kiemelésével,beton alapgerendával és megtámasztással,hézagolással, előregyártott szegélykőből vagy cölöpökből, 25 cm hosszú elemekből LEIER Quartz kiemelt kopóréteges útszegélykő, szürke, 24x15/12x30 cm , Cikkszám: HUTJH4225C12/15 - XN(H) földnedves kavicsbeton keverék CEM 32,5 pc. D?max = 16 mm, m = 6,3 finomsági modulussal | D28: 67.66 | E28: m | H28: =ROUND(D28*F28,0) -> 0 | I28: =ROUND(D28*G28,0) -> 0
A29: 2. | B29: ÉNGY kód: 62-002-3633496 Kód: 62-002-002.3-0619851 Verzió: 2017-2 | C29: Burkolatszegélyek Süllyesztett szegély vagy futósor készítése,alapárok kiemeléssel, beton alapgerendával,hézagolással, 40 cm hosszú előregyártott beton szegélyelemekből Barabás süllyesztett szegély 40x20x15 cm, szürkeC12/15 - XN(H) földnedves kavicsbeton keverék CEM 32,5 pc. D?max = 16 mm, m = 6,3 finomsági modulussal | D29: 18.7 | E29: m | H29: =ROUND(D29*F29,0) -> 0 | I29: =ROUND(D29*G29,0) -> 0
A30: 3. | B30: ÉNGY kód: 62-002-0677781 Kód: 62-002-021.1-0613251 Verzió: 2017-2 | C30: Burkolatszegélyek Egyéb használatos szegélykövek, út és körforgalom szegélyek készítése, alapárok kiemelése nélkül, betonhézagolással, 25 vagy 30 cm hosszú elemekből LEIER K szegélykő, szürke, 25x15/10x25 cm , Cikkszám: HUTJS1078 | D30: 3 | E30: m | H30: =ROUND(D30*F30,0) -> 0 | I30: =ROUND(D30*G30,0) -> 0
A31: 4. | B31: ÉNGY kód: 62-003-0678986 Kód: 62-003-008.1-0613900 Verzió: 2017-2 | C31: Burkolatok Tér- vagy járdaburkolat készítése, betonburkolókőből soros, halszálka, parketta vagykazettás kötésben, homokágyazatba fektetve, 10x20x4, 10x20x5, 10x20x6, 10x20x8 cm-es méretű idomkővel LEIER Piazza 10x20x6 cm, szürke, N+F , Cikkszám: HUTJH4362 | D31: 207.29 | E31: m2 | H31: =ROUND(D31*F31,0) -> 0 | I31: =ROUND(D31*G31,0) -> 0
A32: 5. | B32: ÉNGY kód: 62-003-4111770 Kód: 62-003-006-0120804 Verzió: 2017-2 | C32: Burkolatok Térburkolathoz fagyálló, teherhordó alap készítése,20 cm vastagságban Homokos kavics, HK 0/16 P-TT, Jánossomorja | D32: 41.458 | E32: m3 | H32: =ROUND(D32*F32,0) -> 0 | I32: =ROUND(D32*G32,0) -> 0
C33: Munkanem összesen | H33: =SUM(H28:H32) -> 0 | I33: =SUM(I28:I32) -> 0
A34: 68. | B34: Útpályatartozékok építése
A35: 1. | B35: ÉNGY kód: 68-002-2338235 Kód: 68-002-001.1-0020443 Verzió: 2017-2 | C35: Közúti és vasúti jelzések Közúti jelző- és útbaigazító táblák fémanyagúoszlopainak elhelyezése betonalappal,földmunkával, I-IV. osztályú talajban, 89 mm átmérőjű alumínium oszlop, 1,5-5,5 m hosszú,előregyártott betonalappal Horganyzott tartóoszlop 89x2000 | D35: 1 | E35: db | H35: =ROUND(D35*F35,0) -> 0 | I35: =ROUND(D35*G35,0) -> 0
A36: 2. | B36: ÉNGY kód: 68-002-2338935 Kód: 68-002-002.1-0020053 Verzió: 2017-2 | C36: Közúti és vasúti jelzések Közúti jelző- és útbaigazító táblák felszerelése, útvonaltípust, elsőbbséget szabályozó, utasítástadó, tilalmi, tilalmat, veszélyt, tájékoztatástadó jelzőtáblák és útbaigazítást adó táblák,2-2 bilincskészlettel Alumínium útbaigazítást adó jelzőtábla, fényvisszaverő, 450x450 mm EG * | D36: 1 | E36: db | H36: =ROUND(D36*F36,0) -> 0 | I36: =ROUND(D36*G36,0) -> 0
A37: 3. | B37: ÉNGY kód: 68-003-2340705 Kód: 68-003-001.1.2-0020281 Verzió: 2017-2 | C37: Útburkolati jelek Útburkolati jelek készítése, hagyományos oldószeres festékkel, kézi jel Vízesbázisú festékek Plastiroute UWS * | D37: 17 | E37: m2 | H37: =ROUND(D37*F37,0) -> 0 | I37: =ROUND(D37*G37,0) -> 0
A38: 4. | B38: K-tétel | C38: Kültérben helyszínen öntött akrilith vezetősáv készítése 3 soros kialakítással, soronként 5cm szélességgel | D38: 21 | E38: m | H38: =ROUND(D38*F38,0) -> 0 | I38: =ROUND(D38*G38,0) -> 0
C39: Munkanem összesen | H39: =SUM(H35:H38) -> 0 | I39: =SUM(I35:I38) -> 0
A41: Parkoló összesen: | H41: =H12+H22+H26+H33+H39 -> 0 | I41: =I12+I22+I26+I33+I39 -> 0

Sheet Akadálymentes
A1: Ssz. | B1: Tételszám | C1: Tétel szövege | D1: Menny. | E1: Egység | F1: Anyag egységár | G1: Díj egységre | H1: Anyag összesen | I1: Díj összesen
A4: 7 | B4: 45-011-1.1.1.3-0000001 | C4: Kültéri információs tábla elhelyezése, 3 mm vtg műanyagfelületén vinyl (MacTac fólia) plotterkivágással, betünagyság 30 mm, háttér RAL 5018 gentain blue, betük fehér színben. Felirat Braille írással is. mérete:450×600 mm jele: T1 | D4: 2 | E4: db | H4: =ROUND(D4*F4, 0) -> 0 | I4: =ROUND(D4*G4, 0) -> 0
A6: 8 | B6: 45-011-1.1.1.3-0000002 | C6: Helyiség névtábla elhelyezése, 3 mm vtg műanyagfelületén vinyl (MacTac fólia) plotterkivágással, betünagyság 25 mm, betütípus Ariel Narrow Bold, háttér RAL 5018 gentain blue, betük fehér színben. Felirat Braille írással is. mérete:200×400 mm jele: T2 | D6: 8 | E6: db | H6: =ROUND(D6*F6, 0) -> 0 | I6: =ROUND(D6*G6, 0) -> 0
A8: 9 | B8: 45-011-1.1.1.3-0000003 | C8: Beltéri információs indukcióshurok jelzőtábla elhelyezése, 3 mm vtg műanyagfelületén vinyl (MacTac fólia) plotterkivágással, betünagyság 25 mm, betütípus Ariel Narrow Bold, háttér RAL 5018 gentain blue, betük fehér színben. Felirat Braille írással is. | D8: 1 | E8: db | H8: =ROUND(D8*F8, 0) -> 0 | I8: =ROUND(D8*G8, 0) -> 0
C9: mérete:200×400 mm jele: T3
A11: 10 | B11: 45-011-1.1.1.3-0000004 | C11: Parkoló tábla, földmunkával betonozással együtt, alu tartórúddal. 3 mm vtg műanyagfelületén vinyl (MacTac fólia) plotterkivágással, betünagyság 150 mm, betütípus Ariel Narrow Bold, háttér RAL 5018 gentain blue, betük fehér színben. mérete:300×250 mm | D11: 1 | E11: db | H11: =ROUND(D11*F11, 0) -> 0 | I11: =ROUND(D11*G11, 0) -> 0
C12: jele: T4
A14: 11 | B14: 45-011-1.1.1.3-0000005 | C14: Kültéri irányjelző tábla falra szerelve, 3 mm vtg műanyagfelületén vinyl (MacTac fólia) plotterkivágással, betünagyság 25 mm, betütípus Ariel Narrow Bold, háttér RAL 5018 gentain blue, betük fehér színben, akadálymentes piktogrammal. mérete:200×400 | D14: 2 | E14: db | H14: =ROUND(D14*F14, 0) -> 0 | I14: =ROUND(D14*G14, 0) -> 0
C15: mm jele: T5
C17: Munkanem összesen: | H17: =ROUND(SUM(H2:H16),0) -> 0 | I17: =ROUND(SUM(I2:I16),0) -> 0
A19: Akadálymentesítés összesen: | H19: =H17 -> 0 | I19: =I17 -> 0

Sheet Fűtés
A1: Ssz. | B1: MVH kód | C1: Tétel szövege | D1: Menny. | E1: Egység | F1: Referencia ár | G1: Referencia ár összesen
A4: 1 | B4: ÉNGY kód: 82-012-0997881 Kód: 82-012-003.2.1.4-0423463 Verzió: 2017-2 | C4: Épületgépészeti munkák Épületgépészeti szerelvények és berendezések szerelése Fűtőtestek Acéllemez kompakt lapradiátor elhelyezése,széthordással, tartókkal, bekötéssel, 2 soros, 1600 mm-ig, 600 mm VOGEL & NOOT kompakt lapradiátor 22K típus, 2-soros, 2 konvektorlemez borítással, 600x 600 mm, fűtőteljesítmény: 1028 W | D4: 1 | E4: db | G4: =D4*F4 -> 0
A6: 2 | B6: ÉNGY kód: 82-012-0997893 Kód: 82-012-003.2.1.4-0423464 Verzió: 2017-2 | C6: Épületgépészeti munkák Épületgépészeti szerelvények és berendezések szerelése Fűtőtestek Acéllemez kompakt lapradiátor elhelyezése,széthordással, tartókkal, bekötéssel, 2 soros, 1600 mm-ig, 600 mm VOGEL & NOOT kompakt lapradiátor 22K típus, 2-soros, 2 konvektorlemez borítással, 600x 720 mm, fűtőteljesítmény: 1233 W | D6: 3 | E6: db | G6: =D6*F6 -> 0
A8: 3 | B8: ÉNGY kód: 82-012-0997903 Kód: 82-012-003.2.1.4-0423465 Verzió:2017-2 | C8: Épületgépészeti munkák Épületgépészeti szerelvények és berendezések szerelése Fűtőtestek Acéllemez kompakt lapradiátor elhelyezése,széthordással, tartókkal, bekötéssel, 2 soros, 1600 mm-ig, 600 mm VOGEL & NOOT kompakt lapradiátor 22K típus, 2-soros, 2 konvektorlemez borítással, 600x 800 mm, fűtőteljesítmény: 1370 W | D8: 1 | E8: db | G8: =D8*F8 -> 0
A10: 4 | B10: ÉNGY kód: 82-012-0997932 Kód: 82-012-003.2.1.4-0423468 Verzió: 2017-2 | C10: Épületgépészeti munkák Épületgépészeti szerelvények és berendezések szerelése Fűtőtestek Acéllemez kompakt lapradiátor elhelyezése,széthordással, tartókkal, bekötéssel, 2 soros, 1600 mm-ig, 600 mm VOGEL & NOOT kompakt lapradiátor 22K típus, 2-soros, 2 konvektorlemez borítással, 600x1120 mm, fűtőteljesítmény: 1919 W | D10: 1 | E10: db | G10: =D10*F10 -> 0
