Workbook

Sheet Főösszesítő
A5: TERVEZŐI KÖLTSÉGVETÉS
A6: 8983 Nagylengyel, Bányász utca 21. Hrsz 311
A7: Óvoda átalakítás, bővítés és mini bölcsőde kialakítás
F11: Anyag | G11: Díj
A13: Homlokzati szigetelés | F13: ='Homlokzat szigetelés'!H35 -> 0 | G13: ='Homlokzat szigetelés'!I35 -> 0
A14: Játszóelemek | F14: =Játszóelemek!H15 -> 0 | G14: =Játszóelemek!I15 -> 0
A15: Játszóudvar | F15: =Játszóudvar!H33 -> 0 | G15: =Játszóudvar!I33 -> 0
A16: Óvoda belső | F16: ='Óvoda belső'!H106 -> 0 | G16: ='Óvoda belső'!I106 -> 0
A17: Óvoda bővítés | F17: ='Óvoda bővítés'!H153 -> 0 | G17: ='Óvoda bővítés'!I153 -> 0
A18: Óvoda tetőtér | F18: ='Óvoda tetőtér'!H108 -> 0 | G18: ='Óvoda tetőtér'!I108 -> 0
A19: Parkoló | F19: =Parkoló!H41 -> 0 | G19: =Parkoló!I41 -> 0
A20: Akadálymentesítés | F20: =Akadálymentes!H19 -> 0 | G20: =Akadálymentes!I19 -> 0
A21: Fűtés | F21: 0 | G21: =Fűtés!G41 -> 0
A22: Vízellátás és csatornázás | F22: 0 | G22: ='Vízellátás-csatornázás'!G61 -> 0
A23: Villamos 1 | F23: ='Villamos 1'!H6 -> 0 | G23: ='Villamos 1'!I6 -> 0
A24: Villamos 2 | F24: ='Villamos 2'!H10 -> 0 | G24: ='Villamos 2'!I10 -> 0
A25: Villamos 3 | F25: ='Villamos 3'!H107 -> 0 | G25: ='Villamos 3'!I107 -> 0
A26: Napelem | F26: 0 | G26: =Napelem!G10 -> 0
A27: Napkollektor | F27: 0 | G27: =Napkollektor!G5 -> 0
D28: Összesen: | F28: =SUM(F13:F27) -> 0 | G28: =SUM(G13:G27) -> 0
D29: Anyag + Díj össz: | F29: =SUM(F28:G28) -> 0
D30: ÁFA 27 % | F30: =ROUND(F29*0.27,0) -> 0
D31: Mindösszesen: | F31: =SUM(F29:G30) -> 0
A35: Zalaegerszeg, 2017. szeptember 18.
F40: Pásti Gábor
F41: építész

Sheet Homlokzat szigetelés
A1: Költségvetés kiírás
A2: Nagylengyel, Bölcsőde és Óvoda felújítás, bővítés
A3: Homlokzat szigetelés
A5: Sorszám | B5: Tételszám | C5: Tétel megnevezése | D5: Mennyiség | F5: Anyag e. | G5: Díj e. | H5: Anyag ö. | I5: Díj ö.
A6: 15. | B6: Zsaluzás és állványozás
A7: 1. | B7: ÉNGY kód: 15-012-0012602 Kód: 15-012-021.1-0023003 Verzió: 2017-2 | C7: Könnyű állványszerkezetek Homlokzati keretállványok, fém keretvázból, szintenkénti pallóterítéssel,korláttal, lábdeszkával, 0,75-1,20 m padlószélességgel, munkapadlótávolság 2,50 m, 2,00 kN/m2 terhelhetőséggel, állványépítés MSZ ésalkalmazástechnikai kézikönyv szerint, 6,00 m munkapadló magasságig KRAUSE Stabilo homlokzati keretállvány 0,75 m padlószélességgel, 6,00 m munkapadló magasságig | D7: 397.82 | E7: m2 | H7: =ROUND(D7*F7,0) -> 0 | I7: =ROUND(D7*G7,0) -> 0
A8: 2. | B8: ÉNGY kód: 15-012-0012684 Kód: 15-012-023.1-0023683 Verzió: 2017-2 | C8: Könnyű állványszerkezetek Védőtető készítése, homlokzati keretállványra KRAUSE védőtető készítése homlokzati keretállványra | D8: 4 | E8: m2 | H8: =ROUND(D8*F8,0) -> 0 | I8: =ROUND(D8*G8,0) -> 0
A9: 3. | B9: ÉNGY kód: 15-012-0012776 Kód: 15-012-025.1 Verzió: 2017-2 | C9: Könnyű állványszerkezetek Védőfüggöny szerelése állványszerkezetre, műanyag hálóból | D9: 397.82 | E9: m2 | H9: =ROUND(D9*F9,0) -> 0 | I9: =ROUND(D9*G9,0) -> 0
C10: Munkanem összesen | H10: =SUM(H7:H9) -> 0 | I10: =SUM(I7:I9) -> 0
A11: 36. | B11: Vakolás és rabicolás
A12: 1. | B12: ÉNGY kód: 36-002-0112194 Kód: 36-002-004-0415917 Verzió: 2017-2 | C12: Előkészítő munkák, alapozók, előfröcskölők, gúzrétegek, külső-belső vakolatokhoz Vékonyvakolat alapozók felhordása, kézi erővel Baumit Univerzális alapozó Cikkszám: 960125, vakolt felületre | D12: 342.49 | E12: m2 | H12: =ROUND(D12*F12,0) -> 0 | I12: =ROUND(D12*G12,0) -> 0
A13: 2. | B13: ÉNGY kód: 36-005-0120246 Kód: 36-005-021.2.4.2-0415260 Verzió: 2017-2 | C13: Homlokzatvakolatok, előkevert gyári habarcsból Vékonyvakolatok, színvakolatok felhordása alapozott, előkészített felületre, vödrös kiszerelésű anyagból, szilikát vékonyvakolat készítése, egy rétegben, 1,5-2,5 mm-es szemcsemérettel Baumit SilikatTop (Baumit Szilikát) vakolat, kapart 1,5 mm, fehér, Cikkszám: 255331 | D13: 342.49 | E13: m2 | H13: =ROUND(D13*F13,0) -> 0 | I13: =ROUND(D13*G13,0) -> 0
A14: 3. | B14: ÉNGY kód: 36-007-0123293 Kód: 36-007-009.2-0415421 Verzió: 2017-2 | C14: Lábazati vakolatok Lábazati vakolatok; díszítő és lábazati műgyantás kötőanyagú vakolatréteg felhordása,kézi erővel, vödrös kiszerelésű anyagból Baumit MosaikTop (Baumit Mozaik) vakolat 2 mm-es szemcseméret, 24 féle szín, Cikkszám: 255201 | D14: 36.93 | E14: m2 | H14: =ROUND(D14*F14,0) -> 0 | I14: =ROUND(D14*G14,0) -> 0
A15: 4. | B15: ÉNGY kód: 36-051-2395924 Kód: 36-051-006.2.1-0149065 Verzió: 2017-2 | C15: Vakolóprofil rendszerek Kültéri vakolóprofilok elhelyezése, utólagos (táblás) hőszigetelő rendszerhez (EPS), polisztirol,PVC,alumínium,rozsdam.acél,horg.acél,üvegszövet, 30 - 160 mm hőszigeteléshez,pozitív sarkokra MASTERPLAST Thermomaster PVC élvédő 10+15 cm üvegszövet hálóval, Cikkszám: 0107-10150000 | D15: 157.6 | E15: m | H15: =ROUND(D15*F15,0) -> 0 | I15: =ROUND(D15*G15,0) -> 0
A16: 5. | B16: ÉNGY kód: 36-051-1674792 Kód: 36-051-006.2.3-0192509 Verzió: 2017-2 | C16: Vakolóprofil rendszerek Kültéri vakolóprofilok elhelyezése, utólagos (táblás) hőszigetelő rendszerhez (EPS), rozsdamentes acélból, alumíniumból,30 - 160 mm hőszigeteléshez,lábazati indító profilok egyenes falakhoz THERMOMASTER UL, kültéri lábazati indító profil egyenes falhoz 150 mm utólagos hőszigeteléshez, alumínium, Cikkszám: 0110-0L120000 | D16: 79.86 | E16: m | H16: =ROUND(D16*F16,0) -> 0 | I16: =ROUND(D16*G16,0) -> 0
A17: 6. | B17: ÉNGY kód: 36-090-0130013 Kód: 36-090-001.2.1-0550080 Verzió: 2017-2 | C17: Javítási és pótlási munkák Vakolatjavítás homlokzaton, a meglazult, sérült vakolat előzetesleverésével, durva, sima kivitelben, hiánypótlás 5% alatt Hvh5-mc, kültéri, vakoló cementes mészhabarcs mészpéppel | D17: 8 | E17: m2 | H17: =ROUND(D17*F17,0) -> 0 | I17: =ROUND(D17*G17,0) -> 0
C18: Munkanem összesen | H18: =SUM(H12:H17) -> 0 | I18: =SUM(I12:I17) -> 0
A19: 43. | B19: Bádogozás
A20: 1. | B20: ÉNGY kód: 43-000-0330790 Kód: 43-000-007 Verzió: 2017-2 | C20: Bontási munkák Szegélyek, párkány könyöklő bontása,100 cm kiterített szélességig | D20: 19.55 | E20: m | H20: =ROUND(D20*F20,0) -> 0 | I20: =ROUND(D20*G20,0) -> 0
A21: 2. | B21: ÉNGY kód: 43-003-0345883 Kód: 43-003-008.2.1-0993246 Verzió: 2017-2 | C21: Szegélyek és hajlatok Ablak- vagy szemöldökpárkány színes műanyagbevonatú horganyzott acéllemezből, 50 cm kiterített szélességig LINDAB Seamline FOP szegély tűzihorganyzott acél + Classic bevonat, standard színben, 0,5 mm vtg., kiterített szélesség: 201-250 mm | D21: 24.65 | E21: m | H21: =ROUND(D21*F21,0) -> 0 | I21: =ROUND(D21*G21,0) -> 0
C22: Munkanem összesen | H22: =SUM(H20:H21) -> 0 | I22: =SUM(I20:I21) -> 0
A23: 48. | B23: Szigetelés
A24: 1. | B24: ÉNGY kód: 48-010-2635254 Kód: 48-010-001.1.2.2-0414620 Verzió: 2017-2 | C24: Homlokzati hőszigetelőrendszerek Homlokzati hőszigetelés, üvegszövetháló-erősítéssel,(mechanikai rögzítés, felületi zárás valamint kiegészítő profilok külön tételben szerepelnek), egyenes él-képzésű, normál homlokzati EPS hőszigetelő lapokkal, ragasztóporból képzett ragasztóba, tagolt sík, függőleges falon LB-Knauf polisztirol hőszigetelő lemez 15 cm, Csz: K00831650 | D24: 301.21 | E24: m2 | H24: =ROUND(D24*F24,0) -> 0 | I24: =ROUND(D24*G24,0) -> 0
A25: 2. | B25: ÉNGY kód: 48-010-3963561 Kód: 48-010-001.3.1.2-0420308 Verzió: 2017-2 | C25: Homlokzati hőszigetelőrendszerek Homlokzati hőszigetelés, üvegszövetháló-erősítéssel,(mechanikai rögzítés, felületi zárás valamint kiegészítő profilok külön tételben szerepelnek), egyenes él-képzésű, érdesített XPS hőszigetelő lapokkal, ragasztóporból képzett ragasztóba, tagolt sík, függőleges falon Thermo-Dam Zentyss XPS zártcellás extrudált lábazati polisztirol 300 kPa, egyenes élképzés, nápolyis felület, 1250x600x150 mm, Cikkszám: ZXPS120EN | D25: 70.76 | E25: m2 | H25: =ROUND(D25*F25,0) -> 0 | I25: =ROUND(D25*G25,0) -> 0
A26: 3. | B26: ÉNGY kód: 48-010-3963520 Kód: 48-010-001.3.1.2-0420304 Verzió: 2017-2 | C26: Homlokzati hőszigetelőrendszerek Homlokzati hőszigetelés, üvegszövetháló-erősítéssel,(mechanikai rögzítés, felületi zárás valamint kiegészítő profilok külön tételben szerepelnek), egyenes él-képzésű, érdesített XPS hőszigetelő lapokkal, ragasztóporból képzett ragasztóba, tagolt sík, függőleges falon Thermo-Dam Zentyss XPS zártcellás extrudált lábazati polisztirol 300 kPa, egyenes élképzés, nápolyis felület, 1250x600x50 mm, Cikkszám: ZXPS50EN - KÁVA | D26: 41.28 | E26: m2 | H26: =ROUND(D26*F26,0) -> 0 | I26: =ROUND(D26*G26,0) -> 0
A27: 4. | B27: ÉNGY kód: 48-021-3301493 Kód: 48-021-001.51.2.3.1 Verzió: 2017-2 | C27: Szigetelések rögzítése Szigetelések rögzítése; Hőszigetelő táblák pontszerű mechanikai rögzítése, homlokzaton, vázkerámia vagy pórusbeton aljzatszerkezethez, fém beütődübelekkel | D27: 2232 | E27: db | H27: =ROUND(D27*F27,0) -> 0 | I27: =ROUND(D27*G27,0) -> 0
A28: 5. | B28: ÉNGY kód: 48-021-4099911 Kód: 48-021-001.63.2.1-0391231 Verzió: 2017-2 | C28: Szigetelések rögzítése Szigetelések rögzítése; Hőszigetelő és hangelnyelő táblák ragasztásos rögzítése, homlokzaton, cementbázisú ragasztóanyaggal Baumit StarContact ragasztótapasz, Cikkszám: 156101 | D28: 413.25 | E28: m2 | H28: =ROUND(D28*F28,0) -> 0 | I28: =ROUND(D28*G28,0) -> 0
A29: 6. | B29: K-tétel | C29: Utólagos falszigetelés 50cm acéllemezzel | D29: 73 | E29: m | H29: =ROUND(D29*F29,0) -> 0 | I29: =ROUND(D29*G29,0) -> 0
C30: Munkanem összesen | H30: =SUM(H24:H29) -> 0 | I30: =SUM(I24:I29) -> 0
A31: 49. | B31: Árnyékolástechnika
A32: 1. | B32: K-tétel | C32: Kitekerhető napellenző telepítése játszóterasz fölé, előirányzottan 4,30x3,00m szélességben, manuális mozgatással | D32: 0 | E32: db | F32: elmarad
C33: Munkanem összesen | H33: =SUM(H32) -> 0 | I33: =SUM(I32) -> 0
A35: Homlokzatszigetelés összesen: | H35: =H10+H18+H22+H30+H33 -> 0 | I35: =I10+I18+I22+I30+I33 -> 0

Sheet Játszóelemek
A1: Költségvetés kiírás
A2: Nagylengyel, Bölcsőde és Óvoda felújítás, bővítés
A3: Játszóelemek
A5: Sorszám | B5: Tételszám | C5: Tétel megnevezése | D5: Mennyiség | F5: Anyag e. | G5: Díj e. | H5: Anyag ö. | I5: Díj ö.
A6: 92. | B6: Szabadidő és sport létesítmények
A7: 1. | B7: K-tétel (óvoda) | C7: Hatfunkciós mászótorony telepítése 223*223cm méretben (termékkód: 30032), telepítési és bevizsgálási munkákkal együtt | D7: 1 | E7: db | H7: =ROUND(D7*F7,0) -> 0 | I7: =ROUND(D7*G7,0) -> 0
A8: 2. | B8: K-tétel (óvoda) | C8: Plútó lépegető telepítése 250*20cm méretben (termékkód: 98516), telepítési és bevizsgálási munkákkal együtt | D8: 1 | E8: db | H8: =ROUND(D8*F8,0) -> 0 | I8: =ROUND(D8*G8,0) -> 0
A9: 3. | B9: K-tétel (óvoda) | C9: Forgóhinta közepes telepítése (termékkód: 30084), telepítési és bevizsgálási munkákkal együtt | D9: 1 | E9: db | H9: =ROUND(D9*F9,0) -> 0 | I9: =ROUND(D9*G9,0) -> 0
A10: 4. | B10: K-tétel (mini bölcsőde) | C10: Homokozó telepítése 300*300cm méretben (termékkód: 30002), telepítési és bevizsgálási munkákkal együtt | D10: 1 | E10: db | H10: =ROUND(D10*F10,0) -> 0 | I10: =ROUND(D10*G10,0) -> 0
A11: 5. | B11: K-tétel (mini bölcsőde) | C11: Mászóka telepítése 125*135cm méretben (termékkód: KM2-04), telepítési és bevizsgálási munkákkal együtt | D11: 1 | E11: db | H11: =ROUND(D11*F11,0) -> 0 | I11: =ROUND(D11*G11,0) -> 0
A12: 6. | B12: K-tétel (mini bölcsőde) | C12: Rugós mérleghinta telepítése telepítési és bevizsgálási munkákkal együtt | D12: 1 | E12: db | H12: =ROUND(D12*F12,0) -> 0 | I12: =ROUND(D12*G12,0) -> 0
C13: Munkanem összesen | H13: =SUM(H7:H12) -> 0 | I13: =SUM(I7:I12) -> 0
A15: Játszóelemek összesen: | H15: =H13 -> 0 | I15: =I13 -> 0

Sheet Játszóudvar
A1: Költségvetés kiírás
A2: Nagylengyel, Bölcsőde és Óvoda felújítás, bővítés
A3: Játszóudvar kialakítása
A5: Sorszám | B5: Tételszám | C5: Tétel megnevezése | D5: Mennyiség | F5: Anyag e. | G5: Díj e. | H5: Anyag ö. | I5: Díj ö.
A6: 15. | B6: Zsaluzás és állványozás
A7: 1. | B7: ÉNGY kód: 15-004-0011603 Kód: 15-004-003 Verzió: 2017-2 | C7: Téráthidaló szerkezetek zsaluzása Síklemez zsaluzása, fa zsaluzattal,keskeny sávban 15 cm szélességig | D7: 2.11 | E7: m2 | H7: =ROUND(D7*F7,0) -> 0 | I7: =ROUND(D7*G7,0) -> 0
C8: Munkanem összesen | H8: =SUM(H7) -> 0 | I8: =SUM(I7) -> 0
A9: 21. | B9: Irtás, föld- és sziklamunka
A10: 1. | B10: ÉNGY kód: 21-002-0014456 Kód: 21-002-001.1 Verzió: 2017-2 | C10: Előkészítő földmunka Humuszos termőréteg, termőföld leszedése,terítése gépi erővel, 18%-os terephajlásig,bármilyen talajban, szállítással, 50,0 m-ig | D10: 47.4 | E10: m3 | H10: =ROUND(D10*F10,0) -> 0 | I10: =ROUND(D10*G10,0) -> 0
A11: 2. | B11: ÉNGY kód: 21-003-0014705 Kód: 21-003-005.1.1.1 Verzió: 2017-2 | C11: Munkagödör és munkaárok készítése Munkaárok földkiemelése közművesített területen,kézi erővel, bármely konzisztenciájú talajban, dúcolás nélkül, 2,0 m2 szelvényig, I-II. talajosztály | D11: 7.37 | E11: m3 | H11: =ROUND(D11*F11,0) -> 0 | I11: =ROUND(D11*G11,0) -> 0
A12: 3. | B12: ÉNGY kód: 21-004-0015675 Kód: 21-004-005.1.2.1 Verzió: 2017-2 | C12: Alakító földmunka Tükörkészítés tömörítés nélkül, sík felületen kézi erővel talajosztály: V-VI. | D12: 54.3 | E12: m2 | H12: =ROUND(D12*F12,0) -> 0 | I12: =ROUND(D12*G12,0) -> 0
A13: 4. | B13: ÉNGY kód: 21-008-0016246 Kód: 21-008-002.2.3 Verzió: 2017-2 | C13: Tömörítés Tömörítés bármely tömörítési osztálybangépi erővel, kis felületen, tömörségi fok: 95% | D13: 4.82 | E13: m3 | H13: =ROUND(D13*F13,0) -> 0 | I13: =ROUND(D13*G13,0) -> 0
A14: 5. | B14: ÉNGY kód: 21-011-0016423 Kód: 21-011-002.1.1 Verzió: 2017-2 | C14: Kiegészítő tevékenységek Fejtett föld tolása és elteregetése, I-IV. osztályú talajban, 20,0 m távolságig | D14: 54.77 | E14: m3 | H14: =ROUND(D14*F14,0) -> 0 | I14: =ROUND(D14*G14,0) -> 0
A15: 6. | B15: ÉNGY kód: 21-011-4019315 Kód: 21-011-007.2-0120802 Verzió: 2017-2 | C15: Kiegészítő tevékenységek Feltöltések alap- és lábazati falak közéés alagsori vagy alá nem pincézett földszintipadozatok alá, az anyag szétterítésével,mozgatásával, kézi döngöléssel, osztályozatlan kavicsból Nyers homokos bányakavics, NHK 0/32 P-TT, Jánossomorja | D15: 4.82 | E15: m3 | H15: =ROUND(D15*F15,0) -> 0 | I15: =ROUND(D15*G15,0) -> 0
C16: Munkanem összesen | H16: =SUM(H10:H15) -> 0 | I16: =SUM(I10:I15) -> 0
A17: 23. | B17: Síkalapozás
A18: 1. | B18: ÉNGY kód: 23-003-0024243 Kód: 23-003-002-0222210 Verzió: 2017-2 | C18: Beton- és vasbetonalapok Vasbeton sáv-, talp- lemezalap készítéseszivattyús technológiával,.....minőségű betonból C16/20 - X0v(H) képlékeny kavicsbeton keverék CEM 32,5 pc. D?max = 16 mm, m = 6,6 finomsági modulussal | D18: 7.37 | E18: m3 | H18: =ROUND(D18*F18,0) -> 0 | I18: =ROUND(D18*G18,0) -> 0
C19: Munkanem összesen | H19: =SUM(H18) -> 0 | I19: =SUM(I18) -> 0
A20: 31. | B20: Helyszíni beton és vasbeton munkák
A21: 1. | B21: ÉNGY kód: 31-001-0035172 Kód: 31-001-002-0452004 Verzió: 2017-2 | C21: Betonacél-szerelés Hegesztett betonacél háló szerelése tartószerkezetbe FERALPI Sp8K1515 építési síkháló; 5,00 x 2,15 m; 150 x 150 mm osztással {átmérő} 8,00 / 8,00 BHB55.50 | D21: 0.218 | E21: t | H21: =ROUND(D21*F21,0) -> 0 | I21: =ROUND(D21*G21,0) -> 0
A22: 2. | B22: ÉNGY kód: 31-021-0051854 Kód: 31-021-004.1.1-0230110 Verzió: 2017-2 | C22: Téráthidaló szerkezetek készítése Sík vagy alulbordás vasbeton lemez készítése, 15°-os hajlásszögig,X0v(H), XC1, XC2, XC3 környezeti osztályú,kissé képlékeny vagy képlékeny konzisztenciájú betonból, kézi erővel, vibrátoros tömörítéssel, 12 cm vastagságig C20/25 - X0v(H) kissé képlékeny kavicsbeton keverék CEM 52,5 pc. D?max = 16 mm, m = 6,3 finomsági modulussal | D22: 5.43 | E22: m3 | H22: =ROUND(D22*F22,0) -> 0 | I22: =ROUND(D22*G22,0) -> 0
A23: 3. | B23: ÉNGY kód: 31-051-1672722 Kód: 31-051-009.1.2-0314362 Verzió: 2017-2 | C23: Egyéb beton és vasbeton szerkezetek Friss betonfelület vegyszeres utókezelése kézi felhordással, utókezelőszer vízszintes betonfelületekhez MUREXIN BA 2 kipárolgásgátló | D23: 54.28 | E23: m2 | H23: =ROUND(D23*F23,0) -> 0 | I23: =ROUND(D23*G23,0) -> 0
C24: Munkanem összesen | H24: =SUM(H21:H23) -> 0 | I24: =SUM(I21:I23) -> 0
A25: 33. | B25: Falazás és egyéb kőműves munkák
A26: 1. | B26: ÉNGY kód: 33-001-0090932 Kód: 33-001-001.3.4.4.1.1-0010408 Verzió: 2017-2 | C26: Teherhordó és kitöltő falazatok Teherhordó és kitöltő falazat készítése, beton, könnyűbeton falazóblokk vagy zsaluzóelem termékekből, 300 mm falvastagságban, 300x500x230 mm-es méretű beton zsaluzóelemből, kitöltő betonnal, betonacél beépítéssel Leier ZS 30-as zsaluzóelem, 300/500/230 mm,C16/20-16/kissé képlékeny kavicsbeton, B 60.40:12 mmátmérőjű betonacél | D26: 15.34 | E26: m2 | H26: =ROUND(D26*F26,0) -> 0 | I26: =ROUND(D26*G26,0) -> 0
C27: Munkanem összesen | H27: =SUM(H26) -> 0 | I27: =SUM(I26) -> 0
A28: 92. | B28: Szabadidő és sport létesítmények
A29: 1. | B29: ÉNGY kód: 92-021-2243405 Kód: 92-021-002.1.2.1-0311534 Verzió: 2017-2 | C29: Sportpálya burkolatok Sportpálya burkolat kialakítása, rugalmas térburkoló gumilap fektetése beton aljzatra, 100×100 cm-es méretben JÁTSZÓPARK SPORT rugalmas térburkoló gumilap, 100×100×2 cm méret, vörös, Cikkszám: JPS-20 | D29: 54.28 | E29: m2 | H29: =ROUND(D29*F29,0) -> 0 | I29: =ROUND(D29*G29,0) -> 0
A30: 2. | B30: ÉNGY kód: 92-021-2243584 Kód: 92-021-002.1.5.1-0311552 Verzió: 2017-2 | C30: Sportpálya burkolatok Sportpálya burkolat kialakítása, rugalmas térburkoló gumilap gumiszegély elhelyezése betonágyazatba, 100×25×4 cm-es méretben JÁTSZÓPARK GUMISZEGÉLY gumilapok szegélyezésére, 100×25×4 cm, vörös, Cikkszám: JPSZ | D30: 21.05 | E30: m | H30: =ROUND(D30*F30,0) -> 0 | I30: =ROUND(D30*G30,0) -> 0
C31: Munkanem összesen | H31: =SUM(H29:H30) -> 0 | I31: =SUM(I29:I30) -> 0
A33: Játszóudvar összesen: | H33: =H8+H16+H19+H24+H27+H31 -> 0 | I33: =I8+I16+I19+I24+I27+I31 -> 0

Sheet Óvoda belső
A1: Költségvetés kiírás
A2: Nagylengyel, Bölcsőde és Óvoda felújítás, bővítés
A3: Belső felújítás
A5: Sorszám | B5: Tételszám | C5: Tétel megnevezése | D5: Mennyiség | F5: Anyag e. | G5: Díj e. | H5: Anyag ö. | I5: Díj ö.
A6: 21. | B6: Irtás, föld- és sziklamunka
A7: 1. | B7: ÉNGY kód: 21-011-0016762 Kód: 21-011-011.3 Verzió: 2017-2 | C7: Kiegészítő tevékenységek Építési törmelék konténeres elszállítása, lerakása,lerakóhelyi díjjal, 5,0 m3-es konténerbe | D7: 2 | E7: db | H7: =ROUND(D7*F7,0) -> 0 | I7: =ROUND(D7*G7,0) -> 0
A8: 2. | B8: ÉNGY kód: 21-011-0016825 Kód: 21-011-012 Verzió: 2017-2 | C8: Kiegészítő tevékenységek Munkahelyi depóniából építési törmelék konténerbe rakása, kézi erővel, önálló munka esetén elszámolva,konténer szállítás nélkül | D8: 10 | E8: m3 | H8: =ROUND(D8*F8,0) -> 0 | I8: =ROUND(D8*G8,0) -> 0
C9: Munkanem összesen | H9: =SUM(H7:H8) -> 0 | I9: =SUM(I7:I8) -> 0
A10: 31. | B10: Helyszíni beton és vasbeton munkák
A11: 1. | B11: ÉNGY kód: 31-000-0034810 Kód: 31-000-013.2 Verzió: 2017-2 | C11: Bontási munkák Beton aljzatok, járdák bontása 10 cm vastagságig, kavicsbetonból, salakbetonból | D11: 30.71 | E11: m2 | H11: =ROUND(D11*F11,0) -> 0 | I11: =ROUND(D11*G11,0) -> 0
A12: 2. | B12: ÉNGY kód: 31-031-0063305 Kód: 31-031-002.1.1 Verzió: 2017-2 | C12: Aljzat készítése helyszínen kevert esztrichből Úsztatott vagy fűtési esztrich készítése,helyszínen kevert, cementbázisú esztrichből, C12 szilárdsági osztálynak megfelelően 6 cm vastagságban | D12: 30.71 | E12: m2 | H12: =ROUND(D12*F12,0) -> 0 | I12: =ROUND(D12*G12,0) -> 0
C13: Munkanem összesen | H13: =SUM(H11:H12) -> 0 | I13: =SUM(I11:I12) -> 0
A14: 32. | B14: Előregyártott épületszerkezeti elem elhelyezése és szerelése
A15: 1. | B15: ÉNGY kód: 32-002-0071201 Kód: 32-002-001.1.1-0112053 Verzió: 2017-2 | C15: Előregyártott nyílásáthidalók, kiváltók elhelyezése tartószerkezetre Előregyártott azonnal terhelhető nyílásáthidaló elhelyezése (válaszfal áthidalók is), tartószerkezetre, csomóponti kötés nélkül,falazat szélességű áthidaló elemekből vagy több elem egymás mellé sorolásával, a teherhordó falváll előkészítésével,kiegészítő hőszigetelés elhelyezése nélkül, 0,10 t/db tömegig, égetett agyag-kerámia köpenyes nyílásáthidaló LEIER MDA nyílásáthidaló 6,5×12 cm, égetett kerámia köpenyelemmel, 125 cm, Cikkszám: HUTMD3088 | D15: 4 | E15: db | H15: =ROUND(D15*F15,0) -> 0 | I15: =ROUND(D15*G15,0) -> 0
A16: 2. | B16: ÉNGY kód: 32-002-3277386 Kód: 32-002-001.1.1-0112063 Verzió: 2017-2 | C16: Előregyártott nyílásáthidalók, kiváltók elhelyezése tartószerkezetre Előregyártott azonnal terhelhető nyílásáthidaló elhelyezése (válaszfal áthidalók is), tartószerkezetre, csomóponti kötés nélkül,falazat szélességű áthidaló elemekből vagy több elem egymás mellé sorolásával, a teherhordó falváll előkészítésével,kiegészítő hőszigetelés elhelyezése nélkül, 0,10 t/db tömegig, égetett agyag-kerámia köpenyes nyílásáthidaló LEIER MDE 125 áthidaló 23,8x8 cm méretben égetett kerámia köpenyelemmel, 125 cm, Cikkszám: HUTMD5029 | D16: 15 | E16: db | H16: =ROUND(D16*F16,0) -> 0 | I16: =ROUND(D16*G16,0) -> 0
C17: Munkanem összesen | H17: =SUM(H15:H16) -> 0 | I17: =SUM(I15:I16) -> 0
A18: 33. | B18: Falazás és egyéb kőműves munkák
A19: 1. | B19: ÉNGY kód: 33-000-0087382 Kód: 33-000-021.1.1.1.1.1 Verzió: 2017-2 | C19: Bontási munkák Válaszfal bontása, égetett agyag-kerámia termékekből, erősítő pillérrel vagy erősítő pillér nélkül falazva, kisméretű, mészhomok, magasított vagy nagyméretű téglából, 15 cm vastagságig, falazó, cementes mészhabarcsból falazva | D19: 11 | E19: m2 | H19: =ROUND(D19*F19,0) -> 0 | I19: =ROUND(D19*G19,0) -> 0
A20: 2. | B20: ÉNGY kód: 33-000-0087491 Kód: 33-000-031.1.1 Verzió: 2017-2 | C20: Bontási munkák Nyílásbontás, égetett-agyag kerámia teherhordó, tömör téglafalban | D20: 2.05 | E20: m3 | H20: =ROUND(D20*F20,0) -> 0 | I20: =ROUND(D20*G20,0) -> 0
A21: 3. | B21: ÉNGY kód: 33-000-0087554 Kód: 33-000-032.1 Verzió: 2017-2 | C21: Bontási munkák Nyílásbontás, bármilyen égetett kerámia válaszfalban, 12 cm vastagságig | D21: 4.31 | E21: m2 | H21: =ROUND(D21*F21,0) -> 0 | I21: =ROUND(D21*G21,0) -> 0
A22: 4. | B22: ÉNGY kód: 33-011-2390970 Kód: 33-011-001.1.2.1.2.1.1-0132202 Verzió: 2017-2 | C22: Válaszfalak Válaszfal építése, égetett agyag-kerámia termékekből, nútféderes elemekből, 100 mm falvastagságban, 500x238x100 mm-es méretű válaszfallapból, falazó, cementes mészhabarcsba falazva BAKONYTHERM 10/50 N+F válaszfal, 500x238×100 mm, Cikkszám: TÉG10M 1 (Hf10-mc) falazó, cementes mészhabarcs | D22: 3.81 | E22: m2 | H22: =ROUND(D22*F22,0) -> 0 | I22: =ROUND(D22*G22,0) -> 0
A23: 5. | B23: ÉNGY kód: 33-063-0095090 Kód: 33-063-021.1.1 Verzió: 2017-2 | C23: Fal-födémáttörés, horony- és fészekvésés helyreállítás nélkül Fészekvésés, téglafalban, 0,015 m3-ig | D23: 21 | E23: db | H23: =ROUND(D23*F23,0) -> 0 | I23: =ROUND(D23*G23,0) -> 0
A24: 6. | B24: ÉNGY kód: 33-091-0095491 Kód: 33-091-001.1.1-2110002 Verzió: 2017-2 | C24: Javítások, pótlások Teherhordó és kitöltő falazat,égetett agyag-kerámia termékekből,nyílásbefalazás, nyílásszűkítés vagy kisebb falpótlások, 250 mm és ennél vastagabb falban csorbázatvéséssel, nyílásbefalazás, nyílásszűkítés vagy kisebb falpótlások, Kisméretű tömör tégla 250x120x65 mm I.o.M 1 (Hf10-mc) falazó, cementes mészhabarcs | D24: 0.4925 | E24: m3 | H24: =ROUND(D24*F24,0) -> 0 | I24: =ROUND(D24*G24,0) -> 0
A25: 7. | B25: ÉNGY kód: 33-091-0095501 Kód: 33-091-002.1.1-1110002 Verzió: 2017-2 | C25: Javítások, pótlások Teherhordó és kitöltő falazat,égetett agyag-kerámia termékekből,tokok körülfalazása bontott nyílásban, 250 mm vastag falban, 1 tégla vastag falban Kisméretű tömör tégla 250x120x65 mm I.o.Hf5-mc, falazó, cementes mészhabarcs | D25: 6.3 | E25: m | H25: =ROUND(D25*F25,0) -> 0 | I25: =ROUND(D25*G25,0) -> 0
A26: 8. | B26: ÉNGY kód: 33-091-0095852 Kód: 33-091-011.3.1-1130101 Verzió: 2017-2 | C26: Javítások, pótlások Válaszfal,égetett agyag-kerámia termékekből,erősítő pillérrel vagy erősítő pillér nélkül falazva,nyílásbefalazás, nyílásszűkítés vagy kisebb falpótlások, 10 cm vastagsággal, válaszfallapból falazó, cementes mészhabarcsból falazva Válaszfaltégla 400x200x100 mm I.o.Hf5-mc, falazó, cementes mészhabarcs | D26: 1.995 | E26: m2 | H26: =ROUND(D26*F26,0) -> 0 | I26: =ROUND(D26*G26,0) -> 0
A27: 9. | B27: ÉNGY kód: 33-091-0095915 Kód: 33-091-012.2.1-1130101 Verzió: 2017-2 | C27: Javítások, pótlások Válaszfal,égetett agyag-kerámia termékekből,pillérrel vagy erősítő pillér nélkül falazva,tokok körülfalazása bontott nyílásban, 10 cm vastagsággal, válaszfallapból, falazó, meszes cementhabarcsból falazva Válaszfaltégla 400x200x100 mm I.o.Hf5-mc, falazó, cementes mészhabarcs | D27: 14 | E27: m | H27: =ROUND(D27*F27,0) -> 0 | I27: =ROUND(D27*G27,0) -> 0
C28: Munkanem összesen | H28: =SUM(H19:H27) -> 0 | I28: =SUM(I19:I27) -> 0
A29: 34. | B29: Fém- és könnyű épületszerkezetek szerelése
A30: 1. | B30: ÉNGY kód: 34-001-0096382 Kód: 34-001-004.1 Verzió: 2017-2 | C30: Acél tartószerkezetek (első- és másodrendű teherhordó szerkezetek) Rácsos vagy tömör acéltartók beemeléseés elhelyezése, kiképzett felfekvésre(szerelőmunka nélküli beépítés),200 kg/db tömegig | D30: 3 | E30: db | H30: =ROUND(D30*F30,0) -> 0 | I30: =ROUND(D30*G30,0) -> 0
C31: Munkanem összesen | H31: =SUM(H30) -> 0 | I31: =SUM(I30) -> 0
A32: 35. | B32: Ácsmunka
A33: 1. | B33: K-tétel | C33: A meglévő fa áthidaló gerenda kibontása | D33: 1 | E33: db | H33: =ROUND(D33*F33,0) -> 0 | I33: =ROUND(D33*G33,0) -> 0
C34: Munkanem összesen | H34: =SUM(H33) -> 0 | I34: =SUM(I33) -> 0
A35: 36. | B35: Vakolás és rabicolás
A36: 1. | B36: ÉNGY kód: 36-001-0110776 Kód: 36-001-001.1.1-0550030 Verzió: 2017-2 | C36: Hagyományos vakolatok Sima oldalfalvakolat készítése kézi felhordással, belső, vakoló cementes mészhabarccsal, téglafelületen, 1,5 cm vastagságban Hvb4-mc, belső, vakoló cementes mészhabarccsal ésHs60-cm, felületképző (simító), meszescementhabarccsal | D36: 35.59 | E36: m2 | H36: =ROUND(D36*F36,0) -> 0 | I36: =ROUND(D36*G36,0) -> 0
A37: 2. | B37: ÉNGY kód: 36-090-0129952 Kód: 36-090-001.1.1-0550030 Verzió: 2017-2 | C37: Javítási és pótlási munkák Vakolatjavítás oldalfalon, tégla-, beton-, kőfelületen vagy építőlemezen,a meglazult, sérült vakolat előzetes leverésével, hiánypótlás 5% alatt Hvb4-mc, beltéri, vakoló, cementes mészhabarcs mészpéppel | D37: 8 | E37: m2 | H37: =ROUND(D37*F37,0) -> 0 | I37: =ROUND(D37*G37,0) -> 0
A38: 3. | B38: ÉNGY kód: 36-090-0130071 Kód: 36-090-001.3.1.1-0550030 Verzió: 2017-2 | C38: Javítási és pótlási munkák Vakolatjavítás mennyezeten, sík vasbeton téglabetétes, téglatálcás födémen, íves boltozaton vagy építőelemen a meglazult, sérült vakolat leverésével, hiánypótlás 5% alatt Hvb4-mc, beltéri, vakoló, cementes mészhabarcs mészpéppel | D38: 2 | E38: m2 | H38: =ROUND(D38*F38,0) -> 0 | I38: =ROUND(D38*G38,0) -> 0
C39: Munkanem összesen | H39: =SUM(H36:H38) -> 0 | I39: =SUM(I36:I38) -> 0
A40: 39. | B40: Szárazépítés
A41: 1. | B41: ÉNGY kód: 39-001-0157452 Kód: 39-001-023.2.3-0210211 Verzió: 2017-2 | C41: Gipszkarton válaszfal szerkezetek CW fém vázszerkezetre szerelt válaszfal 2 x 2 rtg. impregnált,12,5 mm vtg. gipszkarton borítással, hőszigeteléssel,csavarfejek és illesztések glettelve (Q2), egyszeres, sűrített, (40 vagy 41,7 cm bordatávolság) CW 100-06 mm vtg. tartóvázzal KNAUF HA 13 impregnált építőlemez, 12,5 mm HRAK 1250/2000 Cikkszám: 36307120,ásványi szálas hőszigetelés | D41: 5.832 | E41: m2 | H41: =ROUND(D41*F41,0) -> 0 | I41: =ROUND(D41*G41,0) -> 0
C42: Munkanem összesen | H42: =SUM(H41) -> 0 | I42: =SUM(I41) -> 0
A43: 42. | B43: Aljzatkészítés, hideg- és melegburkolatok készítése
B44: Bontások
A45: 1. | B45: ÉNGY kód: 42-000-0222041 Kód: 42-000-002.1 Verzió: 2017-2 | C45: Aljzatkészítés, hideg- és melegburkolatok készítése Bontási munkák Lapburkolatok bontása, padlóburkolat bármely méretű kőagyag, mozaik vagytört mozaik (NOVA) lapból | D45: 16.18 | E45: m2 | H45: =ROUND(D45*F45,0) -> 0 | I45: =ROUND(D45*G45,0) -> 0
A46: 2. | B46: ÉNGY kód: 42-000-0222053 Kód: 42-000-002.2 Verzió: 2017-2 | C46: Bontási munkák Lapburkolatok bontása, fal-, pillér- és oszlopburkolat, bármely méretűmozaik, kőagyag és csempe | D46: 23.77 | E46: m2 | H46: =ROUND(D46*F46,0) -> 0 | I46: =ROUND(D46*G46,0) -> 0
A47: 3. | B47: ÉNGY kód: 42-000-0222065 Kód: 42-000-002.3 Verzió: 2017-2 | C47: Bontási munkák Lapburkolatok bontása, lábazatburkolat 0,50 m magasságig, egyenes egysoros vagy lépcsős kivitelben,10x10 - 20x20 cm-es lapméretig | D47: 9.76 | E47: m | H47: =ROUND(D47*F47,0) -> 0 | I47: =ROUND(D47*G47,0) -> 0
A48: 4. | B48: ÉNGY kód: 42-000-0222104 Kód: 42-000-003.2.2 Verzió: 2017-2 | C48: Bontási munkák Fa-, hézagmentes műanyag- és szőnyegburkolatok bontása, csaphornyos vagy mozaikparketta, 22 mm vastag aljzatbetonra ragasztva | D48: 7.56 | E48: m2 | H48: =ROUND(D48*F48,0) -> 0 | I48: =ROUND(D48*G48,0) -> 0
A49: 5. | B49: ÉNGY kód: 42-000-0222121 Kód: 42-000-003.4 Verzió: 2017-2 | C49: Bontási munkák Fa-, hézagmentes műanyag- és szőnyegburkolatok bontása, gumilemez vagy PVC burkolat tekercsből,lapokból vagy lépcsőn betétként | D49: 6.68 | E49: m2 | H49: =ROUND(D49*F49,0) -> 0 | I49: =ROUND(D49*G49,0) -> 0
A50: 6. | B50: ÉNGY kód: 42-000-0222133 Kód: 42-000-003.5 Verzió: 2017-2 | C50: Bontási munkák Fa-, hézagmentes műanyag- és szőnyegburkolatok bontása, PVC falszegély | D50: 10.39 | E50: m | H50: =ROUND(D50*F50,0) -> 0 | I50: =ROUND(D50*G50,0) -> 0
A51: 7. | B51: ÉNGY kód: 42-000-0222145 Kód: 42-000-003.6 Verzió: 2017-2 | C51: Bontási munkák Fa-, hézagmentes műanyag- és szőnyegburkolatok bontása, keményfa lábazati deszka vagy falvédődeszka, 25 cm szélességig | D51: 10.83 | E51: m | H51: =ROUND(D51*F51,0) -> 0 | I51: =ROUND(D51*G51,0) -> 0
B52: Hidegburkolatok
A53: 8. | B53: ÉNGY kód: 42-011-2262820 Kód: 42-011-001.1.1.1-0215098 Verzió: 2017-2 | C53: Hidegburkolatok aljzatelőkészítése Fal-, pillér és oszlopburkolat hordozószerkezetének felületelőkészítése beltérben, tégla, beton és vakolt alapfelületen, felületelőkészítő alapozó és tapadóhíd felhordása egy rétegben Baumit Grund, nedvszívó alapfelület alapozására, Cikkszám: 960163 | D53: 30.028 | E53: m2 | H53: =ROUND(D53*F53,0) -> 0 | I53: =ROUND(D53*G53,0) -> 0
A54: 9. | B54: ÉNGY kód: 42-011-2262832 Kód: 42-011-001.1.1.2-0415537 Verzió: 2017-2 | C54: Hidegburkolatok aljzatelőkészítése Fal-, pillér és oszlopburkolat hordozószerkezetének felületelőkészítése beltérben, tégla, beton és vakolt alapfelületen, kenhető víz- és páraszigetelés felhordása egy rétegben, hajlaterősítő szalag elhelyezésével Baumacol Protect vízzáró vastagfólia, Cikkszám: 956523 | D54: 2 | E54: m2 | H54: =ROUND(D54*F54,0) -> 0 | I54: =ROUND(D54*G54,0) -> 0
A55: 10. | B55: ÉNGY kód: 42-011-2262873 Kód: 42-011-001.1.2.1-0215098 Verzió: 2017-2 | C55: Hidegburkolatok aljzatelőkészítése Fal-, pillér és oszlopburkolat hordozószerkezetének felületelőkészítése beltérben, gipszkarton alapfelületen felületelőkészítő alapozó és tapadóhíd felhordása egy rétegben Baumit Grund, nedvszívó alapfelület alapozására, Cikkszám: 960163 | D55: 9.072 | E55: m2 | H55: =ROUND(D55*F55,0) -> 0 | I55: =ROUND(D55*G55,0) -> 0
A56: 11. | B56: ÉNGY kód: 42-011-2263120 Kód: 42-011-002.1.1.1-0215098 Verzió: 2017-2 | C56: Hidegburkolatok aljzatelőkészítése Padlóburkolat hordozószerkezetének felületelőkészítése beltérben, beton alapfelületen felületelőkészítő alapozó és tapadóhíd felhordása egy rétegben Baumit Grund, nedvszívó alapfelület alapozására, Cikkszám: 960163 | D56: 16.01 | E56: m2 | H56: =ROUND(D56*F56,0) -> 0 | I56: =ROUND(D56*G56,0) -> 0
A57: 12. | B57: ÉNGY kód: 42-011-2263190 Kód: 42-011-002.1.1.4.1-0215096 Verzió: 2017-2 | C57: Hidegburkolatok aljzatelőkészítése Padlóburkolat hordozószerkezetének felületelőkészítése beltérben, beton alapfelületen önterülő felületkiegyenlítés készítése 5 mm átlagos rétegvastagságban Baumit Nivello Quattro önterülő aljzatkiegyenlítő, max.: 20 mm, Cikkszám: 156204 | D57: 16.01 | E57: m2 | H57: =ROUND(D57*F57,0) -> 0 | I57: =ROUND(D57*G57,0) -> 0
A58: 13. | B58: ÉNGY kód: 42-012-2398826 Kód: 42-012-001.1.1.1.1.3-0415533 Verzió: 2017-2 | C58: Fal-, pillér, oszlop és lábazatburkolatok ragasztóhabarcsba Fal-, pillér-, oszlopburkolat készítése beltérben, tégla, beton, vakolt alapfelületen, mázas kerámiával, kötésben vagy hálósan, 3-5 mm vtg. ragasztóba rakva, 1-10 mm fugaszélességgel, 25x25 - 40x40 cm közötti lapmérettel Baumit Baumacol FlexUni, C2TE, flexibilis csemperagasztó fokozott igénybevételre, Cikkszám: 156202Baumit Baumacol PremiumFuge, CG2 WA, flexibilis fugázóanyag, max. 8 mm-es fugákhoz, színes, Cikkszám: 961021-38 | D58: 30.028 | E58: m2 | H58: =ROUND(D58*F58,0) -> 0 | I58: =ROUND(D58*G58,0) -> 0
A59: 14. | B59: ÉNGY kód: 42-012-2399356 Kód: 42-012-001.1.2.1.1.3-0415533 Verzió: 2017-2 | C59: Fal-, pillér, oszlop és lábazatburkolatok ragasztóhabarcsba Fal-, pillér-, oszlopburkolat készítése beltérben, gipszkarton alapfelületen, mázas kerámiával, kötésben vagy hálósan, 3-5 mm vtg. ragasztóba rakva, 1-10 mm fugaszélességgel, 25x25 - 40x40 cm közötti lapmérettel Baumit Baumacol FlexUni, C2TE, flexibilis csemperagasztó fokozott igénybevételre, Cikkszám: 156202Baumit Baumacol PremiumFuge, CG2 WA, flexibilis fugázóanyag, max. 8 mm-es fugákhoz, színes, Cikkszám: 961021-38 | D59: 9.072 | E59: m2 | H59: =ROUND(D59*F59,0) -> 0 | I59: =ROUND(D59*G59,0) -> 0
A60: 15. | B60: ÉNGY kód: 42-022-2266216 Kód: 42-022-001.1.1.2.1.1-0415533 Verzió: 2017-2 | C60: Padló- és lábazatburkolatok ragasztóhabarcsba Padlóburkolat készítése, beltérben, tégla, beton, vakolt alapfelületen, gres, kőporcelán lappal, kötésben vagy hálósan, 3-5 mm vtg. ragasztóba rakva, 1-10 mm fugaszélességgel, 20x20 - 40x40 cm közötti lapmérettel Baumit Baumacol FlexUni, C2TE, flexibilis csemperagasztó fokozott igénybevételre, Cikkszám: 156202Baumit Baumacol PremiumFuge, CG2 WA, flexibilis fugázóanyag, max. 8 mm-es fugákhoz, színes, Cikkszám: 961021-38 | D60: 16.01 | E60: m2 | H60: =ROUND(D60*F60,0) -> 0 | I60: =ROUND(D60*G60,0) -> 0
A61: 16. | B61: ÉNGY kód: 42-022-2622075 Kód: 42-022-002.1.2.1.2-0415534 Verzió: 2017-2 | C61: Padló- és lábazatburkolatok ragasztóhabarcsba Lábazatburkolat készítése, beltérben, gres, kőporcelán lappal, egyenes, egysoros kivitelben, 3-5 mm ragasztóba rakva, 1-10 mm fugaszélességgel,10 cm magasságig, 45×45 - 60×60 cm közötti lapmérettel Baumit Baumacol FlexTop, C2TES1, flexibilis csemperagasztó, fokozottan terhelhető, Cikkszám: 156201Baumit Baumacol PremiumFuge, CG2 WA, flexibilis fugázóanyag, max. 8 mm-es fugákhoz, színes, Cikkszám: 961021-38 | D61: 12.41 | E61: m | H61: =ROUND(D61*F61,0) -> 0 | I61: =ROUND(D61*G61,0) -> 0
B62: Linóleum burkolat tételei
A63: 17. | B63: ÉNGY kód: 42-041-2288935 Kód: 42-041-002.1.1-0215096 Verzió: 2017-2 | C63: Melegburkolatok aljzatelőkészítése Újonnan készült aljzat kiegyenlítése ragasztott parketta,valamint rugalmas burkolat alá (nagy igénybevétel) szabványos cementresztrich és betonpadló felület előkészítése, 3 mm vastagságban Baumit Nivello Quattro önterülő aljzatkiegyenlítő + Baumit Grund, nedvszívó alapfelület alapozására | D63: 14.84 | E63: m2 | H63: =ROUND(D63*F63,0) -> 0 | I63: =ROUND(D63*G63,0) -> 0
A64: 18. | B64: ÉNGY kód: 42-041-2288952 Kód: 42-041-002.1.2-0215096 Verzió: 2017-2 | C64: Melegburkolatok aljzatelőkészítése Újonnan készült aljzat kiegyenlítése ragasztott parketta,valamint rugalmas burkolat alá (nagy igénybevétel) szabványos cementresztrich és betonpadló felület előkészítése, többlet minden 1 mm vastagságban Baumit Nivello Quattro önterülő aljzatkiegyenlítő, max.: 20 mm, Cikkszám: 156204 | D64: 14.84 | E64: m2 | H64: =ROUND(D64*F64,0) -> 0 | I64: =ROUND(D64*G64,0) -> 0
A65: 19. | B65: ÉNGY kód: 42-042-0304915 Kód: 42-042-022.1-0312082 Verzió: 2017-2 | C65: Fa- és rugalmas aljzatburkolatok Linóleum burkolat fektetése szabványos, kiegyenlített aljzatra, lemezből(ragasztó anyag külön tételben kiírva) Tarkett Veneto linóleum burkolat, XF felületnemesítés, 2,5 mm vtg., 2 m x 20-30 m, 50 szín | D65: 14.84 | E65: m2 | H65: =ROUND(D65*F65,0) -> 0 | I65: =ROUND(D65*G65,0) -> 0
A66: 20. | B66: ÉNGY kód: 42-042-0305176 Kód: 42-042-022.9-0310350 Verzió: 2017-2 | C66: Fa- és rugalmas aljzatburkolatok Linóleum burkolat fektetése szabványos, kiegyenlített aljzatra, ajánlott ragasztó linóleum burkolat fektetéséhez(a ragasztás ideje a burkolási tételeknél szerepel) HENKEL Thomsit L 240 D diszperziós linóleumragasztó, Cikkszám: 423507 | D66: 14.84 | E66: m2 | H66: =ROUND(D66*F66,0) -> 0 | I66: =ROUND(D66*G66,0) -> 0
A67: 21. | B67: ÉNGY kód: 42-042-0306944 Kód: 42-042-031.3.1 Verzió: 2017-2 | C67: Aljzatkészítés, hideg- és melegburkolatok készítése Fa- és rugalmas aljzatburkolatok Lábazat kialakítása, linóleum burkolatból, felhajtással, PVC-hohlkehl profilba (szegőléc) bújtatva | D67: 14.44 | E67: m | H67: =ROUND(D67*F67,0) -> 0 | I67: =ROUND(D67*G67,0) -> 0
B68: Parketta felújítás
A69: 22. | B69: K-tétel | C69: Parketta csiszolása, portalanítása | D69: 85.53 | E69: m2 | H69: =ROUND(D69*F69,0) -> 0 | I69: =ROUND(D69*G69,0) -> 0
A70: 23. | B70: ÉNGY kód: 47-031-4081692 Kód: 47-031-001.9.1.1-0214140 Verzió: 2017-2 | C70: Fafelületek mázolása Belső fafelületek lakkozása, vízbázisú poliuretán-akrilát anyagú,1 komponensű transzparens lakkal, 2 rétegben, tagolatlan felületen Remmers Treppen- & Parkettlack vízbázisú, színtelen ecsetelhető beltéri lakk, járófelületre, bútorra, 2390 | D70: 85.53 | H70: =ROUND(D70*F70,0) -> 0 | I70: =ROUND(D70*G70,0) -> 0
C71: Munkanem összesen | H71: =SUM(H45:H70) -> 0 | I71: =SUM(I45:I70) -> 0
A72: 44. | B72: Asztalosszerkezetek elhelyezése
A73: 1. | B73: ÉNGY kód: 44-000-0355513 Kód: 44-000-001.1 Verzió: 2017-2 | C73: Bontások Fa vagy műanyag nyílászáró szerkezetek bontása, ajtó, ablak vagy kapu, 2,00 m2-ig | D73: 10.32 | E73: m2 | H73: =ROUND(D73*F73,0) -> 0 | I73: =ROUND(D73*G73,0) -> 0
A74: 2. | B74: ÉNGY kód: 44-000-0355525 Kód: 44-000-001.2 Verzió: 2017-2 | C74: Bontások Fa vagy műanyag nyílászáró szerkezetek bontása, ajtó, ablak vagy kapu, 2,01-4,00 m2 között | D74: 2.1 | E74: m2 | H74: =ROUND(D74*F74,0) -> 0 | I74: =ROUND(D74*G74,0) -> 0
C75: Munkanem összesen | H75: =SUM(H73:H74) -> 0 | I75: =SUM(I73:I74) -> 0
A76: 45. | B76: Lakatosszerkezetek elhelyezése
A77: 1. | B77: ÉNGY kód: 45-001-0376545 Kód: 45-001-001.1.1.1-0134001 Verzió: 2017-2 | C77: Ajtók elhelyezése Beltéri ajtók, alapozott acél ajtótok elhelyezése, blokktok szerelésével, falcolt ajtólaphoz EPDM tömítőprofillal, 1000x2000-2500x2250 mm névleges méretig Hörmann blokktok, MW100 mm, 30mm padlóbeállással, Jobbos vagy Balos, DIN névleges méret:1000 x 2125 mm | D77: 2 | E77: db | H77: =ROUND(D77*F77,0) -> 0 | I77: =ROUND(D77*G77,0) -> 0
A78: 2. | B78: ÉNGY kód: 45-001-1936445 Kód: 45-001-001.1.1.1-0134631 Verzió: 2017-2 | C78: Ajtók elhelyezése Beltéri ajtók, alapozott acél ajtótok elhelyezése, blokktok szerelésével, falcolt ajtólaphoz EPDM tömítőprofillal, 1000x2000-2500x2250 mm névleges méretig Hörmann blokktok, MW100mm, 30mm padlóbeállással, Jobbos vagy Balos, DIN névleges méret:1000 x 2000 mm | D78: 4 | E78: db | H78: =ROUND(D78*F78,0) -> 0 | I78: =ROUND(D78*G78,0) -> 0
A79: 3. | B79: ÉNGY kód: 45-001-0376671 Kód: 45-001-001.1.4.1-0134022 Verzió: 2017-2 | C79: Ajtók elhelyezése Beltéri ajtók, alapozott acél ajtótok elhelyezése, befoglalótok szerelésével, Jobbos/Balos falcolt ajtólapokhoz EPDM tömítőprofillal, 130 mm nyers téglafal vastagságig, 625x2000-2000x2125 mm névleges méretig Hörmann falazós befoglalótok, névleges méret:750 x 2000 mm, 130 mm falvastagság | D79: 1 | E79: db | H79: =ROUND(D79*F79,0) -> 0 | I79: =ROUND(D79*G79,0) -> 0
A80: 4. | B80: ÉNGY kód: 45-001-0376964 Kód: 45-001-002.1.1-0134085 Verzió: 2017-2 | C80: Ajtók elhelyezése Beltéri ajtólapok elhelyezése, kiegészítő szerelvények nélkül, 40 mm vastag papír rácsbetétes, 3 oldalon falcolt ajtólappal,0,6 mm vastag felületkezelt acéllemezből, 750×2000-1250x2250 mm névleges méretig, egyszárnyú tömör ajtólappal Hörmann ZK beltéri ajtólap, névleges méret: 750 x 2000 mm, RAL 9016 színben | D80: 1 | E80: db | H80: =ROUND(D80*F80,0) -> 0 | I80: =ROUND(D80*G80,0) -> 0
A81: 5. | B81: ÉNGY kód: 45-001-0377010 Kód: 45-001-002.1.1-0134090 Verzió: 2017-2 | C81: Ajtók elhelyezése Beltéri ajtólapok elhelyezése, kiegészítő szerelvények nélkül, 40 mm vastag papír rácsbetétes, 3 oldalon falcolt ajtólappal,0,6 mm vastag felületkezelt acéllemezből, 750×2000-1250x2250 mm névleges méretig, egyszárnyú tömör ajtólappal Hörmann ZK beltéri ajtólap, névleges méret: 1000 x 2000 mm, RAL 9016 színben | D81: 4 | E81: db | H81: =ROUND(D81*F81,0) -> 0 | I81: =ROUND(D81*G81,0) -> 0
A82: 6. | B82: ÉNGY kód: 45-001-0377022 Kód: 45-001-002.1.1-0134091 Verzió: 2017-2 | C82: Ajtók elhelyezése Beltéri ajtólapok elhelyezése, kiegészítő szerelvények nélkül, 40 mm vastag papír rácsbetétes, 3 oldalon falcolt ajtólappal,0,6 mm vastag felületkezelt acéllemezből, 750×2000-1250x2250 mm névleges méretig, egyszárnyú tömör ajtólappal Hörmann ZK beltéri ajtólap, névleges méret: 1000 x 2125 mm, RAL 9016 színben | D82: 2 | E82: db | H82: =ROUND(D82*F82,0) -> 0 | I82: =ROUND(D82*G82,0) -> 0
A83: 7. | B83: ÉNGY kód: 45-001-1937462 Kód: 45-001-003.1-0134755 Verzió: 2017-2 | C83: Ajtók elhelyezése Kiegészítő szerelvények elhelyezése beltéri ajtólapokhoz Rozsdamentes körcímkés kilincsgarnitúra, BB vagy PZ előkészítéssel | D83: 6 | E83: db | H83: =ROUND(D83*F83,0) -> 0 | I83: =ROUND(D83*G83,0) -> 0
A84: 8. | B84: ÉNGY kód: 45-001-1937474 Kód: 45-001-003.1-0134756 Verzió: 2017-2 | C84: Ajtók elhelyezése Kiegészítő szerelvények elhelyezése beltéri ajtólapokhoz Rozsdamentes körcímkés WC kilincsgarnitúra | D84: 1 | E84: db | H84: =ROUND(D84*F84,0) -> 0 | I84: =ROUND(D84*G84,0) -> 0
C85: Munkanem összesen | H85: =SUM(H77:H84) -> 0 | I85: =SUM(I77:I84) -> 0
A86: 47. | B86: Felületképzés (festés, mázolás, tapétázás, korrózióvédelem)
A87: 1. | B87: ÉNGY kód: 47-000-0450324 Kód: 47-000-001.1.1.2 Verzió: 2017-2 | C87: Felület előkészítések, részmunkák Belső festéseknél felület előkészítése, részmunkák; többrétegű meszelés lekaparása bármilyen padozatú helyiségben, tagolt felületen | D87: 8.59 | E87: 100m2 | H87: =ROUND(D87*F87,0) -> 0 | I87: =ROUND(D87*G87,0) -> 0
A88: 2. | B88: ÉNGY kód: 47-000-2822503 Kód: 47-000-001.21.3.1.1.2 Verzió: 2017-2 | C88: Felület előkészítések, részmunkák Belső festéseknél felület előkészítése, részmunkák; glettelés, vízbázisú penészgátló glettel, vakolt felületen, bármilyen padozatú helyiségben, tagolt felületen | D88: 859.19 | E88: m2 | H88: =ROUND(D88*F88,0) -> 0 | I88: =ROUND(D88*G88,0) -> 0
A89: 3. | B89: ÉNGY kód: 47-010-3626551 Kód: 47-010-001.1.2-0419506 Verzió: 2017-2 | C89: Alapozások belső-, homlokzati festésekhez Normál nem egyenletes nedvszívóképességűásványi falfelületek alapozása, felületmegerősítése, vizes-diszperziós akril bázisú alapozóval, tagolt felületen POLI-FARBE Inntaler diszperziós mélyalapozó | D89: 859.19 | E89: m2 | H89: =ROUND(D89*F89,0) -> 0 | I89: =ROUND(D89*G89,0) -> 0
A90: 4. | B90: ÉNGY kód: 47-011-3626773 Kód: 47-011-015.1.1.2-0160011 Verzió: 2017-2 | C90: Belsőfestések Diszperziós festés műanyag bázisú vizes-diszperziós fehér vagy gyárilag színezett festékkel, új vagy régi lekapart, előkészített alapfelületen,vakolaton, két rétegben, tagolt sima felületen POLI-FARBE Inntaler diszperziós beltéri falfesték | D90: 859.19 | E90: m2 | H90: =ROUND(D90*F90,0) -> 0 | I90: =ROUND(D90*G90,0) -> 0
A91: 5. | B91: ÉNGY kód: 47-021-3627291 Kód: 47-021-012.1.1-0419523 Verzió: 2017-2 | C91: Acélfelületek mázolása Korróziógátló alapozás acél nyílászáró szerkezeten, műgyanta kötőanyagú, oldószertartalmú festékkel POLI-FARBE Cellkolor korróziógátló alapozó | D91: 14.06 | E91: m2 | H91: =ROUND(D91*F91,0) -> 0 | I91: =ROUND(D91*G91,0) -> 0
A92: 6. | B92: ÉNGY kód: 47-021-3627301 Kód: 47-021-012.2.1-0419523 Verzió: 2017-2 | C92: Acélfelületek mázolása Korróziógátló alapozás nagyméretű acélszerkezeten, műgyanta kötőanyagú, oldószertartalmú festékkel POLI-FARBE Cellkolor korróziógátló alapozó | D92: 15 | E92: m2 | H92: =ROUND(D92*F92,0) -> 0 | I92: =ROUND(D92*G92,0) -> 0
A93: 7. | B93: ÉNGY kód: 47-021-3627383 Kód: 47-021-031.1.1-0160016 Verzió: 2017-2 | C93: Acélfelületek mázolása Acélfelületek átvonó festése acél nyílászáró szerkezeten, műgyanta kötőanyagú, oldószeres festékkel POLI-FARBE Cellkolor oldószeres selyemfényű zománc | D93: 14.06 | E93: m2 | H93: =ROUND(D93*F93,0) -> 0 | I93: =ROUND(D93*G93,0) -> 0
A94: 8. | B94: ÉNGY kód: 47-021-3627405 Kód: 47-021-031.2.1-0160016 Verzió: 2017-2 | C94: Acélfelületek mázolása Acélfelületek átvonó festése acélszerkezeten, nagyobb acélfelületen műgyanta kötőanyagú, oldószeres festékkel POLI-FARBE Cellkolor oldószeres selyemfényű zománc | D94: 15 | E94: m2 | H94: =ROUND(D94*F94,0) -> 0 | I94: =ROUND(D94*G94,0) -> 0
C95: Munkanem összesen | H95: =SUM(H87:H94) -> 0 | I95: =SUM(I87:I94) -> 0
A96: 48. | B96: Szigetelés
A97: 1. | B97: ÉNGY kód: 48-002-2630393 Kód: 48-002-001.1.1.1.1-0099073 Verzió: 2017-2 | C97: Talajnedvesség elleni szigetelések Talajnedvesség elleni szigetelés; Bitumenes lemez szigetelés aljzatának kellősítése, egy rétegben, vízszintes felületen, oldószeres hideg bitumenmázzal (száraz felületen) ICOPAL SIPLAST PRIMER? Speed SBS oldószeres bitumenes alapozó | D97: 32.85 | E97: m2 | H97: =ROUND(D97*F97,0) -> 0 | I97: =ROUND(D97*G97,0) -> 0
A98: 2. | B98: ÉNGY kód: 48-002-2630490 Kód: 48-002-001.3.1.2-0099043 Verzió: 2017-2 | C98: Talajnedvesség elleni szigetelések Talajnedvesség elleni szigetelés; Padlószigetelés, egy rétegben, minimum 4,0 mm vastag elasztomerbitumenes (SBS modifikált vagy SBS/oxidált duo) lemezzel, aljzathoz foltonként vagy sávokban olvasztásos ragasztással, átlapolásoknál teljes felületű hegesztéssel fektetve VILLAS EO-V 4 F/K Extra, üvegszövet hordozórétegű, 4 mm vastag, SBS-oxid DUO lemez | D98: 32.85 | E98: m2 | H98: =ROUND(D98*F98,0) -> 0 | I98: =ROUND(D98*G98,0) -> 0
A99: 3. | B99: ÉNGY kód: 48-007-3301426 Kód: 48-007-056.1.3.1-0113544 Verzió: 2017-2 | C99: Hő- és hangszigetelések Alátét- és elválasztó rétegek beépítése, védőlemez-, műanyagfátyol-, fólia vagy műanyagfilc egy rétegben, átlapolással, rögzítés nélkül, padló, födém szigeteléseknél, vízszintes felületen AUSTROTHERM polietilén fólia, 0,09 mm vastagságú, 2 m szélességű | D99: 30.85 | E99: m2 | H99: =ROUND(D99*F99,0) -> 0 | I99: =ROUND(D99*G99,0) -> 0
A100: 4. | B100: ÉNGY kód: 48-007-2063985 Kód: 48-007-041.1.1.1.2-0090757 Verzió: 2017-2 | C100: Hő- és hangszigetelések Födém; Padló hőszigetelő anyag elhelyezése, vízszintes felületen, aljzatbeton alá, úsztató rétegként, expandált polisztirolhab lemezzel ISOVER EPS 150 S 6 polisztirolhab lemez 60 mm, Ë?D =0,032 (W/mK) 1000*500 mm lemezméret, egyenes él | D100: 30.85 | E100: m2 | H100: =ROUND(D100*F100,0) -> 0 | I100: =ROUND(D100*G100,0) -> 0
A101: 5. | B101: ÉNGY kód: 48-007-1942180 Kód: 48-007-041.2.4-0611331 Verzió: 2017-2 | C101: Hő- és hangszigetelések Födém; Padló peremszigetelés elhelyezése úsztatott aljzatbeton esetén, térhálósított polietilén habcsíkkal POLIFOAM N 3010 dilatációs habcsík, (92) / 100 mm, Kód: 85012831 | D101: 47.85 | E101: m | H101: =ROUND(D101*F101,0) -> 0 | I101: =ROUND(D101*G101,0) -> 0
...

Sheet Óvoda bővítés
A1: Költségvetés kiírás
A2: Nagylengyel, Bölcsőde és Óvoda felújítás, bővítés
A3: Bővítés
A5: Sorszám | B5: Tételszám | C5: Tétel megnevezése | D5: Mennyiség | F5: Anyag e. | G5: Díj e. | H5: Anyag ö. | I5: Díj ö.
A6: 15. | B6: Zsaluzás és állványozás
A7: 1. | B7: ÉNGY kód: 15-003-0011366 Kód: 15-003-002.1.1.1.1 Verzió: 2017-2 | C7: Oszlop, pillér zsaluzás Oszlopzsaluzás, állandó keresztmetszetű, négyszögű, fa zsaluzattal, kitámasztással, 3 m magasságig, 60 cm oldalméretig | D7: 12.8 | E7: m2 | H7: =ROUND(D7*F7,0) -> 0 | I7: =ROUND(D7*G7,0) -> 0
A8: 2. | B8: ÉNGY kód: 15-004-0011712 Kód: 15-004-021.1.1.1.1.1 Verzió: 2017-2 | C8: Téráthidaló szerkezetek zsaluzása Gerendazsaluzás, 20-60 cm oldalmagasság között, fa zsaluzattal, alátámasztó állvánnyal, tagozattal vagy anélkül készítve, 3 m magasságig | D8: 11.53 | E8: m2 | H8: =ROUND(D8*F8,0) -> 0 | I8: =ROUND(D8*G8,0) -> 0
A9: 3. | B9: ÉNGY kód: 15-004-0011942 Kód: 15-004-031.1 Verzió: 2017-2 | C9: Téráthidaló szerkezetek zsaluzása Koszorúzsaluzás, zsaluzattól függetlenül, párkány nélkül | D9: 26.7 | E9: m2 | H9: =ROUND(D9*F9,0) -> 0 | I9: =ROUND(D9*G9,0) -> 0
A10: 4. | B10: ÉNGY kód: 15-004-0011603 Kód: 15-004-003 Verzió: 2017-2 | C10: Téráthidaló szerkezetek zsaluzása Síklemez zsaluzása, fa zsaluzattal,keskeny sávban 15 cm szélességig | D10: 5.7 | E10: m2 | H10: =ROUND(D10*F10,0) -> 0 | I10: =ROUND(D10*G10,0) -> 0
A11: 5. | B11: ÉNGY kód: 15-004-0011983 Kód: 15-004-051.1 Verzió: 2017-2 | C11: Téráthidaló szerkezetek zsaluzása Egyeneskarú lépcső zsaluzása,alátámasztó állvánnyal,4,00 m magasságig, a fokok és lépcsőoldalak bezsaluzásával,fa zsaluzattal | D11: 14.5 | E11: m2 | H11: =ROUND(D11*F11,0) -> 0 | I11: =ROUND(D11*G11,0) -> 0
C12: Munkanem összesen | H12: =SUM(H7:H11) -> 0 | I12: =SUM(I7:I11) -> 0
A13: 21. | B13: Irtás, föld- és sziklamunka
A14: 1. | B14: ÉNGY kód: 21-002-0014456 Kód: 21-002-001.1 Verzió: 2017-2 | C14: Előkészítő földmunka Humuszos termőréteg, termőföld leszedése,terítése gépi erővel, 18%-os terephajlásig,bármilyen talajban, szállítással, 50,0 m-ig | D14: 22 | E14: m3 | H14: =ROUND(D14*F14,0) -> 0 | I14: =ROUND(D14*G14,0) -> 0
A15: 2. | B15: ÉNGY kód: 21-003-0014705 Kód: 21-003-005.1.1.1 Verzió: 2017-2 | C15: Munkagödör és munkaárok készítése Munkaárok földkiemelése közművesített területen,kézi erővel, bármely konzisztenciájú talajban, dúcolás nélkül, 2,0 m2 szelvényig, I-II. talajosztály | D15: 67 | E15: m3 | H15: =ROUND(D15*F15,0) -> 0 | I15: =ROUND(D15*G15,0) -> 0
A16: 3. | B16: ÉNGY kód: 21-004-0015675 Kód: 21-004-005.1.2.1 Verzió: 2017-2 | C16: Alakító földmunka Tükörkészítés tömörítés nélkül, sík felületen kézi erővel talajosztály: V-VI. | D16: 86.95 | E16: m2 | H16: =ROUND(D16*F16,0) -> 0 | I16: =ROUND(D16*G16,0) -> 0
A17: 4. | B17: ÉNGY kód: 21-008-0016246 Kód: 21-008-002.2.3 Verzió: 2017-2 | C17: Tömörítés Tömörítés bármely tömörítési osztálybangépi erővel, kis felületen, tömörségi fok: 95% | D17: 13.04 | E17: m3 | H17: =ROUND(D17*F17,0) -> 0 | I17: =ROUND(D17*G17,0) -> 0
A18: 5. | B18: ÉNGY kód: 21-011-0016423 Kód: 21-011-002.1.1 Verzió: 2017-2 | C18: Kiegészítő tevékenységek Fejtett föld tolása és elteregetése, I-IV. osztályú talajban, 20,0 m távolságig | D18: 89 | E18: m3 | H18: =ROUND(D18*F18,0) -> 0 | I18: =ROUND(D18*G18,0) -> 0
A19: 6. | B19: ÉNGY kód: 21-011-4019315 Kód: 21-011-007.2-0120802 Verzió: 2017-2 | C19: Kiegészítő tevékenységek Feltöltések alap- és lábazati falak közéés alagsori vagy alá nem pincézett földszintipadozatok alá, az anyag szétterítésével,mozgatásával, kézi döngöléssel, osztályozatlan kavicsból Nyers homokos bányakavics, NHK 0/32 P-TT, Jánossomorja | D19: 27 | E19: m3 | H19: =ROUND(D19*F19,0) -> 0 | I19: =ROUND(D19*G19,0) -> 0
A20: 7. | B20: ÉNGY kód: 21-011-0016762 Kód: 21-011-011.3 Verzió: 2017-2 | C20: Kiegészítő tevékenységek Építési törmelék konténeres elszállítása, lerakása,lerakóhelyi díjjal, 5,0 m3-es konténerbe | D20: 3 | E20: db | H20: =ROUND(D20*F20,0) -> 0 | I20: =ROUND(D20*G20,0) -> 0
A21: 8. | B21: ÉNGY kód: 21-011-0016825 Kód: 21-011-012 Verzió: 2017-2 | C21: Kiegészítő tevékenységek Munkahelyi depóniából építési törmelék konténerbe rakása, kézi erővel, önálló munka esetén elszámolva,konténer szállítás nélkül | D21: 15 | E21: m3 | H21: =ROUND(D21*F21,0) -> 0 | I21: =ROUND(D21*G21,0) -> 0
C22: Munkanem összesen | H22: =SUM(H14:H21) -> 0 | I22: =SUM(I14:I21) -> 0
A23: 23. | B23: Síkalapozás
A24: 1. | B24: ÉNGY kód: 23-003-0024243 Kód: 23-003-002-0222210 Verzió: 2017-2 | C24: Beton- és vasbetonalapok Vasbeton sáv-, talp- lemezalap készítéseszivattyús technológiával,.....minőségű betonból C16/20 - X0v(H) képlékeny kavicsbeton keverék CEM 32,5 pc. D?max = 16 mm, m = 6,6 finomsági modulussal | D24: 17.83 | E24: m3 | H24: =ROUND(D24*F24,0) -> 0 | I24: =ROUND(D24*G24,0) -> 0
C25: Munkanem összesen | H25: =SUM(H24) -> 0 | I25: =SUM(I24) -> 0
A26: 31. | B26: Helyszíni beton és vasbeton munkák
A27: 1. | B27: ÉNGY kód: 31-001-1236700 Kód: 31-001-001.2.1-0220955 Verzió: 2017-2 | C27: Betonacél-szerelés Betonacél helyszíni szerelése függőleges vagy vízszintes tartószerkezetbe, bordás betonacélból, 4-10 mm átmérő között FERALPI hidegen húzott bordás betonacél, 6 m-es szálban, BHB55.50 8 mm | D27: 0.72 | E27: t | H27: =ROUND(D27*F27,0) -> 0 | I27: =ROUND(D27*G27,0) -> 0
B28: ÉNGY kód: 31-001-1236712 Kód: 31-001-001.2.1-0220956 Verzió: 2017-2 | C28: Betonacél-szerelés Betonacél helyszíni szerelése függőleges vagy vízszintes tartószerkezetbe, bordás betonacélból, 4-10 mm átmérő között FERALPI hidegen húzott bordás betonacél, 6 m-es szálban, BHB55.50 10 mm | D28: 0.112 | E28: t | H28: =ROUND(D28*F28,0) -> 0 | I28: =ROUND(D28*G28,0) -> 0
B29: ÉNGY kód: 31-001-1236891 Kód: 31-001-001.2.2-0221002 Verzió: 2017-2 | C29: Betonacél-szerelés Betonacél helyszíni szerelése függőleges vagy vízszintes tartószerkezetbe, bordás betonacélból, 12-20 mm átmérő között FERALPI bordás betonacél, 6 m-es szálban, B500B 12 mm | D29: 0.353 | E29: t | H29: =ROUND(D29*F29,0) -> 0 | I29: =ROUND(D29*G29,0) -> 0
B30: ÉNGY kód: 31-001-1236913 Kód: 31-001-001.2.2-0221004 Verzió: 2017-2 | C30: Betonacél-szerelés Betonacél helyszíni szerelése függőleges vagy vízszintes tartószerkezetbe, bordás betonacélból, 12-20 mm átmérő között FERALPI bordás betonacél, 6 m-es szálban, B500B 16 mm | D30: 0.14 | E30: t | H30: =ROUND(D30*F30,0) -> 0 | I30: =ROUND(D30*G30,0) -> 0
A31: 2. | B31: ÉNGY kód: 31-001-0035184 Kód: 31-001-002-0452005 Verzió: 2017-2 | C31: Betonacél-szerelés Hegesztett betonacél háló szerelése tartószerkezetbe FERALPI Sp10K1515 építési síkháló; 5,00 x 2,15 m; 150 x 150 mm osztással {átmérő} 10,0 / 10,0 BHB55.50 | D31: 0.842 | E31: t | H31: =ROUND(D31*F31,0) -> 0 | I31: =ROUND(D31*G31,0) -> 0
B32: ÉNGY kód: 31-001-0035143 Kód: 31-001-002-0452001 Verzió: 2017-2 | C32: Betonacél-szerelés Hegesztett betonacél háló szerelése tartószerkezetbe FERALPI Sp4K1515 építési síkháló; 5,00 x 2,15 m; 150 x 150 mm osztással {átmérő} 4,00 / 4,00 BHB55.50 | D32: 0.27 | E32: t | H32: =ROUND(D32*F32,0) -> 0 | I32: =ROUND(D32*G32,0) -> 0
A33: 3. | B33: ÉNGY kód: 31-011-0042594 Kód: 31-011-021.2.1.1-0240110 Verzió: 2017-2 | C33: Függőleges szerkezetek betonozása Oszlop, pillér készítése, vasbetonból, kör-, sokszög vagy négyzet keresztmetszettel,X0v(H), XC1, XC2, XC3, XF2, XF3, XF4,XC2-XD2-XF1, XC3-XD2-XF1 környezeti osztályú,kissé képlékeny vagy képlékeny konzisztenciájú betonból, vibrálással, kézi továbbítással C25/30 - X0v(H) kissé képlékeny kavicsbeton keverék CEM 52,5 pc. D?max = 16 mm, m = 6,5 finomsági modulussal | D33: 0.96 | E33: m3 | H33: =ROUND(D33*F33,0) -> 0 | I33: =ROUND(D33*G33,0) -> 0
A34: 4. | B34: ÉNGY kód: 31-021-0045621 Kód: 31-021-001.1.2-0240110 Verzió: 2017-2 | C34: Téráthidaló szerkezetek készítése Vasbeton gerenda készítése, X0v(H), XC1, XC2, XC3 környezeti osztályú, kissé képlékeny vagy képlékeny konzisztenciájú betonból, kézi bedolgozással, vibrátoros tömörítéssel, 401-750 cm2 keresztmetszet között C25/30 - X0v(H) kissé képlékeny kavicsbeton keverék CEM 52,5 pc. D?max = 16 mm, m = 6,5 finomsági modulussal | D34: 1.23 | E34: m3 | H34: =ROUND(D34*F34,0) -> 0 | I34: =ROUND(D34*G34,0) -> 0
A35: 5. | B35: ÉNGY kód: 31-021-0049674 Kód: 31-021-002.1.2-0240110 Verzió: 2017-2 | C35: Téráthidaló szerkezetek készítése Vasbeton koszorú készítése,X0v(H), XC1, XC2, XC3 környezeti osztályú,kissé képlékeny vagy képlékeny konzisztenciájú betonból, kézi bedolgozással, vibrátoros tömörítéssel, 400 cm2 keresztmetszet felett C25/30 - X0v(H) kissé képlékeny kavicsbeton keverék CEM 52,5 pc. D?max = 16 mm, m = 6,5 finomsági modulussal | D35: 3.7 | E35: m3 | H35: =ROUND(D35*F35,0) -> 0 | I35: =ROUND(D35*G35,0) -> 0
A36: 6. | B36: ÉNGY kód: 31-021-0051975 Kód: 31-021-004.1.1-0240110 Verzió: 2017-2 | C36: Téráthidaló szerkezetek készítése Sík vagy alulbordás vasbeton lemez készítése, 15°-os hajlásszögig,X0v(H), XC1, XC2, XC3 környezeti osztályú,kissé képlékeny vagy képlékeny konzisztenciájú betonból, kézi erővel, vibrátoros tömörítéssel, 12 cm vastagságig C25/30 - X0v(H) kissé képlékeny kavicsbeton keverék CEM 52,5 pc. D?max = 16 mm, m = 6,5 finomsági modulussal | D36: 18.66 | E36: m3 | H36: =ROUND(D36*F36,0) -> 0 | I36: =ROUND(D36*G36,0) -> 0
A37: 7. | B37: ÉNGY kód: 31-051-1672722 Kód: 31-051-009.1.2-0314362 Verzió: 2017-2 | C37: Egyéb beton és vasbeton szerkezetek Friss betonfelület vegyszeres utókezelése kézi felhordással, utókezelőszer vízszintes betonfelületekhez MUREXIN BA 2 kipárolgásgátló | D37: 93.52 | E37: m2 | H37: =ROUND(D37*F37,0) -> 0 | I37: =ROUND(D37*G37,0) -> 0
A38: 8. | B38: ÉNGY kód: 31-031-0063305 Kód: 31-031-002.1.1 Verzió: 2017-2 | C38: Aljzat készítése helyszínen kevert esztrichből Úsztatott vagy fűtési esztrich készítése,helyszínen kevert, cementbázisú esztrichből, C12 szilárdsági osztálynak megfelelően 6 cm vastagságban | D38: 85.58 | E38: m2 | H38: =ROUND(D38*F38,0) -> 0 | I38: =ROUND(D38*G38,0) -> 0
B39: ÉNGY kód: 31-021-0060426 Kód: 31-021-010.11.1.1-0250710 Verzió: 2017-2 | C39: Építőmesteri munkák Helyszíni beton és vasbeton munkák Téráthidaló szerkezetek készítése Lépcső készítése vasbetonból, X0v(H), XC1, XC2, XC3 környezeti osztályú,kissé képlékeny vagy képlékeny konzisztenciájú betonból, helyszíni keveréssel, kézi bedolgozással és vibrátoros tömörítéssel C30/37 - X0v(H) kissé képlékeny kavicsbeton keverék CEM 52,5 pc. D?max = 32 mm, m = 7,3 finomsági modulussal | D39: 1.79 | E39: m3 | H39: =ROUND(D39*F39,0) -> 0 | I39: =ROUND(D39*G39,0) -> 0
C40: Munkanem összesen | H40: =SUM(H27:H39) -> 0 | I40: =SUM(I27:I39) -> 0
A41: 32. | B41: Előregyártott épületszerkezeti elem elhelyezése és szerelése
A42: 1. | B42: ÉNGY kód: 32-002-0071295 Kód: 32-002-001.1.1-0119902 Verzió: 2017-2 | C42: Előregyártott azonnal terhelhető nyílásáthidaló elhelyezése (válaszfal áthidalók is), tartószerkezetre, csomóponti kötés nélkül,falazat szélességű áthidaló elemekből vagy több elem egymás mellé sorolásával, a teherhordó falváll előkészítésével,kiegészítő hőszigetelés elhelyezése nélkül, 0,10 t/db tömegig, égetett agyag-kerámia köpenyes nyílásáthidaló POROTHERM elemmagas nyílásáthidaló, 1,25 m | D42: 24 | E42: db | H42: =ROUND(D42*F42,0) -> 0 | I42: =ROUND(D42*G42,0) -> 0
A43: 2. | B43: ÉNGY kód: 32-002-0071310 Kód: 32-002-001.1.1-0119904 Verzió: 2017-2 | C43: Előregyártott nyílásáthidalók, kiváltók elhelyezése tartószerkezetre Előregyártott azonnal terhelhető nyílásáthidaló elhelyezése (válaszfal áthidalók is), tartószerkezetre, csomóponti kötés nélkül,falazat szélességű áthidaló elemekből vagy több elem egymás mellé sorolásával, a teherhordó falváll előkészítésével,kiegészítő hőszigetelés elhelyezése nélkül, 0,10 t/db tömegig, égetett agyag-kerámia köpenyes nyílásáthidaló POROTHERM elemmagas nyílásáthidaló, 1,75 m | D43: 4 | E43: db | H43: =ROUND(D43*F43,0) -> 0 | I43: =ROUND(D43*G43,0) -> 0
A44: 3. | B44: ÉNGY kód: 32-002-0071334 Kód: 32-002-001.1.1-0119906 Verzió: 2017-2 | C44: Előregyártott azonnal terhelhető nyílásáthidaló elhelyezése (válaszfal áthidalók is), tartószerkezetre, csomóponti kötés nélkül,falazat szélességű áthidaló elemekből vagy több elem egymás mellé sorolásával, a teherhordó falváll előkészítésével,kiegészítő hőszigetelés elhelyezése nélkül, 0,10 t/db tömegig, égetett agyag-kerámia köpenyes nyílásáthidaló POROTHERM elemmagas nyílásáthidaló, 2,25 m | D44: 4 | E44: db | H44: =ROUND(D44*F44,0) -> 0 | I44: =ROUND(D44*G44,0) -> 0
A45: 5. | B45: ÉNGY kód: 32-002-3277386 Kód: 32-002-001.1.1-0112063 Verzió: 2017-2 | C45: Előregyártott nyílásáthidalók, kiváltók elhelyezése tartószerkezetre Előregyártott azonnal terhelhető nyílásáthidaló elhelyezése (válaszfal áthidalók is), tartószerkezetre, csomóponti kötés nélkül,falazat szélességű áthidaló elemekből vagy több elem egymás mellé sorolásával, a teherhordó falváll előkészítésével,kiegészítő hőszigetelés elhelyezése nélkül, 0,10 t/db tömegig, égetett agyag-kerámia köpenyes nyílásáthidaló LEIER MDE 125 áthidaló 23,8x8 cm méretben égetett kerámia köpenyelemmel, 125 cm, Cikkszám: HUTMD5029 | D45: 2 | E45: db | H45: =ROUND(D45*F45,0) -> 0 | I45: =ROUND(D45*G45,0) -> 0
A46: 6. | B46: ÉNGY kód: 32-002-3277425 Kód: 32-002-001.1.1-0112067 Verzió: 2017-2 | C46: Előregyártott azonnal terhelhető nyílásáthidaló elhelyezése (válaszfal áthidalók is), tartószerkezetre, csomóponti kötés nélkül,falazat szélességű áthidaló elemekből vagy több elem egymás mellé sorolásával, a teherhordó falváll előkészítésével,kiegészítő hőszigetelés elhelyezése nélkül, 0,10 t/db tömegig, égetett agyag-kerámia köpenyes nyílásáthidaló LEIER MDE 225 áthidaló 23,8x8 cm méretben égetett kerámia köpenyelemmel, 225 cm, Cikkszám: HUTMD5033 | D46: 1 | E46: db | H46: =ROUND(D46*F46,0) -> 0 | I46: =ROUND(D46*G46,0) -> 0
C47: Munkanem összesen | H47: =SUM(H42:H46) -> 0 | I47: =SUM(I42:I46) -> 0
A48: 33. | B48: Falazás és egyéb kőműves munkák
A49: 1. | B49: ÉNGY kód: 33-001-2390643 Kód: 33-001-001.1.2.3.1.2.1-0128103 Verzió: 2017-2 | C49: Teherhordó és kitöltő falazatok Teherhordó és kitöltő falazat készítése, égetett agyag-kerámia termékekből, nútféderes elemekből, 300 mm falvastagságban, 300x250x240 vagy 300×250×238 mm-es méretű kézi falazóblokkból, falazó, cementes mészhabarcsba falazva BAKONYTHERM 30 N+F belső teherhordó fal, 300x250x240 mm, I.o., Cikkszám:TÉG13 M 1 (Hf10-mc) falazó, cementes mészhabarcs | D49: 39.59 | E49: m2 | H49: =ROUND(D49*F49,0) -> 0 | I49: =ROUND(D49*G49,0) -> 0
A50: 2. | B50: ÉNGY kód: 33-001-0090876 Kód: 33-001-001.3.4.4.1.1-0010402 Verzió: 2017-2 | C50: Teherhordó és kitöltő falazatok Teherhordó és kitöltő falazat készítése, beton, könnyűbeton falazóblokk vagy zsaluzóelem termékekből, 300 mm falvastagságban, 300x500x230 mm-es méretű beton zsaluzóelemből, kitöltő betonnal, betonacél beépítéssel Leier ZS 30-as zsaluzóelem, 300/500/230 mm,C16/20-16/kissé képlékeny kavicsbeton, B 38.24:8 mmátmérőjű betonacél | D50: 5.33 | E50: m2 | H50: =ROUND(D50*F50,0) -> 0 | I50: =ROUND(D50*G50,0) -> 0
A51: 3. | B51: ÉNGY kód: 33-011-2390970 Kód: 33-011-001.1.2.1.2.1.1-0132202 Verzió: 2017-2 | C51: Válaszfalak Válaszfal építése, égetett agyag-kerámia termékekből, nútféderes elemekből, 100 mm falvastagságban, 500x238x100 mm-es méretű válaszfallapból, falazó, cementes mészhabarcsba falazva BAKONYTHERM 10/50 N+F válaszfal, 500x238×100 mm, Cikkszám: TÉG10M 1 (Hf10-mc) falazó, cementes mészhabarcs | D51: 65.31 | E51: m2 | H51: =ROUND(D51*F51,0) -> 0 | I51: =ROUND(D51*G51,0) -> 0
C52: Munkanem összesen | H52: =SUM(H49:H51) -> 0 | I52: =SUM(I49:I51) -> 0
A53: 34. | B53: Fém- és könnyű épületszerkezetek szerelése
A54: 1. | B54: ÉNGY kód: 34-001-0096181 Kód: 34-001-001.1.1 Verzió: 2017-2 | C54: Acél tartószerkezetek (első- és másodrendű teherhordó szerkezetek) Épület-acélváz szerelése tömör szerelvényekből, 20,0 kg/m2 tömegig | D54: 93.52 | E54: m2 | H54: =ROUND(D54*F54,0) -> 0 | I54: =ROUND(D54*G54,0) -> 0
A55: 2. | B55: K tétel | C55: Acél tartószerkezetek (első- és másodrendű teherhordó szerkezetek) Z-C-ň könnyűgerenda rendszer elemeinek elhelyezése, | D55: 1223.25 | E55: kg | H55: =ROUND(D55*F55,0) -> 0 | I55: =ROUND(D55*G55,0) -> 0
C56: Munkanem összesen | H56: =SUM(H54:H55) -> 0 | I56: =SUM(I54:I55) -> 0
A57: 35. | B57: Ácsmunka
B58: Bitumenlemezes tető
A59: 1. | B59: ÉNGY kód: 35-004-0108943 Kód: 35-004-001.1 Verzió: 2017-2 | C59: Deszkázások Deszkázás bitumenes zsindely alá | D59: 200.646 | E59: m2 | H59: =ROUND(D59*F59,0) -> 0 | I59: =ROUND(D59*G59,0) -> 0
A60: 2. | B60: ÉNGY kód: 35-002-2800561 Kód: 35-002-003-0192805 Verzió: 2017-2 | C60: Tetőfólia- és alátétlemez-terítés Párafékező, párazáró fólia terítése 15 cm-es átfedéssel BRAMAC Veltitech 120 párazáró tetőfólia 120 g/m2 | D60: 100.323 | E60: m2 | H60: =ROUND(D60*F60,0) -> 0 | I60: =ROUND(D60*G60,0) -> 0
A61: 3. | B61: ÉNGY kód: 35-011-0109681 Kód: 35-011-001.3.1-0251013 Verzió: 2017-2 | C61: Faanyag gomba és rovar kártevők elleni védelme Faanyag gomba és rovarkártevő elleni megelőző, egyidejűleg égéskésleltető védelme mázolási technológiával felhordott anyaggal PYRONATUR faanyag rovar, gomba és tűz elleni védőszer | D61: 401.292 | E61: m2 | H61: =ROUND(D61*F61,0) -> 0 | I61: =ROUND(D61*G61,0) -> 0
B62: Bejárati előtető
A63: 4. | B63: ÉNGY kód: 35-001-0108354 Kód: 35-001-001.4-0680041 Verzió: 2017-2 | C63: Fa fedélszékek Fa tetőszerkezetek bármely rendszerbenfaragott (fűrészelt) fából, 0,031-0,036 m3/m2 bedolgozott famennyiség között Fűrészelt gerenda 150x200-300x300 mm 3-6.5 m I.o. | D63: 11.01 | E63: m2 | H63: =ROUND(D63*F63,0) -> 0 | I63: =ROUND(D63*G63,0) -> 0
A64: 5. | B64: "K-tétel" | C64: Látszó fa szerkezet gyalulása | D64: 1 | E64: klt | H64: =ROUND(D64*F64,0) -> 0 | I64: =ROUND(D64*G64,0) -> 0
A65: 6. | B65: ÉNGY kód: 35-002-1534074 Kód: 35-002-004.2-0192802 Verzió: 2017-2 | C65: Tetőfólia- és alátétlemez-terítés Páraáteresztő, vízzáró alátétfólia, alátétfedés, vagy alátétszigetelés terítése 15 cm-es átfedéssel (ellenléc külön tételben számolandó) ragasztóval vagy ragasztószalaggal folytonosítva BRAMAC UNIVERSAL ECO-2S páraáteresztő tetőfólia, 140 g/m2 | D65: 12.5 | E65: m2 | H65: =ROUND(D65*F65,0) -> 0 | I65: =ROUND(D65*G65,0) -> 0
A66: 7. | B66: ÉNGY kód: 35-003-0108721 Kód: 35-003-001.1-0410024 Verzió: 2017-2 | C66: Tetőlécezések, szelemenek Tetőlécezés hornyolt cserépfedés alá Fenyő tetőléc 3-6,5 m 25x50 mm | D66: 12.5 | E66: m2 | H66: =ROUND(D66*F66,0) -> 0 | I66: =ROUND(D66*G66,0) -> 0
A67: 8. | B67: ÉNGY kód: 35-003-0108830 Kód: 35-003-001.6 Verzió: 2017-2 | C67: Tetőlécezések, szelemenek Tetőlécezés tetőfelület ellenlécezésének elkészítése | D67: 12.5 | E67: m | H67: =ROUND(D67*F67,0) -> 0 | I67: =ROUND(D67*G67,0) -> 0
A68: 9. | B68: ÉNGY kód: 35-004-0108960 Kód: 35-004-001.3 Verzió: 2017-2 | C68: Deszkázások Deszkázás ereszdeszkázás gyalult, hornyolt deszkával, hajópadlóval | D68: 12.5 | E68: m2 | H68: =ROUND(D68*F68,0) -> 0 | I68: =ROUND(D68*G68,0) -> 0
C69: Munkanem összesen | H69: =SUM(H59:H68) -> 0 | I69: =SUM(I59:I68) -> 0
A70: 36. | B70: Vakolás és rabicolás
A71: 1. | B71: ÉNGY kód: 36-001-0110776 Kód: 36-001-001.1.1-0550030 Verzió: 2017-2 | C71: Hagyományos vakolatok Sima oldalfalvakolat készítése kézi felhordással, belső, vakoló cementes mészhabarccsal, téglafelületen, 1,5 cm vastagságban Hvb4-mc, belső, vakoló cementes mészhabarccsal ésHs60-cm, felületképző (simító), meszescementhabarccsal | D71: 228.89 | E71: m2 | H71: =ROUND(D71*F71,0) -> 0 | I71: =ROUND(D71*G71,0) -> 0
C72: Munkanem összesen | H72: =SUM(H71:H71) -> 0 | I72: =SUM(I71:I71) -> 0
A73: 39. | B73: Szárazépítés
A74: 1. | B74: ÉNGY kód: 39-003-1535105 Kód: 39-003-001.1.1.4.2-2210231 Verzió: 2017-2 | C74: Gipszkarton álmennyezetek és tetőtéri belső borítások Szerelt gipszkarton álmennyezet fém vázszerkezetre (duplasoros),választható függesztéssel,csavarfejek és illesztések alapglettelve (Q2 minőségben), nem látszó bordázattal, 50 cm bordatávolsággal (CD50/27), 10 m2 összefüggő felületig, 1 rtg. tűzgátló és impregnált 15 mm vtg. gipszkarton borítással KNAUF HF 15 tűzgátló és impregnált építőlemez, 15 mm HRAK 1250/2000, direkt függesztővel, Cikksz: 37407120 | D74: 12.18 | E74: m2 | H74: =ROUND(D74*F74,0) -> 0 | I74: =ROUND(D74*G74,0) -> 0
A75: 2. | B75: ÉNGY kód: 39-003-0161306 Kód: 39-003-001.1.2.3.2-0210203 Verzió: 2017-2 | C75: Gipszkarton álmennyezetek és tetőtéri belső borítások Szerelt gipszkarton álmennyezet fém vázszerkezetre (duplasoros),választható függesztéssel,csavarfejek és illesztések alapglettelve (Q2 minőségben), nem látszó bordázattal, 50 cm bordatávolsággal (CD50/27), 10 m2 összefüggő felület felett, 1 rtg. tűzgátló 15 mm vtg. gipszkarton borítással KNAUF F 15 tűzgátló építőlemez, 15 mm HRAK 1250/2000, függesztő huzallal, Cikksz: 32407120 | D75: 73.4 | E75: m2 | H75: =ROUND(D75*F75,0) -> 0 | I75: =ROUND(D75*G75,0) -> 0
C76: Munkanem összesen | H76: =SUM(H74:H75) -> 0 | I76: =SUM(I74:I75) -> 0
A77: 41. | B77: Tetőfedés
B78: Bitumenlemezes tető
A79: 1. | B79: ÉNGY kód: 41-005-2619094 Kód: 41-005-001.5.1-0418173 Verzió: 2017-2 | C79: Bitumenes zsindelyfedés Bitumenes zsindelyfedés készítése szegezhető aljzatra,(alátétlemez külön tételben elszámolva), üvegfátyol hordozóréteg modifikált elasztomer bitumenes fedőbevonatú, teljes felületén öntapadó, 10-15° tetőhajlásszög között ICOPAL EAGLE SBS bitumenes zsindely, teljes felületen öntapadó, hódfarkú, vörös | D79: 100.323 | E79: m2 | H79: =ROUND(D79*F79,0) -> 0 | I79: =ROUND(D79*G79,0) -> 0
A80: 2. | B80: ÉNGY kód: 41-005-0211446 Kód: 41-005-019.1.1-0418083 Verzió: 2017-2 | C80: Bitumenes zsindelyfedés Bitumenes zsindelyfedésnél alátétlemez elhelyezése szegezhető aljzatra, 2,5 mm vastagságig ICOPAL V 13 üvegfátyolbetétes alátétlemez 2 mm vtg. | D80: 100.323 | E80: m2 | H80: =ROUND(D80*F80,0) -> 0 | I80: =ROUND(D80*G80,0) -> 0
A81: 3. | B81: ÉNGY kód: 41-005-2620194 Kód: 41-005-019.4.6-0418173 Verzió: 2017-2 | C81: Bitumenes zsindelyfedés Bitumenes zsindelyfedésnél kezdő ereszelem elhelyezése üvegfátyol hordozóréteg modifikált elasztomer bitumenes, teljes felületén öntapadó zsindelyből kialakítva ICOPAL EAGLE SBS bitumenes zsindely, teljes felületen öntapadó, hódfarkú, vörös | D81: 10.65 | E81: m | H81: =ROUND(D81*F81,0) -> 0 | I81: =ROUND(D81*G81,0) -> 0
A82: 4. | B82: ÉNGY kód: 41-005-0215366 Kód: 41-005-019.9.2-0418086 Verzió: 2017-2 | C82: Bitumenes zsindelyfedés Bitumenes zsindelyfedésnél szellőzőidom beépítése az aljzatnyílás kialakításával, műanyagból ICOPAL műanyag pontszellőző, fekete | D82: 10 | E82: db | H82: =ROUND(D82*F82,0) -> 0 | I82: =ROUND(D82*G82,0) -> 0
B83: Bejárati előtető
A84: 5. | B84: ÉNGY kód: 41-003-2256842 Kód: 41-003-021.1.2-0116362 Verzió: 2017-2 | C84: Égetett agyag anyagú cserépfedések Egyszeres fedés húzott, hornyolt tetőcserepekkel, rögzítés nélkül, 31-35° tetőhajlásszög között CREATON Róna egyenesvágású alapcserép natúrvörös | D84: 12.5 | E84: m2 | H84: =ROUND(D84*F84,0) -> 0 | I84: =ROUND(D84*G84,0) -> 0
A85: 6. | B85: ÉNGY kód: 41-003-3288095 Kód: 41-003-029.2-0116371 Verzió: 2017-2 | C85: Égetett agyag anyagú cserépfedések Egyszeres húzott, hornyolt tetőcserép fedésnél, szélcserép, szegélycserép elhelyezése CREATON Róna egyenesvágású szegélycserép (bal/jobb) (3,4 db/m), natúrvörös | D85: 1.8 | E85: m | H85: =ROUND(D85*F85,0) -> 0 | I85: =ROUND(D85*G85,0) -> 0
A86: 7. | B86: ÉNGY kód: 41-003-2257171 Kód: 41-003-029.21-0116364 Verzió: 2017-2 | C86: Égetett agyag anyagú cserépfedések Egyszeres húzott, hornyolt tetőcserép fedésnél, szellőzőcserép elhelyezése CREATON Róna egyenesvágású szellőző alapcserép, szellőző keresztmetszet 10 cm2 (5,5 db/m) natúrvörös | D86: 2 | E86: db | H86: =ROUND(D86*F86,0) -> 0 | I86: =ROUND(D86*G86,0) -> 0
A87: 8. | B87: ÉNGY kód: 41-003-3288202 Kód: 41-003-029.22-0116657 Verzió: 2017-2 | C87: Égetett agyag anyagú cserépfedések Egyszeres húzott, hornyolt tetőcserép fedésnél, szellőzőelem, szellőzőszalag vagy lezárófésű elhelyezése eresznél CREATON fésűs ereszszellőző elem, 1 m fekete, minden cseréptípushoz | D87: 7.76 | E87: m | H87: =ROUND(D87*F87,0) -> 0 | I87: =ROUND(D87*G87,0) -> 0
A88: 9. | B88: ÉNGY kód: 41-003-3288214 Kód: 41-003-029.22-0117070 Verzió: 2017-2 | C88: Égetett agyag anyagú cserépfedések Egyszeres húzott, hornyolt tetőcserép fedésnél, szellőzőelem, szellőzőszalag vagy lezárófésű elhelyezése eresznél CREATON szellőző szalag, 5 m minden színben | D88: 7.76 | E88: m | H88: =ROUND(D88*F88,0) -> 0 | I88: =ROUND(D88*G88,0) -> 0
A89: 10. | B89: ÉNGY kód: 41-003-0201442 Kód: 41-003-029.31-0196051 Verzió: 2017-2 | C89: Égetett agyag anyagú cserépfedések Egyszeres húzott, hornyolt tetőcserép fedésnél, hófogó- és biztonsági rendszer kiegészítők elhelyezése tetőfelületen LEIER fém hófogó, téglavörös, barna, fekete, rézbarna, vörös , Cikkszám: HUTX1849 | D89: 5 | E89: db | H89: =ROUND(D89*F89,0) -> 0 | I89: =ROUND(D89*G89,0) -> 0
C90: Munkanem összesen | H90: =SUM(H78:H89) -> 0 | I90: =SUM(I78:I89) -> 0
A91: 42. | B91: Aljzatkészítés, hideg- és melegburkolatok készítése
B92: Hidegburkolatok
A93: 1. | B93: ÉNGY kód: 42-011-2262820 Kód: 42-011-001.1.1.1-0215098 Verzió: 2017-2 | C93: Hidegburkolatok aljzatelőkészítése Fal-, pillér és oszlopburkolat hordozószerkezetének felületelőkészítése beltérben, tégla, beton és vakolt alapfelületen, felületelőkészítő alapozó és tapadóhíd felhordása egy rétegben Baumit Grund, nedvszívó alapfelület alapozására, Cikkszám: 960163 | D93: 19.85 | E93: m2 | H93: =ROUND(D93*F93,0) -> 0 | I93: =ROUND(D93*G93,0) -> 0
A94: 2. | B94: ÉNGY kód: 42-011-2262832 Kód: 42-011-001.1.1.2-0415537 Verzió: 2017-2 | C94: Hidegburkolatok aljzatelőkészítése Fal-, pillér és oszlopburkolat hordozószerkezetének felületelőkészítése beltérben, tégla, beton és vakolt alapfelületen, kenhető víz- és páraszigetelés felhordása egy rétegben, hajlaterősítő szalag elhelyezésével Baumacol Protect vízzáró vastagfólia, Cikkszám: 956523 | D94: 5 | E94: m2 | H94: =ROUND(D94*F94,0) -> 0 | I94: =ROUND(D94*G94,0) -> 0
A95: 3. | B95: ÉNGY kód: 42-011-2263120 Kód: 42-011-002.1.1.1-0215098 Verzió: 2017-2 | C95: Hidegburkolatok aljzatelőkészítése Padlóburkolat hordozószerkezetének felületelőkészítése beltérben, beton alapfelületen felületelőkészítő alapozó és tapadóhíd felhordása egy rétegben Baumit Grund, nedvszívó alapfelület alapozására, Cikkszám: 960163 | D95: 25.43 | E95: m2 | H95: =ROUND(D95*F95,0) -> 0 | I95: =ROUND(D95*G95,0) -> 0
A96: 4. | B96: ÉNGY kód: 42-011-2263190 Kód: 42-011-002.1.1.4.1-0215096 Verzió: 2017-2 | C96: Hidegburkolatok aljzatelőkészítése Padlóburkolat hordozószerkezetének felületelőkészítése beltérben, beton alapfelületen önterülő felületkiegyenlítés készítése 5 mm átlagos rétegvastagságban Baumit Nivello Quattro önterülő aljzatkiegyenlítő, max.: 20 mm, Cikkszám: 156204 | D96: 25.43 | E96: m2 | H96: =ROUND(D96*F96,0) -> 0 | I96: =ROUND(D96*G96,0) -> 0
A97: 5. | B97: ÉNGY kód: 42-012-2398826 Kód: 42-012-001.1.1.1.1.3-0415533 Verzió: 2017-2 | C97: Fal-, pillér, oszlop és lábazatburkolatok ragasztóhabarcsba Fal-, pillér-, oszlopburkolat készítése beltérben, tégla, beton, vakolt alapfelületen, mázas kerámiával, kötésben vagy hálósan, 3-5 mm vtg. ragasztóba rakva, 1-10 mm fugaszélességgel, 25x25 - 40x40 cm közötti lapmérettel Baumit Baumacol FlexUni, C2TE, flexibilis csemperagasztó fokozott igénybevételre, Cikkszám: 156202Baumit Baumacol PremiumFuge, CG2 WA, flexibilis fugázóanyag, max. 8 mm-es fugákhoz, színes, Cikkszám: 961021-38 | D97: 19.85 | E97: m2 | H97: =ROUND(D97*F97,0) -> 0 | I97: =ROUND(D97*G97,0) -> 0
A98: 6. | B98: ÉNGY kód: 42-022-2266216 Kód: 42-022-001.1.1.2.1.1-0415533 Verzió: 2017-2 | C98: Padló- és lábazatburkolatok ragasztóhabarcsba Padlóburkolat készítése, beltérben, tégla, beton, vakolt alapfelületen, gres, kőporcelán lappal, kötésben vagy hálósan, 3-5 mm vtg. ragasztóba rakva, 1-10 mm fugaszélességgel, 20x20 - 40x40 cm közötti lapmérettel Baumit Baumacol FlexUni, C2TE, flexibilis csemperagasztó fokozott igénybevételre, Cikkszám: 156202Baumit Baumacol PremiumFuge, CG2 WA, flexibilis fugázóanyag, max. 8 mm-es fugákhoz, színes, Cikkszám: 961021-38 | D98: 25.43 | E98: m2 | H98: =ROUND(D98*F98,0) -> 0 | I98: =ROUND(D98*G98,0) -> 0
A99: 7. | B99: ÉNGY kód: 42-022-2622075 Kód: 42-022-002.1.2.1.2-0415534 Verzió: 2017-2 | C99: Padló- és lábazatburkolatok ragasztóhabarcsba Lábazatburkolat készítése, beltérben, gres, kőporcelán lappal, egyenes, egysoros kivitelben, 3-5 mm ragasztóba rakva, 1-10 mm fugaszélességgel,10 cm magasságig, 45×45 - 60×60 cm közötti lapmérettel Baumit Baumacol FlexTop, C2TES1, flexibilis csemperagasztó, fokozottan terhelhető, Cikkszám: 156201Baumit Baumacol PremiumFuge, CG2 WA, flexibilis fugázóanyag, max. 8 mm-es fugákhoz, színes, Cikkszám: 961021-38 | D99: 21.45 | E99: m | H99: =ROUND(D99*F99,0) -> 0 | I99: =ROUND(D99*G99,0) -> 0
B100: Linóleum burkolat tételei
A101: 8. | B101: ÉNGY kód: 42-041-2288935 Kód: 42-041-002.1.1-0215096 Verzió: 2017-2 | C101: Melegburkolatok aljzatelőkészítése Újonnan készült aljzat kiegyenlítése ragasztott parketta,valamint rugalmas burkolat alá (nagy igénybevétel) szabványos cementresztrich és betonpadló felület előkészítése, 3 mm vastagságban Baumit Nivello Quattro önterülő aljzatkiegyenlítő + Baumit Grund, nedvszívó alapfelület alapozására | D101: 60.15 | E101: m2 | H101: =ROUND(D101*F101,0) -> 0 | I101: =ROUND(D101*G101,0) -> 0
...

Sheet Óvoda tetőtér
A1: Költségvetés kiírás
A2: Nagylengyel, Bölcsőde és Óvoda felújítás, bővítés
A3: Tetőtér kialakítása
A5: Sorszám | B5: Tételszám | C5: Tétel megnevezése | D5: Mennyiség | F5: Anyag e. | G5: Díj e. | H5: Anyag ö. | I5: Díj ö.
A6: 21. | B6: Irtás, föld- és sziklamunka
A7: 1. | B7: ÉNGY kód: 21-011-0016762 Kód: 21-011-011.3 Verzió: 2017-2 | C7: Kiegészítő tevékenységek Építési törmelék konténeres elszállítása, lerakása,lerakóhelyi díjjal, 5,0 m3-es konténerbe | D7: 6 | E7: db | H7: =ROUND(D7*F7,0) -> 0 | I7: =ROUND(D7*G7,0) -> 0
A8: 2. | B8: ÉNGY kód: 21-011-0016825 Kód: 21-011-012 Verzió: 2017-2 | C8: Kiegészítő tevékenységek Munkahelyi depóniából építési törmelék konténerbe rakása, kézi erővel, önálló munka esetén elszámolva,konténer szállítás nélkül | D8: 30 | E8: m3 | H8: =ROUND(D8*F8,0) -> 0 | I8: =ROUND(D8*G8,0) -> 0
C9: Munkanem összesen | H9: =SUM(H7:H8) -> 0 | I9: =SUM(I7:I8) -> 0
A10: 31. | B10: Helyszíni beton és vasbeton munkák
A11: 1. | B11: ÉNGY kód: 31-031-0063305 Kód: 31-031-002.1.1 Verzió: 2017-2 | C11: Aljzat készítése helyszínen kevert esztrichből Úsztatott vagy fűtési esztrich készítése,helyszínen kevert, cementbázisú esztrichből, C12 szilárdsági osztálynak megfelelően 6 cm vastagságban | D11: 49 | E11: m2 | H11: =ROUND(D11*F11,0) -> 0 | I11: =ROUND(D11*G11,0) -> 0
C12: Munkanem összesen | H12: =SUM(H11:H11) -> 0 | I12: =SUM(I11:I11) -> 0
A13: 35. | B13: Ácsmunka
A14: 1. | B14: ÉNGY kód: 35-000-0108132 Kód: 35-000-002.1 Verzió: 2017-2 | C14: Bontási munkák Tetőlécezés bontása bármely egyszeres hornyolt cserépfedés alatt | D14: 370.09 | E14: m2 | H14: =ROUND(D14*F14,0) -> 0 | I14: =ROUND(D14*G14,0) -> 0
A15: 2. | B15: ÉNGY kód: 35-000-0108161 Kód: 35-000-004 Verzió: 2017-2 | C15: Bontási munkák Tetődeszkázat bontása | D15: 0 | E15: m2 | H15: =ROUND(D15*F15,0) -> 0 | I15: =ROUND(D15*G15,0) -> 0
A16: 3. | B16: ÉNGY kód: 35-002-1534074 Kód: 35-002-004.2-0192802 Verzió: 2017-2 | C16: Tetőfólia- és alátétlemez-terítés Páraáteresztő, vízzáró alátétfólia, alátétfedés, vagy alátétszigetelés terítése 15 cm-es átfedéssel (ellenléc külön tételben számolandó) ragasztóval vagy ragasztószalaggal folytonosítva BRAMAC UNIVERSAL ECO-2S páraáteresztő tetőfólia, 140 g/m2 | D16: 370.09 | E16: m2 | H16: =ROUND(D16*F16,0) -> 0 | I16: =ROUND(D16*G16,0) -> 0
A17: 4. | B17: ÉNGY kód: 35-003-0108721 Kód: 35-003-001.1-0410024 Verzió: 2017-2 | C17: Tetőlécezések, szelemenek Tetőlécezés hornyolt cserépfedés alá Fenyő tetőléc 3-6,5 m 25x50 mm | D17: 370.09 | E17: m2 | H17: =ROUND(D17*F17,0) -> 0 | I17: =ROUND(D17*G17,0) -> 0
A18: 5. | B18: ÉNGY kód: 35-003-0108830 Kód: 35-003-001.6 Verzió: 2017-2 | C18: Tetőlécezések, szelemenek Tetőlécezés tetőfelület ellenlécezésének elkészítése | D18: 370 | E18: m | H18: =ROUND(D18*F18,0) -> 0 | I18: =ROUND(D18*G18,0) -> 0
A19: 6. | B19: ÉNGY kód: 35-004-0108960 Kód: 35-004-001.3 Verzió: 2017-2 | C19: Deszkázások Deszkázás ereszdeszkázás gyalult, hornyolt deszkával, hajópadlóval | D19: 13.922 | E19: m2 | H19: =ROUND(D19*F19,0) -> 0 | I19: =ROUND(D19*G19,0) -> 0
A20: 7. | B20: ÉNGY kód: 35-004-0108972 Kód: 35-004-001.4 Verzió: 2017-2 | C20: Deszkázások Deszkázás homlokdeszka léctagozattal, gyalulva, 30 cm szélességig | D20: 10.8 | E20: m | H20: =ROUND(D20*F20,0) -> 0 | I20: =ROUND(D20*G20,0) -> 0
A21: 8. | B21: ÉNGY kód: 35-021-1356093 Kód: 35-021-001-0251013 Verzió: 2017-2 | C21: Faanyag lángmentesítés Faanyag lángmentesítésemázolási technológiával felhordott anyaggal,egyszeri bevonat PYRONATUR faanyag rovar, gomba és tűz elleni védőszer | D21: 301.23 | E21: m2 | H21: =ROUND(D21*F21,0) -> 0 | I21: =ROUND(D21*G21,0) -> 0
A22: 9. | B22: ÉNGY kód: 35-002-2800561 Kód: 35-002-003-0192805 Verzió: 2017-2 | C22: Tetőfólia- és alátétlemez-terítés Párafékező, párazáró fólia terítése 15 cm-es átfedéssel BRAMAC Veltitech 120 párazáró tetőfólia 120 g/m2 | D22: 370.09 | E22: m2 | H22: =ROUND(D22*F22,0) -> 0 | I22: =ROUND(D22*G22,0) -> 0
A23: 10. | B23: ÉNGY kód: 35-007-0109551 Kód: 35-007-001.2-0680041 Verzió: 2017-2 Módosító tétel | C23: Fafödémek Fafödémek, borított gerendafödém24 mm-es alsó, felső deszkázással,faragott (fűrészelt) fából Fűrészelt gerenda 150x200-300x300 mm 3-6.5 m I.o. 6 és 6* rétegrendhez kapcsolódó kialakítással | D23: 75.01 | E23: m2 | H23: =ROUND(D23*F23,0) -> 0 | I23: =ROUND(D23*G23,0) -> 0
A24: 11. | B24: ÉNGY kód: 35-080-0109912 Kód: 35-080-004.2-0310010 Verzió: 2017-2 | C24: Szerkezeti részek cseréje, átalakítása Szelemen, szarufa, lécezés cseréje; szarufák Lucfenyő fűrészelt gerenda 100x150 mm-es | D24: 1 | E24: fam3 | H24: =ROUND(D24*F24,0) -> 0 | I24: =ROUND(D24*G24,0) -> 0
A25: 12. | B25: ÉNGY kód: 35-002-2666834 Kód: 35-002-003-0115002 Verzió: 2017-2 | C25: Tetőfólia- és alátétlemez-terítés Párafékező, párazáró fólia terítése 15 cm-es átfedéssel DÖRKEN DELTA REFLEX hálóerősítésű, alumínium kasírozású, polietilén lég- és párazáró, hővisszaverő fólia | D25: 301.99 | E25: m2 | H25: =ROUND(D25*F25,0) -> 0 | I25: =ROUND(D25*G25,0) -> 0
C26: Munkanem összesen | H26: =SUM(H14:H25) -> 0 | I26: =SUM(I14:I25) -> 0
A27: 37. | B27: Égéstermék elvezetés
A28: 1. | B28: ÉNGY kód: 37-000-0130754 Kód: 37-000-001.1 Verzió: 2017-2 | C28: Kémény-, füstgázrendszerek bontása Kémények bontása, épületen belül | D28: 0.96 | E28: m3 | H28: =ROUND(D28*F28,0) -> 0 | I28: =ROUND(D28*G28,0) -> 0
A29: 2. | B29: ÉNGY kód: 37-000-0130766 Kód: 37-000-001.2 Verzió: 2017-2 | C29: Kémény-, füstgázrendszerek bontása Kémények bontása, tetőn kívül | D29: 0.32 | E29: m3 | H29: =ROUND(D29*F29,0) -> 0 | I29: =ROUND(D29*G29,0) -> 0
A30: 3. | B30: K-tétel | C30: Lebontott kémény helyének javítása | D30: 2 | E30: db | H30: =ROUND(D30*F30,0) -> 0 | I30: =ROUND(D30*G30,0) -> 0
C31: Munkanem összesen | H31: =SUM(H28:H30) -> 0 | I31: =SUM(I28:I30) -> 0
A32: 39. | B32: Szárazépítés
A33: 1. | B33: ÉNGY kód: 39-001-0160053 Kód: 39-001-053.1.3-0120031 Verzió: 2017-2 | C33: Gipszkarton válaszfal szerkezetek CW fém vázszerkezetre szerelt válaszfal 2 x 2 rtg. tűzgátló,12,5 mm vtg. gipszkarton borítással, hőszigeteléssel,csavarfejek és illesztések glettelve (Q1), egyszeres, CW 100-06 mm vtg. tartóvázzal RIGIPS tűzgátló építőlemez RF 12,5 mm, ásványi szálas hőszigetelés | D33: 6.97 | E33: m2 | H33: =ROUND(D33*F33,0) -> 0 | I33: =ROUND(D33*G33,0) -> 0
A34: 2. | B34: K-tétel | C34: Mint előző tétel, de 19cm vastag szerkezet, teljes keresztmetszeti szigeteléssel | D34: 23.72 | E34: m2 | H34: =ROUND(D34*F34,0) -> 0 | I34: =ROUND(D34*G34,0) -> 0
A35: 3. | B35: K-tétel | C35: Mint előző tétel, de 19cm vastag szerkezet, teljes keresztmetszeti szigeteléssel | D35: 48.47 | E35: m2 | H35: =ROUND(D35*F35,0) -> 0 | I35: =ROUND(D35*G35,0) -> 0
A36: 4. | B36: ÉNGY kód: 39-005-1540063 Kód: 39-005-002.2.3-0120031 Verzió: 2017-2 | C36: Speciális gipszkarton szerkezetek Szabadon álló előtétfal készítése,üveggyapot szigetelőanyag kitöltéssel, 2 rtg. gipszkarton borítással, 100 mm széles profilvázra szerelve RIGIPS 2 rtg. RF 12,5 tűzgátló gipszkarton + 50 mm szigetelőanyag (11 kg/m3), Th=0,5 óra | D36: 9.51 | E36: m2 | H36: =ROUND(D36*F36,0) -> 0 | I36: =ROUND(D36*G36,0) -> 0
A37: 5. | B37: ÉNGY kód: 39-003-4166176 Kód: 39-003-006.1.7.2-0210202 Verzió: 2017-2 | C37: Gipszkarton álmennyezetek és tetőtéri belső borítások Tetőtéri borítás készítése, ferde vagy vízszintes kivitelben, szigetelés nélkül, csavarfejek és illesztések alapglettelve (Q2 minőségben), szarufákhoz rögzítve, fa lécvázra, 2 rtg. tűzgátló 12,5 mm vtg. gipszkarton lemezből KNAUF F 13 tűzgátló építőlemez, 12,5 mm HRAK 1250/2000 Cikksz: 32307120 | D37: 75.77 | E37: m2 | H37: =ROUND(D37*F37,0) -> 0 | I37: =ROUND(D37*G37,0) -> 0
C38: Munkanem összesen | H38: =SUM(H33:H37) -> 0 | I38: =SUM(I33:I37) -> 0
A39: 41. | B39: Tetőfedés
A40: 1. | B40: ÉNGY kód: 41-000-0197712 Kód: 41-000-004 Verzió: 2017-2 | C40: Bontások Cserépfedés bontása (bármely rendszerű) | D40: 370.09 | E40: m2 | H40: =ROUND(D40*F40,0) -> 0 | I40: =ROUND(D40*G40,0) -> 0
A41: 2. | B41: ÉNGY kód: 41-003-2256842 Kód: 41-003-021.1.2-0116362 Verzió: 2017-2 | C41: Égetett agyag anyagú cserépfedések Egyszeres fedés húzott, hornyolt tetőcserepekkel, rögzítés nélkül, 31-35° tetőhajlásszög között CREATON Róna egyenesvágású alapcserép natúrvörös | D41: 370.09 | E41: m2 | H41: =ROUND(D41*F41,0) -> 0 | I41: =ROUND(D41*G41,0) -> 0
A42: 3. | B42: ÉNGY kód: 41-003-2257125 Kód: 41-003-029.11-0116407 Verzió: 2017-2 | C42: Égetett agyag anyagú cserépfedések Egyszeres húzott, hornyolt tetőcserép fedésnél, élgerinc készítése kúpcseréppel, kúpcseréprögzítővel,gerincszellőző-szalaggal, fésűs gerincelemmel vagy kúpalátéttel CREATON kerámia hódfarkú/hornyolt/Hargita kúpcserép (típusok: BZ, BM, BG, BMZ) natúrvörös | D42: 18.63 | E42: m | H42: =ROUND(D42*F42,0) -> 0 | I42: =ROUND(D42*G42,0) -> 0
A43: 4. | B43: ÉNGY kód: 41-003-3288042 Kód: 41-003-029.13-0116700 Verzió: 2017-2 | C43: Égetett agyag anyagú cserépfedések Egyszeres húzott, hornyolt tetőcserép fedésnél, élgerinc és taréjgerinc csatlakozásnál 3 tengelyű elosztókúp elhelyezése CREATON elosztókúp, 3 tengelyű natúrvörös, minden cseréptípus | D43: 2 | E43: db | H43: =ROUND(D43*F43,0) -> 0 | I43: =ROUND(D43*G43,0) -> 0
A44: 5. | B44: ÉNGY kód: 41-003-3288095 Kód: 41-003-029.2-0116371 Verzió: 2017-2 | C44: Égetett agyag anyagú cserépfedések Egyszeres húzott, hornyolt tetőcserép fedésnél, szélcserép, szegélycserép elhelyezése CREATON Róna egyenesvágású szegélycserép (bal/jobb) (3,4 db/m), natúrvörös | D44: 10.8 | E44: m | H44: =ROUND(D44*F44,0) -> 0 | I44: =ROUND(D44*G44,0) -> 0
A45: 6. | B45: ÉNGY kód: 41-003-2257171 Kód: 41-003-029.21-0116364 Verzió: 2017-2 | C45: Égetett agyag anyagú cserépfedések Egyszeres húzott, hornyolt tetőcserép fedésnél, szellőzőcserép elhelyezése CREATON Róna egyenesvágású szellőző alapcserép, szellőző keresztmetszet 10 cm2 (5,5 db/m) natúrvörös | D45: 31 | E45: db | H45: =ROUND(D45*F45,0) -> 0 | I45: =ROUND(D45*G45,0) -> 0
A46: 7. | B46: ÉNGY kód: 41-003-3288202 Kód: 41-003-029.22-0116657 Verzió: 2017-2 | C46: Égetett agyag anyagú cserépfedések Egyszeres húzott, hornyolt tetőcserép fedésnél, szellőzőelem, szellőzőszalag vagy lezárófésű elhelyezése eresznél CREATON fésűs ereszszellőző elem, 1 m fekete, minden cseréptípushoz | D46: 69.65 | E46: m | H46: =ROUND(D46*F46,0) -> 0 | I46: =ROUND(D46*G46,0) -> 0
A47: 8. | B47: ÉNGY kód: 41-003-3288214 Kód: 41-003-029.22-0117070 Verzió: 2017-2 | C47: Égetett agyag anyagú cserépfedések Egyszeres húzott, hornyolt tetőcserép fedésnél, szellőzőelem, szellőzőszalag vagy lezárófésű elhelyezése eresznél CREATON szellőző szalag, 5 m minden színben | D47: 69.65 | E47: m | H47: =ROUND(D47*F47,0) -> 0 | I47: =ROUND(D47*G47,0) -> 0
A48: 9. | B48: ÉNGY kód: 41-003-2257210 Kód: 41-003-029.3-0116407 Verzió: 2017-2 | C48: Égetett agyag anyagú cserépfedések Egyszeres húzott, hornyolt tetőcserép fedésnél, taréjgerinc készítése kúpcseréppel, kúpcseréprögzítővel,gerincszellőző-szalaggal, fésűs gerincelemmel vagy kúpalátéttel CREATON kerámia hódfarkú/hornyolt/Hargita kúpcserép (típusok: BZ, BM, BG, BMZ) natúrvörös | D48: 31.32 | E48: m | H48: =ROUND(D48*F48,0) -> 0 | I48: =ROUND(D48*G48,0) -> 0
A49: 10. | B49: ÉNGY kód: 41-003-0201442 Kód: 41-003-029.31-0196051 Verzió: 2017-2 | C49: Égetett agyag anyagú cserépfedések Egyszeres húzott, hornyolt tetőcserép fedésnél, hófogó- és biztonsági rendszer kiegészítők elhelyezése tetőfelületen LEIER fém hófogó, téglavörös, barna, fekete, rézbarna, vörös , Cikkszám: HUTX1849 | D49: 150 | E49: db | H49: =ROUND(D49*F49,0) -> 0 | I49: =ROUND(D49*G49,0) -> 0
A50: 11. | B50: ÉNGY kód: 41-003-3622314 Kód: 41-003-029.31-0116558 Verzió: 2017-2 | C50: Égetett agyag anyagú cserépfedések Egyszeres húzott, hornyolt tetőcserép fedésnél, hófogó- és biztonsági rendszer kiegészítők elhelyezése tetőfelületen CREATON alumínium járórács rendszer 150 x 25 cm toldási lehetőséggel (3 db alapelem, 3 db járórács tartóval) minden cseréptipus, minden szín | D50: 3 | E50: db | H50: =ROUND(D50*F50,0) -> 0 | I50: =ROUND(D50*G50,0) -> 0
C51: Munkanem összesen | H51: =SUM(H40:H50) -> 0 | I51: =SUM(I40:I50) -> 0
A52: 42. | B52: Aljzatkészítés, hideg- és melegburkolatok készítése
B53: Fogadó szerkezet kialakítása
A54: 1. | B54: K-tétel | C54: 3x12mm vtg Sopro FliesenDammplatte (FDP558) poliészter rostlap feszültségmentesítő lemez elhelyezése, flexibilis vékony ágyazóhabarccsal, Sopro Haftprimer S (HPS763) tapadóhíddal helyett standard szerkezet OSB-lapból | D54: 66.5 | E54: m2 | H54: =ROUND(D54*F54,0) -> 0 | I54: =ROUND(D54*G54,0) -> 0
B55: Hidegburkolatok
A56: 2. | B56: ÉNGY kód: 42-011-2262832 Kód: 42-011-001.1.1.2-0415537 Verzió: 2017-2 | C56: Hidegburkolatok aljzatelőkészítése Fal-, pillér és oszlopburkolat hordozószerkezetének felületelőkészítése beltérben, tégla, beton és vakolt alapfelületen, kenhető víz- és páraszigetelés felhordása egy rétegben, hajlaterősítő szalag elhelyezésével Baumacol Protect vízzáró vastagfólia, Cikkszám: 956523 | D56: 2 | E56: m2 | H56: =ROUND(D56*F56,0) -> 0 | I56: =ROUND(D56*G56,0) -> 0
A57: 3. | B57: ÉNGY kód: 42-011-2262873 Kód: 42-011-001.1.2.1-0215098 Verzió: 2017-2 | C57: Hidegburkolatok aljzatelőkészítése Fal-, pillér és oszlopburkolat hordozószerkezetének felületelőkészítése beltérben, gipszkarton alapfelületen felületelőkészítő alapozó és tapadóhíd felhordása egy rétegben Baumit Grund, nedvszívó alapfelület alapozására, Cikkszám: 960163 | D57: 22.9 | E57: m2 | H57: =ROUND(D57*F57,0) -> 0 | I57: =ROUND(D57*G57,0) -> 0
A58: 4. | B58: ÉNGY kód: 42-011-2263120 Kód: 42-011-002.1.1.1-0215098 Verzió: 2017-2 | C58: Hidegburkolatok aljzatelőkészítése Padlóburkolat hordozószerkezetének felületelőkészítése beltérben, beton alapfelületen felületelőkészítő alapozó és tapadóhíd felhordása egy rétegben Baumit Grund, nedvszívó alapfelület alapozására, Cikkszám: 960163 | D58: 6.1 | E58: m2 | H58: =ROUND(D58*F58,0) -> 0 | I58: =ROUND(D58*G58,0) -> 0
A59: 5. | B59: ÉNGY kód: 42-011-2263190 Kód: 42-011-002.1.1.4.1-0215096 Verzió: 2017-2 | C59: Hidegburkolatok aljzatelőkészítése Padlóburkolat hordozószerkezetének felületelőkészítése beltérben, beton alapfelületen önterülő felületkiegyenlítés készítése 5 mm átlagos rétegvastagságban Baumit Nivello Quattro önterülő aljzatkiegyenlítő, max.: 20 mm, Cikkszám: 156204 | D59: 6.1 | E59: m2 | H59: =ROUND(D59*F59,0) -> 0 | I59: =ROUND(D59*G59,0) -> 0
A60: 6. | B60: ÉNGY kód: 42-012-2399356 Kód: 42-012-001.1.2.1.1.3-0415533 Verzió: 2017-2 | C60: Fal-, pillér, oszlop és lábazatburkolatok ragasztóhabarcsba Fal-, pillér-, oszlopburkolat készítése beltérben, gipszkarton alapfelületen, mázas kerámiával, kötésben vagy hálósan, 3-5 mm vtg. ragasztóba rakva, 1-10 mm fugaszélességgel, 25x25 - 40x40 cm közötti lapmérettel Baumit Baumacol FlexUni, C2TE, flexibilis csemperagasztó fokozott igénybevételre, Cikkszám: 156202Baumit Baumacol PremiumFuge, CG2 WA, flexibilis fugázóanyag, max. 8 mm-es fugákhoz, színes, Cikkszám: 961021-38 | D60: 22.9 | E60: m2 | H60: =ROUND(D60*F60,0) -> 0 | I60: =ROUND(D60*G60,0) -> 0
A61: 7. | B61: ÉNGY kód: 42-022-2266216 Kód: 42-022-001.1.1.2.1.1-0415533 Verzió: 2017-2 | C61: Padló- és lábazatburkolatok ragasztóhabarcsba Padlóburkolat készítése, beltérben, tégla, beton, vakolt alapfelületen, gres, kőporcelán lappal, kötésben vagy hálósan, 3-5 mm vtg. ragasztóba rakva, 1-10 mm fugaszélességgel, 20x20 - 40x40 cm közötti lapmérettel Baumit Baumacol FlexUni, C2TE, flexibilis csemperagasztó fokozott igénybevételre, Cikkszám: 156202Baumit Baumacol PremiumFuge, CG2 WA, flexibilis fugázóanyag, max. 8 mm-es fugákhoz, színes, Cikkszám: 961021-38 | D61: 6.1 | E61: m2 | H61: =ROUND(D61*F61,0) -> 0 | I61: =ROUND(D61*G61,0) -> 0
B62: Szőnyegpadló burkolat tételei
A63: 8. | B63: ÉNGY kód: 42-041-2288935 Kód: 42-041-002.1.1-0215096 Verzió: 2017-2 | C63: Melegburkolatok aljzatelőkészítése Újonnan készült aljzat kiegyenlítése ragasztott parketta,valamint rugalmas burkolat alá (nagy igénybevétel) szabványos cementresztrich és betonpadló felület előkészítése, 3 mm vastagságban Baumit Nivello Quattro önterülő aljzatkiegyenlítő + Baumit Grund, nedvszívó alapfelület alapozására | D63: 42.9 | E63: m2 | H63: =ROUND(D63*F63,0) -> 0 | I63: =ROUND(D63*G63,0) -> 0
A64: 9. | B64: ÉNGY kód: 42-041-2288952 Kód: 42-041-002.1.2-0215096 Verzió: 2017-2 | C64: Melegburkolatok aljzatelőkészítése Újonnan készült aljzat kiegyenlítése ragasztott parketta,valamint rugalmas burkolat alá (nagy igénybevétel) szabványos cementresztrich és betonpadló felület előkészítése, többlet minden 1 mm vastagságban Baumit Nivello Quattro önterülő aljzatkiegyenlítő, max.: 20 mm, Cikkszám: 156204 | D64: 42.9 | E64: m2 | H64: =ROUND(D64*F64,0) -> 0 | I64: =ROUND(D64*G64,0) -> 0
A65: 10. | B65: ÉNGY kód: 42-042-1680576 Kód: 42-042-024.7 Verzió: 2017-2 | C65: Szakipari munkák Aljzatkészítés, hideg- és melegburkolatok készítése Fa- és rugalmas aljzatburkolatok Textilburkolatok fektetése szabványos, kiegyenlített aljzatra, szőnyegpadlóból, feszített eljárással | D65: 42.9 | E65: m2 | H65: =ROUND(D65*F65,0) -> 0 | I65: =ROUND(D65*G65,0) -> 0
A66: 11. | B66: ÉNGY kód: 42-042-0307084 Kód: 42-042-031.4.7 Verzió: 2017-2 | C66: Fa- és rugalmas aljzatburkolatok Lábazat kialakítása, poliolefin burkolatból, falábazat (székléc) készítése | D66: 56.63 | E66: m | H66: =ROUND(D66*F66,0) -> 0 | I66: =ROUND(D66*G66,0) -> 0
C67: Munkanem összesen | H67: =SUM(H54:H66) -> 0 | I67: =SUM(I54:I66) -> 0
A68: 43. | B68: Bádogozás
A69: 1. | B69: ÉNGY kód: 43-000-0330732 Kód: 43-000-001 Verzió: 2017-2 | C69: Bontási munkák Függőereszcsatorna bontása,50 cm kiterített szélességig | D69: 69.65 | E69: m | H69: =ROUND(D69*F69,0) -> 0 | I69: =ROUND(D69*G69,0) -> 0
A70: 2. | B70: ÉNGY kód: 43-000-0330773 Kód: 43-000-005 Verzió: 2017-2 | C70: Bontási munkák Lefolyó csatorna bontása50 cm kiterített szélességig | D70: 24 | E70: m | H70: =ROUND(D70*F70,0) -> 0 | I70: =ROUND(D70*G70,0) -> 0
A71: 3. | B71: ÉNGY kód: 43-000-0330790 Kód: 43-000-007 Verzió: 2017-2 | C71: Bontási munkák Szegélyek, párkány könyöklő bontása,100 cm kiterített szélességig | D71: 6.97 | E71: m | H71: =ROUND(D71*F71,0) -> 0 | I71: =ROUND(D71*G71,0) -> 0
A72: 4. | B72: ÉNGY kód: 43-002-2702200 Kód: 43-002-001.7-0411342 Verzió: 2017-2 | C72: Csatornák Függőereszcsatorna szerelése, félkörszelvényű,bármilyen kiterített szélességben, horganyzott acéllemezből ZAMBELLI függőereszcsatorna, félkör szelvényű, külső peremes horganyzott acél, Ksz: 33 cm, Cikkszám:124133-4000 | D72: 69.65 | E72: m | H72: =ROUND(D72*F72,0) -> 0 | I72: =ROUND(D72*G72,0) -> 0
A73: 5. | B73: ÉNGY kód: 43-002-2702614 Kód: 43-002-011.6-0411392 Verzió: 2017-2 | C73: Csatornák Lefolyócső szerelése kör keresztmetszettel,bármilyen kiterített szélességgel, horganyzott acéllemezből ZAMBELLI lefolyócső körszelvényű, {átmérő}120 mm horganyzott acél, belső korc, Cikkszám:127912-3000-G | D73: 24 | E73: m | H73: =ROUND(D73*F73,0) -> 0 | I73: =ROUND(D73*G73,0) -> 0
A74: 6. | B74: ÉNGY kód: 43-003-0338604 Kód: 43-003-001.1.3.1-0993030 Verzió: 2017-2 | C74: Szegélyek és hajlatok Ereszszegély szerelése keményhéjalású tetőhöz, horganyzott acéllemezből, 40 cm kiterített szélességig LINDAB Seamline FOP szegély tűzihorganyzott acél + Z 275 bevonat, 0,6 mm vtg., kiterített szélesség: 201-250 mm | D74: 69.65 | E74: m | H74: =ROUND(D74*F74,0) -> 0 | I74: =ROUND(D74*G74,0) -> 0
A75: 7. | B75: ÉNGY kód: 43-003-0342871 Kód: 43-003-005.1.3.2-0993033 Verzió: 2017-2 | C75: Szegélyek és hajlatok Kéményszegély szerelése keményhéjalású tetőhöz, horganyzott acéllemezből, 40 cm kiterített szélességgel LINDAB Seamline FOP szegély tűzihorganyzott acél + Z 275 bevonat, 0,6 mm vtg., kiterített szélesség: 351-400 mm | D75: 5.4 | E75: m | H75: =ROUND(D75*F75,0) -> 0 | I75: =ROUND(D75*G75,0) -> 0
A76: 8. | B76: ÉNGY kód: 43-003-0344440 Kód: 43-003-007.1.3.1-0993035 Verzió: 2017-2 | C76: Szegélyek és hajlatok Hajlatbádogozás korcolt kivitelben,kiselemes vagy táblás tetőfedő rendszerhez, egyenes kivitelben, horganyzott acéllemezből, 50-65 cm kiterített szélességgel LINDAB Seamline FOP szegély tűzihorganyzott acél + Z 275 bevonat, 0,6 mm vtg., kiterített szélesség: 451-500 mm | D76: 6.97 | E76: m | H76: =ROUND(D76*F76,0) -> 0 | I76: =ROUND(D76*G76,0) -> 0
C77: Munkanem összesen | H77: =SUM(H69:H76) -> 0 | I77: =SUM(I69:I76) -> 0
A78: 44. | B78: Asztalosszerkezetek elhelyezése
A79: 1. | B79: ÉNGY kód: 44-007-0361993 Kód: 44-007-001.1.1.1.2-0145004 Verzió: 2017-2 | C79: Fa tetőtéri ablakok Fa tetőtéri ablak, válogatott fenyőből, rétegragasztott tokkal, szárnnyal, középső vagy alsó tengely körül nyíló, 15° és 90° közötti hajlásszögű tetőbe, beépített résszellőzővel vagy szellőzőnyílással, alumínium külső borítással, egy lakkréteggel felületkezelve edzett üveg, 1 m2 felett GZL típusú VELUX tetőtéri ablak, fa, MK08, az ablak tokkülmérete: 78×140 cm, Termékkód: GZL MK08 1050 | D79: 6 | E79: db | H79: =ROUND(D79*F79,0) -> 0 | I79: =ROUND(D79*G79,0) -> 0
A80: 2. | B80: ÉNGY kód: 44-007-0363160 Kód: 44-007-002.1-0144355 Verzió: 2017-2 | C80: Fa tetőtéri ablakok Sorolóelem szerelése a már elhelyezett tetőtéri ablakokhoz, fogadó szerelvényekkel, bármilyen méretben, vízszintes Schindler VSS vízszintes sorolóelem, 78x140 cm | D80: 2 | E80: db | H80: =ROUND(D80*F80,0) -> 0 | I80: =ROUND(D80*G80,0) -> 0
C81: Munkanem összesen | H81: =SUM(H79:H80) -> 0 | I81: =SUM(I79:I80) -> 0
A82: 45. | B82: Lakatosszerkezetek elhelyezése
A83: 1. | B83: ÉNGY kód: 45-001-0376630 Kód: 45-001-001.1.3.1-0134014 Verzió: 2017-2 | C83: Ajtók elhelyezése Beltéri ajtók, alapozott acél ajtótok elhelyezése, saroktok szerelésével, Jobbos/Balos falcolt ajtólaphoz EPDM tömítőprofillal, téglafalba való beépítéssel, 625x2000-2000x2125 mm névleges méretig Hörmann 1 részes saroktok, névleges méret:750 x 2125 mm | D83: 1 | E83: db | H83: =ROUND(D83*F83,0) -> 0 | I83: =ROUND(D83*G83,0) -> 0
A84: 2. | B84: ÉNGY kód: 45-001-0376642 Kód: 45-001-001.1.3.1-0134015 Verzió: 2017-2 | C84: Ajtók elhelyezése Beltéri ajtók, alapozott acél ajtótok elhelyezése, saroktok szerelésével, Jobbos/Balos falcolt ajtólaphoz EPDM tömítőprofillal, téglafalba való beépítéssel, 625x2000-2000x2125 mm névleges méretig Hörmann 1 részes saroktok, névleges méret:875 x 2125 mm | D84: 2 | E84: db | H84: =ROUND(D84*F84,0) -> 0 | I84: =ROUND(D84*G84,0) -> 0
A85: 3. | B85: ÉNGY kód: 45-001-0376976 Kód: 45-001-002.1.1-0134086 Verzió: 2017-2 | C85: Ajtók elhelyezése Beltéri ajtólapok elhelyezése, kiegészítő szerelvények nélkül, 40 mm vastag papír rácsbetétes, 3 oldalon falcolt ajtólappal,0,6 mm vastag felületkezelt acéllemezből, 750×2000-1250x2250 mm névleges méretig, egyszárnyú tömör ajtólappal Hörmann ZK beltéri ajtólap, névleges méret: 750 x 2125 mm, RAL 9016 színben | D85: 1 | E85: db | H85: =ROUND(D85*F85,0) -> 0 | I85: =ROUND(D85*G85,0) -> 0
A86: 4. | B86: ÉNGY kód: 45-001-0377005 Kód: 45-001-002.1.1-0134089 Verzió: 2017-2 | C86: Ajtók elhelyezése Beltéri ajtólapok elhelyezése, kiegészítő szerelvények nélkül, 40 mm vastag papír rácsbetétes, 3 oldalon falcolt ajtólappal,0,6 mm vastag felületkezelt acéllemezből, 750×2000-1250x2250 mm névleges méretig, egyszárnyú tömör ajtólappal Hörmann ZK beltéri ajtólap, névleges méret: 875 x 2125 mm, RAL 9016 színben | D86: 2 | E86: db | H86: =ROUND(D86*F86,0) -> 0 | I86: =ROUND(D86*G86,0) -> 0
A87: 5. | B87: ÉNGY kód: 45-001-1937462 Kód: 45-001-003.1-0134755 Verzió: 2017-2 | C87: Ajtók elhelyezése Kiegészítő szerelvények elhelyezése beltéri ajtólapokhoz Rozsdamentes körcímkés kilincsgarnitúra, BB vagy PZ előkészítéssel | D87: 3 | E87: db | H87: =ROUND(D87*F87,0) -> 0 | I87: =ROUND(D87*G87,0) -> 0
A88: 7. | B88: ÉNGY kód: 45-004-0391486 Kód: 45-004-001-0180301 Verzió: 2017-2 | C88: Korlátok, rácsok, kerítések elhelyezése Acél, alumínium erkély-, folyosó- és mellvédkorlátelhelyezése, fészekbe vagy kőcsavaros rögzítéssel Acélcső korlát, 51 mm átmérőjű kézfogóval, alatta 5 sor 18 mm átmérőjű osztással, porszórt felülettel | D88: 1.8 | E88: m | H88: =ROUND(D88*F88,0) -> 0 | I88: =ROUND(D88*G88,0) -> 0
A89: 8. | B89: ÉNGY kód: 45-004-0391501 Kód: 45-004-002-0180301 Verzió: 2017-2 | C89: Korlátok, rácsok, kerítések elhelyezése Lépcsőkorlát elhelyezése fészekbe vagy kőcsavarosrögzítéssel Acélcső korlát, 51 mm átmérőjű kézfogóval, alatta 5 sor 18 mm átmérőjű osztással, porszórt felülettel | D89: 7.5 | E89: m | H89: =ROUND(D89*F89,0) -> 0 | I89: =ROUND(D89*G89,0) -> 0
A90: 9. | B90: ÉNGY kód: 45-004-0391525 Kód: 45-004-003-0990114 Verzió: 2017-2 | C90: Korlátok, rácsok, kerítések elhelyezése Cső kézfogó elhelyezése, falba szerelve Csőkézfogó | D90: 10.5 | E90: m | H90: =ROUND(D90*F90,0) -> 0 | I90: =ROUND(D90*G90,0) -> 0
C91: Munkanem összesen | H91: =SUM(H83:H90) -> 0 | I91: =SUM(I83:I90) -> 0
A92: 47. | B92: Felületképzés (festés, mázolás, tapétázás, korrózióvédelem)
A93: 1. | B93: ÉNGY kód: 47-000-2822503 Kód: 47-000-001.21.3.1.1.2 Verzió: 2017-2 | C93: Felület előkészítések, részmunkák Belső festéseknél felület előkészítése, részmunkák; glettelés, vízbázisú penészgátló glettel, vakolt felületen, bármilyen padozatú helyiségben, tagolt felületen | D93: 206.56 | E93: m2 | H93: =ROUND(D93*F93,0) -> 0 | I93: =ROUND(D93*G93,0) -> 0
A94: 2. | B94: ÉNGY kód: 47-010-3626551 Kód: 47-010-001.1.2-0419506 Verzió: 2017-2 | C94: Alapozások belső-, homlokzati festésekhez Normál nem egyenletes nedvszívóképességűásványi falfelületek alapozása, felületmegerősítése, vizes-diszperziós akril bázisú alapozóval, tagolt felületen POLI-FARBE Inntaler diszperziós mélyalapozó | D94: 206.56 | E94: m2 | H94: =ROUND(D94*F94,0) -> 0 | I94: =ROUND(D94*G94,0) -> 0
A95: 3. | B95: ÉNGY kód: 47-011-3626773 Kód: 47-011-015.1.1.2-0160011 Verzió: 2017-2 | C95: Belsőfestések Diszperziós festés műanyag bázisú vizes-diszperziós fehér vagy gyárilag színezett festékkel, új vagy régi lekapart, előkészített alapfelületen,vakolaton, két rétegben, tagolt sima felületen POLI-FARBE Inntaler diszperziós beltéri falfesték | D95: 206.56 | E95: m2 | H95: =ROUND(D95*F95,0) -> 0 | I95: =ROUND(D95*G95,0) -> 0
A96: 4. | B96: ÉNGY kód: 47-021-3627291 Kód: 47-021-012.1.1-0419523 Verzió: 2017-2 | C96: Acélfelületek mázolása Korróziógátló alapozás acél nyílászáró szerkezeten, műgyanta kötőanyagú, oldószertartalmú festékkel POLI-FARBE Cellkolor korróziógátló alapozó | D96: 6.06 | E96: m2 | H96: =ROUND(D96*F96,0) -> 0 | I96: =ROUND(D96*G96,0) -> 0
A97: 5. | B97: ÉNGY kód: 47-021-3627325 Kód: 47-021-012.4.1-0419523 Verzió: 2017-2 | C97: Acélfelületek mázolása Korróziógátló alapozás cső és regisztercső felületén (NÁ 80-ig),függesztőn és tartóvason, sormosdó állványzaton, műgyanta kötőanyagú, oldószertartalmú festékkel POLI-FARBE Cellkolor korróziógátló alapozó | D97: 10.5 | E97: m | H97: =ROUND(D97*F97,0) -> 0 | I97: =ROUND(D97*G97,0) -> 0
A98: 6. | B98: ÉNGY kód: 47-021-3627383 Kód: 47-021-031.1.1-0160016 Verzió: 2017-2 | C98: Acélfelületek mázolása Acélfelületek átvonó festése acél nyílászáró szerkezeten, műgyanta kötőanyagú, oldószeres festékkel POLI-FARBE Cellkolor oldószeres selyemfényű zománc | D98: 6.06 | E98: m2 | H98: =ROUND(D98*F98,0) -> 0 | I98: =ROUND(D98*G98,0) -> 0
A99: 7. | B99: ÉNGY kód: 47-021-3627446 Kód: 47-021-031.4.1-0160016 Verzió: 2017-2 | C99: Acélfelületek mázolása Acélfelületek átvonó festése cső és regisztercső felületén (NÁ 80-ig), függesztőn és tartóvason,sormosdó állványzaton műgyanta kötőanyagú, oldószeres festékkel POLI-FARBE Cellkolor oldószeres selyemfényű zománc | D99: 10.5 | E99: m | H99: =ROUND(D99*F99,0) -> 0 | I99: =ROUND(D99*G99,0) -> 0
C100: Munkanem összesen | H100: =SUM(H93:H99) -> 0 | I100: =SUM(I93:I99) -> 0
A101: 48. | B101: Szigetelés
...

Sheet Parkoló
A1: Költségvetés kiírás
A2: Nagylengyel, Bölcsőde és Óvoda felújítás, bővítés
A3: Parkoló és kerítés kialakítása
A5: Sorszám | B5: Tételszám | C5: Tétel megnevezése | D5: Mennyiség | F5: Anyag e. | G5: Díj e. | H5: Anyag ö. | I5: Díj ö.
A6: 21. | B6: Irtás, föld- és sziklamunka
A7: 1. | B7: ÉNGY kód: 21-002-0014456 Kód: 21-002-001.1 Verzió: 2017-2 | C7: Előkészítő földmunka Humuszos termőréteg, termőföld leszedése,terítése gépi erővel, 18%-os terephajlásig,bármilyen talajban, szállítással, 50,0 m-ig | D7: 68.41 | E7: m3 | H7: =ROUND(D7*F7,0) -> 0 | I7: =ROUND(D7*G7,0) -> 0
A8: 2. | B8: ÉNGY kód: 21-004-0015675 Kód: 21-004-005.1.2.1 Verzió: 2017-2 | C8: Alakító földmunka Tükörkészítés tömörítés nélkül, sík felületen kézi erővel talajosztály: V-VI. | D8: 207.29 | E8: m2 | H8: =ROUND(D8*F8,0) -> 0 | I8: =ROUND(D8*G8,0) -> 0
A9: 3. | B9: ÉNGY kód: 21-008-0016246 Kód: 21-008-002.2.3 Verzió: 2017-2 | C9: Tömörítés Tömörítés bármely tömörítési osztálybangépi erővel, kis felületen, tömörségi fok: 95% | D9: 41.458 | E9: m3 | H9: =ROUND(D9*F9,0) -> 0 | I9: =ROUND(D9*G9,0) -> 0
A10: 4. | B10: ÉNGY kód: 21-011-0016423 Kód: 21-011-002.1.1 Verzió: 2017-2 | C10: Kiegészítő tevékenységek Fejtett föld tolása és elteregetése, I-IV. osztályú talajban, 20,0 m távolságig | D10: 68.41 | E10: m3 | H10: =ROUND(D10*F10,0) -> 0 | I10: =ROUND(D10*G10,0) -> 0
A11: 5. | B11: ÉNGY kód: 21-003-0014550 Kód: 21-003-001.1.1.1 Verzió: 2017-2 | C11: Munkagödör és munkaárok készítése Lyukfúrás vagy kisméretű földkiemelés, oszlop,alaptest vagy lehorgonyzás részére, kézi erővel, 2 m mélységig, 0,30 m átmérőig, talajosztály: I-II. | D11: 29 | E11: m | H11: =ROUND(D11*F11,0) -> 0 | I11: =ROUND(D11*G11,0) -> 0
C12: Munkanem összesen | H12: =SUM(H7:H11) -> 0 | I12: =SUM(I7:I11) -> 0
A13: 45. | B13: Lakatosszerkezetek elhelyezése
A14: 1. | B14: ÉNGY kód: 45-003-4072305 Kód: 45-003-001.1-0111403 Verzió: 2017-2 | C14: Kapuk és portálszerkezetek elhelyezése Kerítéskapu elhelyezése egyszárnyú kivitelben STEELVENT ELŐD könnyű típusú személykapu szabad nyílás: 1,25 m-ig utólagosan tűzihorganyzott ST10/ háló 1000-1250x1000-1500 mm névleges méret, Cikkszám: 6K080304021800002 | D14: 1 | E14: db | H14: =ROUND(D14*F14,0) -> 0 | I14: =ROUND(D14*G14,0) -> 0
A15: 2. | B15: ÉNGY kód: 45-003-4073133 Kód: 45-003-001.3-0110831 Verzió: 2017-2 | C15: Kapuk és portálszerkezetek elhelyezése Kerítéskapu elhelyezése sínenfutó kivitelben, 6,00 m szabad nyílásméretig STEELVENT TAS könnyű típusú úszókapu szabad nyílás: 4,0 m-ig utólagosan tűzihorganyzott ST10/ háló 3000-4000x1500-2000 mm névleges méret | D15: 1 | E15: db | H15: =ROUND(D15*F15,0) -> 0 | I15: =ROUND(D15*G15,0) -> 0
A16: 3. | B16: ÉNGY kód: 45-004-2819354 Kód: 45-004-031.1.2-0121652 Verzió: 2017-2 | C16: Korlátok, rácsok, kerítések elhelyezése Komplett, zárt, táblás ipari kerítésrendszer rögzítése, oszlopok, valamint mezők folyamatos elhelyezésével, fúrt pontalapokra, az alaptestek kiemelésével,bebetonozásával, normál terepviszonyok mellett 1,51-2,00 m kerítés magasság között STEELVENT ST10/1N tűzihorganyzott, trapézbordás táblás kerítés, hossz: 2,4 m, függőleges szálak távolsága: 80 mm, huzalátmérő: 5 mm, magasság: 1,90 m, Cikkszám: 11010104010500078 | D16: 25.4 | E16: m | H16: =ROUND(D16*F16,0) -> 0 | I16: =ROUND(D16*G16,0) -> 0
A17: 4. | B17: ÉNGY kód: 45-004-0393232 Kód: 45-004-021.1.1-0120007 Verzió: 2017-2 | C17: Korlátok, rácsok, kerítések elhelyezése Tekercses kerítésrendszer építésnél,oszlop elhelyezése 10 %-os tereplejtésig,(az alaptestek kiemelése, betonozása vagy abeton alapzat készítése külön tételben kiírva), kerítés köz- és sarokoszlop elhelyezése, 2,00 m kerítés magasságig STEELVENT ST20/ U5EH+ univerzál típusú horganyzott oszlop, méret: {átmérő}50x1,2x2000 mm, Cikkszám: 3E2I8888888800004 | D17: 0 | E17: db | F17: elmarad
A18: 5. | B18: ÉNGY kód: 45-004-0395990 Kód: 45-004-023.2.2-0120137 Verzió: 2017-2 | C18: Korlátok, rácsok, kerítések elhelyezése Tekercses kerítés szerelése előre elhelyezett oszlopokra, hagyományos drótfonatos kerítésből,(a felerősítő elemek külön tételben kiírva), 1,51-2,00 m kerítés magasság között STEELVENT ST15/1 horganyzott kerítésfonat, huzalvastagság: 1,8 mm, szemméret: 65x65 mm, magasság: 1,80 m, Cikkszám: 351E8888888800003 | D18: 0 | E18: m | F18: elmarad
A19: 6. | B19: ÉNGY kód: 45-004-0397571 Kód: 45-004-024.1-0120364 Verzió: 2017-2 | C19: Korlátok, rácsok, kerítések elhelyezése Kiegészítők elhelyezése tekercses kerítéseknél, feszítőhuzal elhelyezése drótfonatos kerítéseknél,kerítés magasságát 50 cm-ként megosztva STEELVENT műanyagbevonatos feszítőhuzal, súly: 5 kg/100 m, huzalvastagság: 2,5/3,0 mm, Cikkszám: 310A8888888800003 | D19: 0 | E19: m | F19: elmarad
A20: 7. | B20: ÉNGY kód: 45-004-0397784 Kód: 45-004-024.2-0137401 Verzió: 2017-2 | C20: Korlátok, rácsok, kerítések elhelyezése Kiegészítők elhelyezése tekercses kerítéseknél, drótfeszítők elhelyezése, feszítőhuzallalmerevített kerítéseknél DIRICKX N2 műanyagbevonatos merevítő, szín: zöld vagy fehér | D20: 0 | E20: db | F20: elmarad
A21: 8. | B21: ÉNGY kód: 45-004-4074086 Kód: 45-004-024.6-0111953 Verzió: 2017-2 | C21: Korlátok, rácsok, kerítések elhelyezése Kiegészítők elhelyezése tekercses kerítéseknél, díszítő elemek elhelyezése STEELVENT ST21/04 záró sapka ST20/univerzál típusú oszlophoz, átmérő 40 mm, műanyag, Cikkszám: 31028888888800002 | D21: 0 | E21: db | F21: elmarad
C22: Munkanem összesen | H22: =SUM(H14:H21) -> 0 | I22: =SUM(I14:I21) -> 0
A23: 61. | B23: Útburkolatalap és makadámburkolat készítése
A24: 1. | B24: K-tétel | C24: Aszfaltburkolat bevágása "K" szegély telepítéséhez | D24: 3 | E24: m | H24: =ROUND(D24*F24,0) -> 0 | I24: =ROUND(D24*G24,0) -> 0
A25: 2. | B25: ÉNGY kód: 61-011-0676646 Kód: 61-011-003-0118004 Verzió: 2017-2 | C25: Útépítési tevékenység elemei Védő és elválasztó réteg készítése REHAU RAUMAT geotextília PP-ből, fehér, 200 g/m2, 9,0 kN/m, Cikkszám: 241838 | D25: 238.3835 | E25: m2 | H25: =ROUND(D25*F25,0) -> 0 | I25: =ROUND(D25*G25,0) -> 0
C26: Munkanem összesen | H26: =SUM(H24:H25) -> 0 | I26: =SUM(I24:I25) -> 0
A27: 62. | B27: Kőburkolatok készítése
A28: 1. | B28: ÉNGY kód: 62-002-0677495 Kód: 62-002-001.4.1-0613243 Verzió: 2017-2 | C28: Burkolatszegélyek Kiemelt szegély készítése, alapárok kiemelésével,beton alapgerendával és megtámasztással,hézagolással, előregyártott szegélykőből vagy cölöpökből, 25 cm hosszú elemekből LEIER Quartz kiemelt kopóréteges útszegélykő, szürke, 24x15/12x30 cm , Cikkszám: HUTJH4225C12/15 - XN(H) földnedves kavicsbeton keverék CEM 32,5 pc. D?max = 16 mm, m = 6,3 finomsági modulussal | D28: 67.66 | E28: m | H28: =ROUND(D28*F28,0) -> 0 | I28: =ROUND(D28*G28,0) -> 0
A29: 2. | B29: ÉNGY kód: 62-002-3633496 Kód: 62-002-002.3-0619851 Verzió: 2017-2 | C29: Burkolatszegélyek Süllyesztett szegély vagy futósor készítése,alapárok kiemeléssel, beton alapgerendával,hézagolással, 40 cm hosszú előregyártott beton szegélyelemekből Barabás süllyesztett szegély 40x20x15 cm, szürkeC12/15 - XN(H) földnedves kavicsbeton keverék CEM 32,5 pc. D?max = 16 mm, m = 6,3 finomsági modulussal | D29: 18.7 | E29: m | H29: =ROUND(D29*F29,0) -> 0 | I29: =ROUND(D29*G29,0) -> 0
A30: 3. | B30: ÉNGY kód: 62-002-0677781 Kód: 62-002-021.1-0613251 Verzió: 2017-2 | C30: Burkolatszegélyek Egyéb használatos szegélykövek, út és körforgalom szegélyek készítése, alapárok kiemelése nélkül, betonhézagolással, 25 vagy 30 cm hosszú elemekből LEIER K szegélykő, szürke, 25x15/10x25 cm , Cikkszám: HUTJS1078 | D30: 3 | E30: m | H30: =ROUND(D30*F30,0) -> 0 | I30: =ROUND(D30*G30,0) -> 0
A31: 4. | B31: ÉNGY kód: 62-003-0678986 Kód: 62-003-008.1-0613900 Verzió: 2017-2 | C31: Burkolatok Tér- vagy járdaburkolat készítése, betonburkolókőből soros, halszálka, parketta vagykazettás kötésben, homokágyazatba fektetve, 10x20x4, 10x20x5, 10x20x6, 10x20x8 cm-es méretű idomkővel LEIER Piazza 10x20x6 cm, szürke, N+F , Cikkszám: HUTJH4362 | D31: 207.29 | E31: m2 | H31: =ROUND(D31*F31,0) -> 0 | I31: =ROUND(D31*G31,0) -> 0
A32: 5. | B32: ÉNGY kód: 62-003-4111770 Kód: 62-003-006-0120804 Verzió: 2017-2 | C32: Burkolatok Térburkolathoz fagyálló, teherhordó alap készítése,20 cm vastagságban Homokos kavics, HK 0/16 P-TT, Jánossomorja | D32: 41.458 | E32: m3 | H32: =ROUND(D32*F32,0) -> 0 | I32: =ROUND(D32*G32,0) -> 0
C33: Munkanem összesen | H33: =SUM(H28:H32) -> 0 | I33: =SUM(I28:I32) -> 0
A34: 68. | B34: Útpályatartozékok építése
A35: 1. | B35: ÉNGY kód: 68-002-2338235 Kód: 68-002-001.1-0020443 Verzió: 2017-2 | C35: Közúti és vasúti jelzések Közúti jelző- és útbaigazító táblák fémanyagúoszlopainak elhelyezése betonalappal,földmunkával, I-IV. osztályú talajban, 89 mm átmérőjű alumínium oszlop, 1,5-5,5 m hosszú,előregyártott betonalappal Horganyzott tartóoszlop 89x2000 | D35: 1 | E35: db | H35: =ROUND(D35*F35,0) -> 0 | I35: =ROUND(D35*G35,0) -> 0
A36: 2. | B36: ÉNGY kód: 68-002-2338935 Kód: 68-002-002.1-0020053 Verzió: 2017-2 | C36: Közúti és vasúti jelzések Közúti jelző- és útbaigazító táblák felszerelése, útvonaltípust, elsőbbséget szabályozó, utasítástadó, tilalmi, tilalmat, veszélyt, tájékoztatástadó jelzőtáblák és útbaigazítást adó táblák,2-2 bilincskészlettel Alumínium útbaigazítást adó jelzőtábla, fényvisszaverő, 450x450 mm EG * | D36: 1 | E36: db | H36: =ROUND(D36*F36,0) -> 0 | I36: =ROUND(D36*G36,0) -> 0
A37: 3. | B37: ÉNGY kód: 68-003-2340705 Kód: 68-003-001.1.2-0020281 Verzió: 2017-2 | C37: Útburkolati jelek Útburkolati jelek készítése, hagyományos oldószeres festékkel, kézi jel Vízesbázisú festékek Plastiroute UWS * | D37: 17 | E37: m2 | H37: =ROUND(D37*F37,0) -> 0 | I37: =ROUND(D37*G37,0) -> 0
A38: 4. | B38: K-tétel | C38: Kültérben helyszínen öntött akrilith vezetősáv készítése 3 soros kialakítással, soronként 5cm szélességgel | D38: 21 | E38: m | H38: =ROUND(D38*F38,0) -> 0 | I38: =ROUND(D38*G38,0) -> 0
C39: Munkanem összesen | H39: =SUM(H35:H38) -> 0 | I39: =SUM(I35:I38) -> 0
A41: Parkoló összesen: | H41: =H12+H22+H26+H33+H39 -> 0 | I41: =I12+I22+I26+I33+I39 -> 0

Sheet Akadálymentes
A1: Ssz. | B1: Tételszám | C1: Tétel szövege | D1: Menny. | E1: Egység | F1: Anyag egységár | G1: Díj egységre | H1: Anyag összesen | I1: Díj összesen
A4: 7 | B4: 45-011-1.1.1.3-0000001 | C4: Kültéri információs tábla elhelyezése, 3 mm vtg műanyagfelületén vinyl (MacTac fólia) plotterkivágással, betünagyság 30 mm, háttér RAL 5018 gentain blue, betük fehér színben. Felirat Braille írással is. mérete:450×600 mm jele: T1 | D4: 2 | E4: db | H4: =ROUND(D4*F4, 0) -> 0 | I4: =ROUND(D4*G4, 0) -> 0
A6: 8 | B6: 45-011-1.1.1.3-0000002 | C6: Helyiség névtábla elhelyezése, 3 mm vtg műanyagfelületén vinyl (MacTac fólia) plotterkivágással, betünagyság 25 mm, betütípus Ariel Narrow Bold, háttér RAL 5018 gentain blue, betük fehér színben. Felirat Braille írással is. mérete:200×400 mm jele: T2 | D6: 8 | E6: db | H6: =ROUND(D6*F6, 0) -> 0 | I6: =ROUND(D6*G6, 0) -> 0
A8: 9 | B8: 45-011-1.1.1.3-0000003 | C8: Beltéri információs indukcióshurok jelzőtábla elhelyezése, 3 mm vtg műanyagfelületén vinyl (MacTac fólia) plotterkivágással, betünagyság 25 mm, betütípus Ariel Narrow Bold, háttér RAL 5018 gentain blue, betük fehér színben. Felirat Braille írással is. | D8: 1 | E8: db | H8: =ROUND(D8*F8, 0) -> 0 | I8: =ROUND(D8*G8, 0) -> 0
C9: mérete:200×400 mm jele: T3
A11: 10 | B11: 45-011-1.1.1.3-0000004 | C11: Parkoló tábla, földmunkával betonozással együtt, alu tartórúddal. 3 mm vtg műanyagfelületén vinyl (MacTac fólia) plotterkivágással, betünagyság 150 mm, betütípus Ariel Narrow Bold, háttér RAL 5018 gentain blue, betük fehér színben. mérete:300×250 mm | D11: 1 | E11: db | H11: =ROUND(D11*F11, 0) -> 0 | I11: =ROUND(D11*G11, 0) -> 0
C12: jele: T4
A14: 11 | B14: 45-011-1.1.1.3-0000005 | C14: Kültéri irányjelző tábla falra szerelve, 3 mm vtg műanyagfelületén vinyl (MacTac fólia) plotterkivágással, betünagyság 25 mm, betütípus Ariel Narrow Bold, háttér RAL 5018 gentain blue, betük fehér színben, akadálymentes piktogrammal. mérete:200×400 | D14: 2 | E14: db | H14: =ROUND(D14*F14, 0) -> 0 | I14: =ROUND(D14*G14, 0) -> 0
C15: mm jele: T5
C17: Munkanem összesen: | H17: =ROUND(SUM(H2:H16),0) -> 0 | I17: =ROUND(SUM(I2:I16),0) -> 0
A19: Akadálymentesítés összesen: | H19: =H17 -> 0 | I19: =I17 -> 0

Sheet Fűtés
A1: Ssz. | B1: MVH kód | C1: Tétel szövege | D1: Menny. | E1: Egység | F1: Referencia ár | G1: Referencia ár összesen
A4: 1 | B4: ÉNGY kód: 82-012-0997881 Kód: 82-012-003.2.1.4-0423463 Verzió: 2017-2 | C4: Épületgépészeti munkák Épületgépészeti szerelvények és berendezések szerelése Fűtőtestek Acéllemez kompakt lapradiátor elhelyezése,széthordással, tartókkal, bekötéssel, 2 soros, 1600 mm-ig, 600 mm VOGEL & NOOT kompakt lapradiátor 22K típus, 2-soros, 2 konvektorlemez borítással, 600x 600 mm, fűtőteljesítmény: 1028 W | D4: 1 | E4: db | G4: =D4*F4 -> 0
A6: 2 | B6: ÉNGY kód: 82-012-0997893 Kód: 82-012-003.2.1.4-0423464 Verzió: 2017-2 | C6: Épületgépészeti munkák Épületgépészeti szerelvények és berendezések szerelése Fűtőtestek Acéllemez kompakt lapradiátor elhelyezése,széthordással, tartókkal, bekötéssel, 2 soros, 1600 mm-ig, 600 mm VOGEL & NOOT kompakt lapradiátor 22K típus, 2-soros, 2 konvektorlemez borítással, 600x 720 mm, fűtőteljesítmény: 1233 W | D6: 3 | E6: db | G6: =D6*F6 -> 0
A8: 3 | B8: ÉNGY kód: 82-012-0997903 Kód: 82-012-003.2.1.4-0423465 Verzió:2017-2 | C8: Épületgépészeti munkák Épületgépészeti szerelvények és berendezések szerelése Fűtőtestek Acéllemez kompakt lapradiátor elhelyezése,széthordással, tartókkal, bekötéssel, 2 soros, 1600 mm-ig, 600 mm VOGEL & NOOT kompakt lapradiátor 22K típus, 2-soros, 2 konvektorlemez borítással, 600x 800 mm, fűtőteljesítmény: 1370 W | D8: 1 | E8: db | G8: =D8*F8 -> 0
A10: 4 | B10: ÉNGY kód: 82-012-0997932 Kód: 82-012-003.2.1.4-0423468 Verzió: 2017-2 | C10: Épületgépészeti munkák Épületgépészeti szerelvények és berendezések szerelése Fűtőtestek Acéllemez kompakt lapradiátor elhelyezése,széthordással, tartókkal, bekötéssel, 2 soros, 1600 mm-ig, 600 mm VOGEL & NOOT kompakt lapradiátor 22K típus, 2-soros, 2 konvektorlemez borítással, 600x1120 mm, fűtőteljesítmény: 1919 W | D10: 1 | E10: db | G10: =D10*F10 -> 0
A12: 5 | B12: ÉNGY kód: 82-012-0997944 Kód: 82-012-003.2.1.4-0423469 Verzió:2017-2 | C12: Épületgépészeti munkák Épületgépészeti szerelvények és berendezések szerelése Fűtőtestek Acéllemez kompakt lapradiátor elhelyezése,széthordással, tartókkal, bekötéssel, 2 soros, 1600 mm-ig, 600 mm VOGEL & NOOT kompakt lapradiátor 22K típus, 2-soros, 2 konvektorlemez borítással, 600x1200 mm, fűtőteljesítmény: 2056 W | D12: 1 | E12: db | G12: =D12*F12 -> 0
A14: 6 | B14: ÉNGY kód: 82-012-0997961 Kód: 82-012-003.2.1.4-0423471 Verzió:2017-2 | C14: Épületgépészeti munkák Épületgépészeti szerelvények és berendezések szerelése Fűtőtestek Acéllemez kompakt lapradiátor elhelyezése,széthordással, tartókkal, bekötéssel, 2 soros, 1600 mm-ig, 600 mm VOGEL & NOOT kompakt lapradiátor 22K típus, 2-soros, 2 konvektorlemez borítással, 600x1400 mm, fűtőteljesítmény: 2398 W | D14: 3 | E14: db | G14: =D14*F14 -> 0
A16: 7 | B16: ÉNGY kód: 82-012-0997973 Kód: 82-012-003.2.1.4-0423472 Verzió:2017-2 | C16: Épületgépészeti munkák Épületgépészeti szerelvények és berendezések szerelése Fűtőtestek Acéllemez kompakt lapradiátor elhelyezése,széthordással, tartókkal, bekötéssel, 2 soros, 1600 mm-ig, 600 mm VOGEL & NOOT kompakt lapradiátor 22K típus, 2-soros, 2 konvektorlemez borítással, 600x1600 mm, fűtőteljesítmény: 2741 W | D16: 2 | E16: db | G16: =D16*F16 -> 0
A18: 8 | B18: ÉNGY kód: 82-001-0943762 Kód: 82-001-016.2.5-0113236 Verzió:2017-2 | C18: Épületgépészeti munkák Épületgépészeti szerelvények és berendezések szerelése Szerelvények Fűtőtest szerelvény elhelyezésekülső vagy belső menettel, illetve hollandival csatlakoztatva DN 15 termosztatikus szelep, termosztatikus szelep szett Danfoss sarok kivitelű termosztatikus szeleptest, előbeálítással, 013G4201, RA-N, k.m. 1/2" | D18: 12 | E18: db | G18: =D18*F18 -> 0
A19: 9 | B19: ÉNGY kód: 82-001-0943275 Kód: 82-001-016.2.3-0113285 Verzió:2017-2 | C19: Épületgépészeti munkák Épületgépészeti szerelvények és berendezések szerelése Szerelvények Fűtőtest szerelvény elhelyezésekülső vagy belső menettel, illetve hollandival csatlakoztatva DN 15 visszatérő elzárószelep Danfoss sarok kivitelű visszatérő csavarzat, beszabályozási, elzárási, ürítés funkcióval, 003L0143, RLV 1/2" | D19: 12 | E19: db | G19: =D19*F19 -> 0
A21: 10 | B21: ÉNGY kód: 81-004-2117050 Kód: 81-004-001.3.3.4.3.2-0117183 Verzió: 2017-2 | C21: Épületgépészeti munkák Épületgépészeti csővezeték szerelése Fűtési vezetékek Fűtési vezeték, Ötrétegű cső szerelése, PE-Xc/Alu/PE-Xc, PE-Xc/Al/PE-Xb, PE-Xb/Al/PE-Xb vagy PE-Xb/Al/PE anyagból, kiegészítők elhelyezése, fűtési osztó - gyűjtő szerelése, 6 áramkörig GIACOMINI osztó - gyűjtő 4 áramkörre, szelepekkel, elzárókkal és konzollal, R553D/4, 1"x18 mm | D21: 1 | E21: db | G21: =D21*F21 -> 0
A23: 11 | B23: ÉNGY kód: 81-004-2117125 Kód: 81-004-001.3.3.4.3.3-0117187 Verzió: 2017-2 | C23: Épületgépészeti munkák Épületgépészeti csővezeték szerelése Fűtési vezetékek Fűtési vezeték, Ötrétegű cső szerelése, PE-Xc/Alu/PE-Xc, PE-Xc/Al/PE-Xb, PE-Xb/Al/PE-Xb vagy PE-Xb/Al/PE anyagból, kiegészítők elhelyezése, fűtési osztó - gyűjtő szerelése, 6 áramkör fölött GIACOMINI osztó - gyűjtő 8 áramkörre, szelepekkel, elzárókkal és konzollal, R553D/8, 1"x18 mm | D23: 1 | E23: db | G23: =D23*F23 -> 0
G25: =D25*F25 -> 0
A26: 12 | B26: ÉNGY kód: 81-004-0894824 Kód: 81-004-001.3.3.2.1.1.3-0326027 Verzió:2017-2 | C26: Épületgépészeti munkák Épületgépészeti csővezeték szerelése Fűtési vezetékek Fűtési vezeték, Ötrétegű cső szerelése, PE-Xc/Alu/PE-Xc, PE-Xc/Al/PE-Xb, PE-Xb/Al/PE-Xb vagy PE-Xb/Al/PE anyagból, préselt vagy szorítógyűrűs csőkötésekkel, cső elhelyezése csőidomok nélkül, szakaszos nyomáspróbával, falhoronyba vagy padlószerkezetbe szerelve (horonyvésés külön tételben), DN 20 HENCO Standard többrétegű PE-Xc/Al /PE-Xc cső tekercsben, piros védőcsőben, 10 bar, 95 ď, 26x3, Rendelési szám: 50-026MR | D26: 15 | E26: m | G26: =D26*F26 -> 0
A27: 13 | B27: ÉNGY kód: 81-004-0894514 Kód: 81-004-001.3.3.2.1.1.1-0326024 Verzió:2017-2 | C27: Épületgépészeti munkák Épületgépészeti csővezeték szerelése Fűtési vezetékek Fűtési vezeték, Ötrétegű cső szerelése, PE-Xc/Alu/PE-Xc, PE-Xc/Al/PE-Xb, PE-Xb/Al/PE-Xb vagy PE-Xb/Al/PE anyagból, préselt vagy szorítógyűrűs csőkötésekkel, cső elhelyezése csőidomok nélkül, szakaszos nyomáspróbával, falhoronyba vagy padlószerkezetbe szerelve (horonyvésés külön tételben), DN 12-ig HENCO Standard többrétegű PE-Xc/Al 0,4/PE-Xc cső tekercsben, piros védőcsőben,10 bar, 95 ď, 16x2, Rendelési szám: 100-016MR | D27: 116 | E27: m | G27: =D27*F27 -> 0
G28: =D28*F28 -> 0
A29: 14 | B29: ÉNGY kód: 81-004-1668434 Kód: 81-004-001.5.1.1.1.1.4-0334004 Verzió: 2017-2 | C29: Épületgépészeti munkák Épületgépészeti csővezeték szerelése Fűtési vezetékek Fűtési vezeték, Horganyzott szénacélcső szerelése, préselt csőkötésekkel, cső elhelyezése csőidomok nélkül, szakaszos nyomáspróbával, szabadon, horonyba vagy padlócsatornába, DN 12 - DN 50, DN 25 Viega Prestabo cső, ötvözetlen szénacél, 6 m-es szálban, 28 x 1,5, Csz.: 559 472 | D29: 24 | E29: m | G29: =D29*F29 -> 0
G30: =D30*F30 -> 0
A31: 15 | B31: ÉNGY kód: 81-004-0905263 Kód: 81-004-001.5.1.1.2.2.5-0334018 Verzió: 2017-2 | C31: Épületgépészeti munkák Épületgépészeti csővezeték szerelése Fűtési vezetékek Fűtési vezeték, Horganyzott szénacélcső szerelése, préselt csőkötésekkel, cső elhelyezése csőidomok nélkül, szakaszos nyomáspróbával, csőidomok és szerelvények elhelyezése, két préselt kötéssel csatlakozó idomok, DN 12 - DN 50, DN 25 Viega Prestabo ív, 90°, kettős "V" préssel, SC-Contur-ral (bizt. kontúr), ötvözetlen szénacél, 28, Csz.: 558 154 | D31: 12 | E31: db | G31: =D31*F31 -> 0
A33: 16 | B33: ÉNGY kód: 81-012-0922462 Kód: 81-012-001.1.3-0210205 Verzió: 2017-2 | C33: Épületgépészeti munkák Épületgépészeti csővezeték szerelése Elágazás készítése meglévő vezetékeken Elágazás készítése, meglévő horganyzott vagyfekete acélcső vezetéken, szabadon, horonyba vagy padlócsatornába, DN 20-25 Fekete acélcsövön T-idom közbeiktatásávalMSZ 6006-B-1 (U.130 sz.) 1" | D33: 2 | E33: db | G33: =D33*F33 -> 0
A34: 17 | B34: ÉNGY kód: 81-004-0905636 Kód: 81-004-001.5.1.1.2.3.5-0324064 Verzió: 2017-2 | C34: Épületgépészeti munkák Épületgépészeti csővezeték szerelése Fűtési vezetékek Fűtési vezeték, Horganyzott szénacélcső szerelése, préselt csőkötésekkel, cső elhelyezése csőidomok nélkül, szakaszos nyomáspróbával, csőidomok és szerelvények elhelyezése, három préselt kötéssel csatlakozó idomok, DN 12 - DN 50, DN 25 Viega Prestabo T-idom, kettős "V" préssel, SC-Contur-ral (bizt. kontúr), ötvözetlen szénacél, 28, Csz.: 558 642 | D34: 2 | E34: db | G34: =D34*F34 -> 0
A36: 18 | B36: ÉNGY kód: 82-016-1025546 Kód: 82-016-012.4 Verzió:2017-2 | C36: Épületgépészeti munkák Épületgépészeti szerelvények és berendezések szerelése Épületgépészeti egyéb tevékenységek Kazánház, illetve hőközpont beszabályozása, beüzemelése 69.781 -139.560 W teljesítmény között | D36: 1 | E36: db | G36: =D36*F36 -> 0
A38: 19 | B38: ÉNGY kód: 82-016-1025592 Kód: 82-016-013.4 Verzió:2017-2 | C38: Épületgépészeti munkák Épületgépészeti szerelvények és berendezések szerelése Épületgépészeti egyéb tevékenységek Próbafűtés, radiátorok beszabályozása 69.781 -139.560 W teljesítmény között | D38: 1 | E38: db | G38: =D38*F38 -> 0
C39: Munkanem összesen: | G39: =SUM(G4:G38) -> 0
A41: Fűtés összesen: | G41: =G4+G6+G8+G10+G12+G14+G16+G18+G19+G21+G23+G26+G27+G29+G31+G33+G34+G36+G38 -> 0

Sheet Vízellátás-csatornázás
A1: Ssz. | B1: MVH kód | C1: Tétel szövege | D1: Menny. | E1: Egység | F1: Referencia ár | G1: Referencia ár összesen
A3: 1 | B3: ÉNGY kód: 82-009-0969431 Kód: 82-009-005.2-0117161 Verzió:2017-2 | C3: Épületgépészeti munkák Épületgépészeti szerelvények és berendezések szerelése Vízellátás berendezési tárgyai Mosdó vagy mosómedence berendezés elhelyezése és bekötése,kifolyószelep, bűzelzáró és sarokszelep nélkül, felülről beépíthető (bútorba) mosdó (komplett) SOLINAR beépíthető mosdó 60 cm, 1 csaplyukkal, fúrt, 6006 40 01, fehér | D3: 2 | E3: db | G3: =D3*F3 -> 0
A5: 2 | B5: ÉNGY kód: 82-009-0970366 Kód: 82-009-006.1-0114531 Verzió:2017-2 | C5: Épületgépészeti munkák Épületgépészeti szerelvények és berendezések szerelése Vízellátás berendezési tárgyai Kézmosó berendezés elhelyezése és bekötése,kifolyószelep, sarokszelep, szifontakaró és bűzelzáró nélkül, porcelán kivitelben BÁZIS porcelán kézmosó, 45 cm, 3 csaplyukkal, fúrt, 4145 45 01, fehér | D5: 1 | E5: db | G5: =D5*F5 -> 0
A7: 3 | B7: ÉNGY kód: 82-009-0972286 Kód: 82-009-009.2.2.2-0319322 Verzió:2017-2 | C7: Épületgépészeti munkák Épületgépészeti szerelvények és berendezések szerelése Vízellátás berendezési tárgyai Zuhanytálca vagy zuhanykabin elhelyezése és bekötése, zuhanytálca, csaptelep és szifon nélkül, acryl kivitelben 80 cm-es oldalhosszúság felett Radaway RODOS C 90 akryyl zuhanytálca szögletes, 90x90x16 cm | D7: 1 | E7: db | G7: =D7*F7 -> 0
A9: 4 | B9: ÉNGY kód: 82-009-1492222 Kód: 82-009-013.2-0321411 Verzió:2017-2 | C9: Épületgépészeti munkák Épületgépészeti szerelvények és berendezések szerelése Vízellátás berendezési tárgyai WC öblítőtartály felszerelése és bekötése, falba építhető, műanyag GEBERIT Falsík alatti UP320 típusú öblítőtartály, 109.300.00.5 | D9: 3 | E9: db | G9: =D9*F9 -> 0
A11: 5 | B11: ÉNGY kód: 82-009-0974681 Kód: 82-009-011.1.3.1-0117031 Verzió:2017-2 | C11: Épületgépészeti munkák Épületgépészeti szerelvények és berendezések szerelése Vízellátás berendezési tárgyai WC csésze elhelyezése és bekötése,öblítőtartály, sarokszelep, WC ülőke, nyomógomb nélkül, porcelánból, fali WC csésze, lapos öblítésű kivitelben SAVAL porcelán laposöblítésű W.C. falra szerelhető 7068 19 01, fehér | D11: 2 | E11: db | G11: =D11*F11 -> 0
A13: 6 | B13: ÉNGY kód: 82-009-0976596 Kód: 82-009-017.1-0110161 Verzió:2017-2 | C13: Épületgépészeti munkák Épületgépészeti szerelvények és berendezések szerelése Vízellátás berendezési tárgyai Berendezési tárgyak szerelvényeinek felszerelése, sarokszelep szerelés MOFÉM sárgaréz sarokszelep 1/2"-1/2" sárgaréz, krómozott, 10 bar, Kód: 163-0002-00 | D13: 11 | E13: db | G13: =D13*F13 -> 0
A15: 7 | B15: ÉNGY kód: 82-009-1861072 Kód: 82-009-019.2.2-0332233 Verzió: 2017-2 | C15: Épületgépészeti munkák Épületgépészeti szerelvények és berendezések szerelése Vízellátás berendezési tárgyai Csaptelepek és szerelvényeinek felszerelése, zuhanycsaptelepek, termosztátos fali zuhanycsaptelep Kludi A-QA v Shower duo (352000538 termosztátos zuhanycsaptelep + 6209605-00 A-Qav zuhanygarnitúra), R: 6209705-00 | D15: 1 | E15: db | G15: =D15*F15 -> 0
A17: 8 | B17: ÉNGY kód: 82-009-0979085 Kód: 82-009-019.3.2-0314506 Verzió:2017-2 | C17: Épületgépészeti munkák Épületgépészeti szerelvények és berendezések szerelése Vízellátás berendezési tárgyai Csaptelepek és szerelvényeinek felszerelése, mosdócsaptelepek, álló illetve süllyesztett mosdócsaptelep Kludi-Standard mosdócsaptelep, lefolyógarnitúrával, kr., Cikkszám: 21 0620515 | D17: 3 | E17: db | G17: =D17*F17 -> 0
A19: 9 | B19: ÉNGY kód: 82-009-1725612 Kód: 82-009-032-0181183 Verzió: 2017-2 | C19: Épületgépészeti munkák Épületgépészeti szerelvények és berendezések szerelése Vízellátás berendezési tárgyai Mozgássérült vízellátási berendezésekkiegészítő szerelvényeinek elhelyezése B&K Felhajtható kapaszkodó, szinterezett acél, 830 mm, színes Cikkszám: TH830SZ | D19: 1 | E19: db | G19: =D19*F19 -> 0
A21: 10 | B21: ÉNGY kód: 82-009-4138684 Kód: 82-009-032-0391321 Verzió: 2017-2 | C21: Épületgépészeti munkák Épületgépészeti szerelvények és berendezések szerelése Vízellátás berendezési tárgyai Mozgássérült vízellátási berendezésekkiegészítő szerelvényeinek elhelyezése Green Clean - 90°-ban hajlított kapaszkodó, L-alakú, rozsdamentes acél, cső falvastagsága 1,5 mm, fehér, csőátmérő 32 mm, reverzibilis csavartakaró gyűrűvel, Méretek: 600x600 mm, GCB600EB | D21: 1 | E21: db | G21: =D21*F21 -> 0
A23: 11 | B23: ÉNGY kód: 82-009-3673525 Kód: 82-009-011.1.3.1-0118014 Verzió: 2017-2 | C23: Épületgépészeti munkák Épületgépészeti szerelvények és berendezések szerelése Vízellátás berendezési tárgyai WC csésze elhelyezése és bekötése,öblítőtartály, sarokszelep, WC ülőke, nyomógomb nélkül, porcelánból, fali WC csésze, lapos öblítésű kivitelben B&K Porcelán WC-kagyló mozgáskorlátozottak részére, fali, hátsó kifolyással Cikkszám: TH460I | D23: 1 | E23: db | G23: =D23*F23 -> 0
A25: 12 | B25: ÉNGY kód: 82-009-1724590 Kód: 82-009-005.1-0118001 Verzió: 2017-2 | C25: Épületgépészeti munkák Épületgépészeti szerelvények és berendezések szerelése Vízellátás berendezési tárgyai Mosdó vagy mosómedence berendezés elhelyezése és bekötése,kifolyószelep, bűzelzáró és sarokszelep nélkül, falra szerelhető porcelán kivitelben (komplett) B&K Porcelán mosdó mozgáskorlátozottak részére döntőberendezéssel 675x570 mm Cikkszám: TH410AI | D25: 1 | E25: db | G25: =D25*F25 -> 0
... A57: 31 | B57: ÉNGY kód: 31-000-0034875 Kód: 31-000-014.2 Verzió: 2017-2 | C57: Építőmesteri munkák Helyszíni beton és vasbeton munkák Bontási munkák Beton aljzatok, járdák bontása 10 cm vastagság felett, kavicsbetonból | D57: 0.5 | E57: db | G57: =D57*F57 -> 0
C59: Munkanem összesen: | G59: =G3+G5+G7+G9+G11+G13+G15+G17+G19+G21+G23+G25+G27+G29+G31+G33+G35+G38+G40+G42+G43+G44+G45+G46+G47+G48+G49+G51+G53+G55+G57 -> 0
A61: Víz és csatorna munkák összesen: | G61: =G3+G5+G7+G9+G11+G13+G15+G17+G19+G21+G23+G25+G27+G29+G31+G33+G35+G38+G40+G42+G43+G44+G45+G46+G47+G48+G49+G51+G53+G55+G57 -> 0

Sheet Villamos 1
A1: Ssz. | B1: Tételszám | C1: Tétel szövege | D1: Menny. | E1: Egység | F1: Anyag egységár | G1: Díj egységre | H1: Anyag összesen | I1: Díj összesen
A2: 1 | B2: 21-011-9.1.1 | C2: Villanyszerelés földmunkája; visszatöltéssel, döngöléssel, I-IV. oszt. talajban, kábelárok földmunkája 0,70 m mélységig, 0,40 m szélességig | D2: 50 | E2: m | H2: =ROUND(D2*F2, 0) -> 0 | I2: =ROUND(D2*G2, 0) -> 0
C4: Munkanem összesen: | H4: =SUM(H2:H3) -> 0 | I4: =SUM(I2:I3) -> 0
A6: Villamos 1 összesen: | H6: =H4 -> 0 | I6: =I4 -> 0

Sheet Villamos 2
A1: Ssz. | B1: Tételszám | C1: Tétel szövege | D1: Menny. | E1: Egység | F1: Anyag egységár | G1: Díj egységre | H1: Anyag összesen | I1: Díj összesen
A2: 1 | B2: 33-063-3.2.1 | C2: Horonyvésés, téglafalban, 8 cm2 keresztmetszetig | D2: 560 | E2: m | H2: =ROUND(D2*F2, 0) -> 0 | I2: =ROUND(D2*G2, 0) -> 0
A4: 2 | B4: 33-063-21.4.1 | C4: Fészekvésés, dobozok részére téglafalban, 55 - 78 mm átmérő között, 30 mm mélységig | D4: 120 | E4: db | H4: =ROUND(D4*F4, 0) -> 0 | I4: =ROUND(D4*G4, 0) -> 0
A6: 3 | B6: 33-063-21.4.2 | C6: Fészekvésés, dobozok részére téglafalban, 100 x 100 mm-es, 50 mm mélységig | D6: 14 | E6: db | H6: =ROUND(D6*F6, 0) -> 0 | I6: =ROUND(D6*G6, 0) -> 0
C8: Munkanem összesen: | H8: =SUM(H2:H7) -> 0 | I8: =SUM(I2:I7) -> 0
A10: Villamos 2 összesen: | H10: =H8 -> 0 | I10: =I8 -> 0

Sheet Villamos 3
A1: Ssz. | B1: Tételszám | C1: Tétel szövege | D1: Menny. | E1: Egység | F1: Anyag egységár | G1: Díj egységre | H1: Anyag összesen | I1: Díj összesen
A2: 1 | B2: 71-001-1.1.1.1.1-0110116 | C2: Merev, simafalú műanyag védőcső elhelyezése, elágazó dobozokkal, előre elkészített falhoronyba, vékonyfalú kivitelben, könnyű mechanikai igénybevételre, Névleges méret: 11-16 mm HYDRO-THERM beltéri Mü III. vékonyfalú, hajlítható merev műanyag szürke védőcső 16 mm, Kód: MU-III 16 | D2: 1400 | E2: m | H2: =ROUND(D2*F2, 0) -> 0 | I2: =ROUND(D2*G2, 0) -> 0
A5: 2 | B5: 71-001-1.1.1.1.3-0110136 | C5: Merev, simafalú műanyag védőcső elhelyezése, elágazó dobozokkal, előre elkészített falhoronyba, vékonyfalú kivitelben, könnyű mechanikai igénybevételre, Névleges méret: 36-48 mm HYDRO-THERM beltéri Mü III. vékonyfalú, hajlítható merev műanyag szürke | D5: 60 | E5: m | H5: =ROUND(D5*F5, 0) -> 0 | I5: =ROUND(D5*G5, 0) -> 0
C6: védőcső 36 mm, Kód: MU-III 36
A8: 3 | B8: 71-001-5.1.2.1.1-0110547 | C8: Műanyag kábelvédő cső elhelyezése földárokba, cső kívül bordás vagy sima, belül sima fallal, hajlítható kivitel, tekercsben, DN 100 méretig, DN 40-ig PannonCom-Kábel gégecső 25 320N PVC, Csz: KO1425 | D8: 60 | E8: m | H8: =ROUND(D8*F8, 0) -> 0 | I8: =ROUND(D8*G8, 0) -> 0
A10: 4 | B10: 71-001-5.1.2.1.6-0541116 | C10: Műanyag kábelvédő cső elhelyezése földárokba, cső kívül bordás vagy sima, belül sima fallal, hajlítható kivitel, tekercsben, DN 100 méretig, DN 100 ACO FRÄNKISCHE Kabuflex R kábelvédő cső nagysűrűségű polietilénből, 50 m-es tekercsben, behúzózsinórral, | D10: 10 | E10: m | H10: =ROUND(D10*F10, 0) -> 0 | I10: =ROUND(D10*G10, 0) -> 0
C11: fekete, DN 110, Ø 110/94, Rend.szám: 562.10.110
A13: 5 | B13: 71-001-11.1.1-0123818 | C13: Elágazó doboz illetve szerelvénydoboz elhelyezése, süllyesztve, fészekvésés nélkül, Névleges méret: Ø68 mm-ig, 2xØ68 mm-ig vagy négyzetes kivitelben, 30-60 mm mélységig, max. négyes sorolásig LEGRAND Batibox süllyesztődoboz univerzális Egyes doboz, 40mm | D13: 120 | E13: db | H13: =ROUND(D13*F13, 0) -> 0 | I13: =ROUND(D13*G13, 0) -> 0
C14: mély (Kat.szám:080101)
A16: 6 | B16: 71-001-11.1.2-0121003 | C16: Elágazó doboz illetve szerelvénydoboz elhelyezése, süllyesztve, fészekvésés nélkül, Névleges méret: 70, 80, 100, 150, 200 mm 87, 107, 159, 240, 238 mm (70 - 300 mm) HYDRO-THERM beltéri elágazó doboz, Müdk 100 mm, Kód: 100-K | D16: 10 | E16: db | H16: =ROUND(D16*F16, 0) -> 0 | I16: =ROUND(D16*G16, 0) -> 0
A18: 7 | B18: 71-002-1.1-0210002 | C18: Szigetelt vezeték elhelyezése védőcsőbe húzva vagy vezetékcsatornába fektetve, rézvezetővel, leágazó kötésekkel, szigetelés ellenállás méréssel, a szerelvényekhez csatlakozó vezetékvégek bekötése nélkül, keresztmetszet: 0,5-2,5 mm2 PannonCom-Kábel H07V-U | D18: 1920 | E18: m | H18: =ROUND(D18*F18, 0) -> 0 | I18: =ROUND(D18*G18, 0) -> 0
C19: 450/750V 1x1,5 mm2, tömör rézvezetővel (MCu)
A21: 8 | B21: 71-002-1.1-0210003 | C21: Szigetelt vezeték elhelyezése védőcsőbe húzva vagy vezetékcsatornába fektetve, rézvezetővel, leágazó kötésekkel, szigetelés ellenállás méréssel, a szerelvényekhez csatlakozó vezetékvégek bekötése nélkül, keresztmetszet: 0,5-2,5 mm2 PannonCom-Kábel H07V-U | D21: 120 | E21: m | H21: =ROUND(D21*F21, 0) -> 0 | I21: =ROUND(D21*G21, 0) -> 0
C22: 450/750V 1x2,5 mm2, tömör rézvezetővel (MCu)
A24: 9 | B24: 71-002-21.1-0221562 | C24: Kábelszerű vezeték elhelyezése előre elkészített tartószerkezetre, 1-12 erű rézvezetővel, elágazó dobozokkal és kötésekkel, szigetelési elenállás méréssel, a szerelvényekhez csatlakozó vezetékvégek bekötése nélkül, keresztmetszet: 0,5-2,5 mm2 | D24: 20 | E24: m | H24: =ROUND(D24*F24, 0) -> 0 | I24: =ROUND(D24*G24, 0) -> 0
C25: PannonCom-Kábel NYM 300/500V 5x2,5 mm2, tömör rézvezetővel (MBCu)
A27: 10 | B27: 71-002-42.1.1-0111901 | C27: Adatátviteli kábel elhelyezése védőcsőbe húzva vagy vezetékcsatornába fektetve, strukturált adatátviteli kábel strukturált számítógépes adatátviteli hálózatokhoz, 100 Mbit/s átviteli sebesség (CAT 5 kategória) PannonCom-Kábel UTP cat. 5. falikábel | D27: 160 | E27: m | H27: =ROUND(D27*F27, 0) -> 0 | I27: =ROUND(D27*G27, 0) -> 0
A29: 11 | B29: 71-002-52.1-0336571 | C29: Műanyag szigetelésű energiaátviteli és irányítás-technikai kábel fektetése kézi erővel, kábelárokba vagy kábelcsatornába, tömeghatár: 0,35 kg/m-ig PannonCom-Kábel NYY-J 0,6/1 kV 3x1,5 mm2 | D29: 60 | E29: m | H29: =ROUND(D29*F29, 0) -> 0 | I29: =ROUND(D29*G29, 0) -> 0
A31: 12 | B31: 71-002-52.3-0336649 | C31: Műanyag szigetelésű energiaátviteli és irányítás-technikai kábel fektetése kézi erővel, kábelárokba vagy kábelcsatornába, tömeghatár: 0,66-1,00 kg/m PannonCom-Kábel NYY-J 0,6/1 kV 5x10 mm2 | D31: 60 | E31: m | H31: =ROUND(D31*F31, 0) -> 0 | I31: =ROUND(D31*G31, 0) -> 0
A33: 13 | B33: 71-005-1.1.1.1-0230103 | C33: Komplett világítási és telekommunikációs szerelvények, Fali kapcsolók elhelyezése, süllyesztve, 10A egypólusú kapcsolók LEGRAND Cariva egypólusú kapcsoló kerettel, fehér (Kat.szám:773801) | D33: 5 | E33: db | H33: =ROUND(D33*F33, 0) -> 0 | I33: =ROUND(D33*G33, 0) -> 0
A35: 14 | B35: 71-005-1.1.1.4-0545314 | C35: Komplett világítási és telekommunikációs szerelvények, Fali kapcsolók elhelyezése, süllyesztve, 10A kétáramkörös (csillár) kapcsolók LEGRAND Niloé csillárkapcsoló, körömmel, fehér (Kat.szám:764506) | D35: 5 | E35: db | H35: =ROUND(D35*F35, 0) -> 0 | I35: =ROUND(D35*G35, 0) -> 0
A37: 15 | B37: 71-005-1.1.1.5-0230106 | C37: Komplett világítási és telekommunikációs szerelvények, Fali kapcsolók elhelyezése, süllyesztve, 10A alternatív (váltó) kapcsolók LEGRAND Cariva váltókapcsoló kerettel, fehér (Kat.szám:773806) | D37: 20 | E37: db | H37: =ROUND(D37*F37, 0) -> 0 | I37: =ROUND(D37*G37, 0) -> 0
A39: 16 | B39: 71-005-1.1.2.2.1-0230104 | C39: Komplett világítási és telekommunikációs szerelvények, Fali kapcsolók elhelyezése, előre elkészített tartószerkezetre, falon kívüli, 10A kétpólusú kapcsoló IP 20 LEGRAND Cariva kétpólusú kapcsoló kerettel, fehér (Kat.szám:773802) | D39: 10 | E39: db | H39: =ROUND(D39*F39, 0) -> 0 | I39: =ROUND(D39*G39, 0) -> 0
A41: 17 | B41: 71-005-1.11.1.1.1-0230109 | C41: Komplett világítási és telekommunikációs szerelvények, Csatlakozóaljzat elhelyezése, süllyesztve, 16A, földelt, egyes csatlakozóaljzat (2P+F) LEGRAND Cariva 2P+F csatlakozóaljzat kerettel, fehér (Kat.szám:773820) | D41: 45 | E41: db | H41: =ROUND(D41*F41, 0) -> 0 | I41: =ROUND(D41*G41, 0) -> 0
A43: 18 | B43: 71-005-1.11.1.1.1-0231427 | C43: Komplett világítási és telekommunikációs szerelvények, Csatlakozóaljzat elhelyezése, süllyesztve, 16A, földelt, egyes csatlakozóaljzat (2P+F) LEGRAND Plexo 55 süllyesztett 2P+F aljzat csapófedéllel, csavaros, komplett, szürke (Kat.szám:069833) | D43: 9 | E43: db | H43: =ROUND(D43*F43, 0) -> 0 | I43: =ROUND(D43*G43, 0) -> 0
A45: 19 | B45: 71-005-1.31.2-0533640 | C45: Komplett világítási és telekommunikációs szerelvények, Telefon és PC csatlakozóaljzat, USB töltő aljzat, hangszóró-csatlakozó elhelyezése (egyes/kettős), PC, USB, hangszóró LEGRAND Galea 1xRJ45 Cat5e UTP mechanizmus, LCS2 (Kat.szám:775761) | D45: 4 | E45: db | H45: =ROUND(D45*F45, 0) -> 0 | I45: =ROUND(D45*G45, 0) -> 0
A47: 20 | B47: 71-005-1.43-0231419 | C47: Komplett világítási és telekommunikációs szerelvények, Falonkívüli mozgásérzékelős kapcsoló elhelyezése LEGRAND Plexo 55 falonkívüli mozgásérzékelős kapcsoló 2000W, komplett, szürke (Kat.szám:069740) | D47: 7 | E47: db | H47: =ROUND(D47*F47, 0) -> 0 | I47: =ROUND(D47*G47, 0) -> 0
A49: 21 | B49: 71-008-9.3.1-0136002 | C49: Kismegszakítók és kiegészítők elhelyezése kalapsínes szerelőlapra,"B", "C" és "D" jelleggörbével, 6 kA zárlati szilárdsággal, 1 pólusú LEGRAND DX Standard kismegszakító 1P 10A B 6000A/6kA, 1 modul (Kat.szám:003268) | D49: 3 | E49: db | H49: =ROUND(D49*F49, 0) -> 0 | I49: =ROUND(D49*G49, 0) -> 0
... A61: 27 | B61: 71-009-13.2-0622166 | C61: Fogyasztásmérő szekrény elhelyezése, (fogyasztásmérő beépítése nélkül) IP 54 védettséggel, műanyagból, 300 x 600 mm felett HENSEL Mi 72445-0 fogyasztásmérő szekrény, körvonalméret: 300 x 750 mm, univerzális mérőhely, 1db mérő számára, fogy.el., EAN: | D61: 1 | E61: db | H61: =ROUND(D61*F61, 0) -> 0 | I61: =ROUND(D61*G61, 0) -> 0
C62: 5999010930665
A64: 28 | B64: 71-010-2.7-0146068 | C64: Felületre szerelt lámpatest elhelyezése előre elkészített tartószerkezetre, zárt, LED-es kivitelben Life Light Led, Leddiszkont, Ufó led lámpa AC90-265V, 15W, 1000 Lumen, 120°, 3000 Kelvin, meleg fehér, IP20, garancia 2 év, 40x270mm, kiváltható vele a | D64: 24 | E64: db | H64: =ROUND(D64*F64, 0) -> 0 | I64: =ROUND(D64*G64, 0) -> 0
C65: hagyományos 100W halogén lámpa ! Csz.: LLUFOK15W30LFKORWW
A67: 29 | B67: 71-010-2.7-0146185 | C67: Felületre szerelt lámpatest elhelyezése előre elkészített tartószerkezetre, zárt, LED-es kivitelben Life Light Led, Leddiszkont Led panel világítás, 60x60 CM, 45W, 3640 Lum., 4000-6000 K, közép meleg-hideg fehér, IP20. Garanacia 3 év! Csz: | D67: 25 | E67: db | H67: =ROUND(D67*F67, 0) -> 0 | I67: =ROUND(D67*G67, 0) -> 0
C68: LLP60X60CM45W4000K/6000K
A70: 30 | B70: 71-010-2.7-0151274 | C70: Felületre szerelt lámpatest elhelyezése előre elkészített tartószerkezetre, zárt, LED-es kivitelben SIMOTRADE STAR-236 IP65 PC LED 48W 5200lm 4000k por- páramentes lámpatest, (R: 60212248100) | D70: 3 | E70: db | H70: =ROUND(D70*F70, 0) -> 0 | I70: =ROUND(D70*G70, 0) -> 0
A72: 31 | B72: 71-010-11.5-0143316 | C72: Falon kívüli, vízmentes kültéri lámpák elhelyezése, min. IP 54, LED-es kivitelben V-TAC (HOLUX) VT-8007; 12W / 840lm LED-es burás lámpatest, semlegesfehér (4500K), kerek, fekete, IP66 Csz:4970 | D72: 13 | E72: db | H72: =ROUND(D72*F72, 0) -> 0 | I72: =ROUND(D72*G72, 0) -> 0
A74: 32 | B74: 71-010-11.5-0143317 | C74: Falon kívüli, vízmentes kültéri lámpák elhelyezése, min. IP 54, LED-es kivitelben V-TAC (HOLUX) VT-8009; 12W / 840lm LED-es burás lámpatest, semlegesfehér (4500K), ovális, félig fedett, fekete, IP66 Csz:4972 | D74: 5 | E74: db | H74: =ROUND(D74*F74, 0) -> 0 | I74: =ROUND(D74*G74, 0) -> 0
A76: 33 | B76: 71-010-12.11.1.1.6-0548521 | C76: (Akkumulátoros vészvilágítás) Tartalék világítási lámpatestek elhelyezése, saját akkumulátoros, készenléti üzemű, falon kívüli kivitelben, LED-es LEGRAND URA készenlétű üzemű lámpatest, Kapcsoló üzemű, 70Lm, 1 óra LED (Kat.szám:661620) | D76: 19 | E76: db | H76: =ROUND(D76*F76, 0) -> 0 | I76: =ROUND(D76*G76, 0) -> 0
A78: 34 | B78: 71-013-1.1.1-0310302 | C78: Villámhárító felfogóvezető szerelése, előre elkészített tartószerkezetre, sodronyból, kör- vagy laposacélból, meredek tetőn, tartóra szerelve, 60 mm2-ig OBO alumínium körvezető, fúrógéppel egyengethető, 8 mm, RD 8/Alu-T, R.sz.: 5021294 | D78: 45 | E78: m | H78: =ROUND(D78*F78, 0) -> 0 | I78: =ROUND(D78*G78, 0) -> 0
A80: 35 | B80: 71-013-2.1.1-0310302 | C80: Villámhárító levezető szerelése, előre elkészített tartószerkezetre, sodronyból, kör- vagy laposacélból, épületszerkezeten kívül, tartóra szerelve, 60 mm2-ig OBO alumínium körvezető, fúrógéppel egyengethető, 8 mm, RD 8/Alu-T, R.sz.: 5021294 | D80: 18 | E80: m | H80: =ROUND(D80*F80, 0) -> 0 | I80: =ROUND(D80*G80, 0) -> 0
A82: 36 | B82: 71-013-5.1-0310359 | C82: Villám- és érintésvédelmi hálózat tartozékainak szerelése, felfogórúd szívócsúccsal OBO 1,5 m-es alumínium rúd, 16 mm, köracél csatlakozóval, 101/V-1500, R.sz.: 5401929 és 5304105 | D82: 3 | E82: db | H82: =ROUND(D82*F82, 0) -> 0 | I82: =ROUND(D82*G82, 0) -> 0
A84: 37 | B84: 71-013-5.3-0310367 | C84: Villám- és érintésvédelmi hálózat tartozékainak szerelése, bádogszegély, esőcsatorna bekötése OBO ereszcsatorna bekötő bilincs, minden peremvastagsághoz, 8/10 mm köracélhoz, R.sz.: 5316014 | D84: 6 | E84: db | H84: =ROUND(D84*F84, 0) -> 0 | I84: =ROUND(D84*G84, 0) -> 0
A86: 38 | B86: 71-013-5.5.1-0310372 | C86: Villám- és érintésvédelmi hálózat tartozékainak szerelése, földelő rúd vagy cső, 4 m hosszúságig OBO keresztföldelő, 3 m hosszú, 50x50 mm, köracél csatlakozóval, R.sz.: 5003040 és 5304105 | D86: 3 | E86: db | H86: =ROUND(D86*F86, 0) -> 0 | I86: =ROUND(D86*G86, 0) -> 0
A88: 39 | B88: 71-013-5.8-0310381 | C88: Villám- és érintésvédelmi hálózat tartozékainak szerelése, mérési hely kialakítása (vizsgáló összekötő) OBO vizsgáló összekötő, 2 csavaros, 8/10-es köracélhoz, R.sz.: 5315506 | D88: 3 | E88: db | H88: =ROUND(D88*F88, 0) -> 0 | I88: =ROUND(D88*G88, 0) -> 0
A90: 40 | B90: 71-013-7.3-0310386 | C90: Érintésvédelmi hálózat tartozékainak szerelése, épületgépészeti csőhálózat földelő kötése OBO szalagbilincs, 3/8-1 1/2", csatlakoztatható vezetékkeresztmetszet 2x2,5-25 mm2, R.sz.: 5057515 | D90: 6 | E90: db | H90: =ROUND(D90*F90, 0) -> 0 | I90: =ROUND(D90*G90, 0) -> 0
A92: 41 | B92: 71-013-7.4 | C92: Érintésvédelmi hálózat tartozékainak szerelése, nagykiterjedésű fémtárgy földelő kötése | D92: 12 | E92: db | H92: =ROUND(D92*F92, 0) -> 0 | I92: =ROUND(D92*G92, 0) -> 0
... A102: 46 | B102: 71-013-11.4.3-0310223 | C102: Villám- és érintésvédelmi hálózatok, túlfeszültség-levezető elhelyezése, kalapsínre szerelhető kivitelben, feszültségmentes kapcsolótérben, hálózatok védelmére, 3 fázisú, 4 vezetős (C fokozat) OBO varisztoros túlfeszültség-levezető, 5 év garanciával, V | D102: 1 | E102: db | H102: =ROUND(D102*F102, 0) -> 0 | I102: =ROUND(D102*G102, 0) -> 0
C103: 20-C/3-, R.sz.: 5094624
C105: Munkanem összesen: | H105: =SUM(H2:H104) -> 0 | I105: =SUM(I2:I104) -> 0
A107: Villamos munkák 3 összesen: | H107: =H105 -> 0 | I107: =I105 -> 0

Sheet Napelem
A1: Ssz. | B1: MVH kód | C1: Tétel szövege | D1: Menny. | E1: Egység | F1: Referencia ár | G1: Referencia ár összesen
A4: 1 | B4: ÉNGY kód: 75-061-3524610 Kód: 75-061-001.1.1.1.2 Verzió: 2017-2 | C4: Elektromos munkák Megújuló energiahasznosító berendezések Hálózatra kapcsolt napelemes (fotovoltaikus) rendszerek Komplett napelemes (fotovoltaikus) rendszerek telepítése, villamos hálózatra kapcsolása, mono vagy polikristályos napelemes rendszer, cseréptetőre telepítve kompletten, egyfázisú napelemes rendszer, 4,0-5,0 kW teljesítmény között | D4: 20 | E4: db | G4: =D4*F4 -> 0
A6: 2 | B6: ÉNGY kód: 75-061-3977986 Kód: 75-061-011.11.1.1-0121825 Verzió: 2017-2 | C6: Elektromos munkák Megújuló energiahasznosító berendezések Hálózatra kapcsolt napelemes (fotovoltaikus) rendszerek Napelemes (fotovoltaikus) rendszerelemek telepítése, inverter elhelyezése, rendszerbe kötése, hálózatra szinkronizált inverter, egyfázisú Growatt 5000MTLs hálózatra visszatápláló napemes inverter | D6: 1 | E6: db | G6: =D6*F6 -> 0
C10: Munkanem összesen: | G10: =SUM(G2:G9) -> 0

Sheet Napkollektor
A1: Ssz. | B1: MVH kód | C1: Tétel szövege | D1: Menny. | E1: Egység | F1: Referencia ár | G1: Referencia ár összesen
A3: 1 | B3: ÉNGY kód: 75-001-1990734 Kód: 75-001-002.1.1.4.1.1.1-0012145 Verzió: 2017-2 | C3: Elektromos munkák Megújuló energiahasznosító berendezések Napenergia hasznosítása HMV (komplett rendszerek) Kombinálható komplett rendszerek telepítése, használati melegvíz előállítására, intézmények esetében, síkkollektor(ok) (szelektív bevonatú kollektor) elhelyezése,csővezeték nélkül (Szolár csővezetékek a 81-008 tételcsoportban), új használati melegvíz tárolóra csatlakoztatva, nyomáspróbával, 5 db kollektort tartalmazó komplett rendszer, tetőre szerelhető kivitelben, tetőhéjalás fölé, cseréptetőre, sík vagy hódfarkú tetőcserépre, álló elhelyezésben Viessmann napkollektoros rendszer 5 db Viessmann Vitosol 200-F álló síkkollektorral, rögzítő készlettel hódfarkú cserép fedéshez, 2 db 300 liter űrtartalmú Vitocell 100 két fűtő-csőkígyós melegvíz-tárolóval, 50 literes tágulási tartállyal, 25 liter hőhordozó közeggel, PS10 Solar-Divicon szivattyúállomással, biztonsági szeleppel, rotaméterrel, elzárókkal, mikrobuborék-leválasztóval, Vitosolic 100 szabályozóval, KM-BUS rendszerrel. | D3: 1 | E3: db | G3: =D3*F3 -> 0
B4: ÉNGY kód: 82-004-3980345 Kód: 82-004-003.2.2-0353168 Verzió: 2017-2 | C4: Épületgépészeti munkák Épületgépészeti szerelvények és berendezések szerelése Melegvíztermelő berendezések, nyomólégüstök és egyéb tartályok Közvetett fűtésű, álló vagy fekvő, fixen beépített fűtő csőkígyóval vagy nélkül, tároló berendezés elhelyezése és bekötése, két fűtőkígyós kivitelben (szolár), 201-500 l között HAJDU STA 500C2 álló kivitelű, 500 literes, két csőkígyós indirekt fűtésű tároló, tűzzománcozott acél tartállyal, aktív anódos védelemmel, alsó - felső elektromos fűtőegység utólag beépíthető, a tartály maximális üzemi nyomása: 1 MPa, csőkígyó felület: 2 + 1m2, Csz.: 2143031421 | D4: 1 | E4: db | G4: =D4*F4 -> 0
C5: Munkanem összesen: | G5: =SUM(G2:G4) -> 0
